BEGIN:VCALENDAR
VERSION:2.0
PRODID:-//Downtown Chagrin Falls - ECPv6.15.13.1//NONSGML v1.0//EN
CALSCALE:GREGORIAN
METHOD:PUBLISH
X-WR-CALNAME:Downtown Chagrin Falls
X-ORIGINAL-URL:https://downtownchagrinfalls.com
X-WR-CALDESC:Events for Downtown Chagrin Falls
REFRESH-INTERVAL;VALUE=DURATION:PT1H
X-Robots-Tag:noindex
X-PUBLISHED-TTL:PT1H
BEGIN:VTIMEZONE
TZID:America/New_York
BEGIN:DAYLIGHT
TZOFFSETFROM:-0500
TZOFFSETTO:-0400
TZNAME:EDT
DTSTART:20220313T070000
END:DAYLIGHT
BEGIN:STANDARD
TZOFFSETFROM:-0400
TZOFFSETTO:-0500
TZNAME:EST
DTSTART:20221106T060000
END:STANDARD
BEGIN:DAYLIGHT
TZOFFSETFROM:-0500
TZOFFSETTO:-0400
TZNAME:EDT
DTSTART:20230312T070000
END:DAYLIGHT
BEGIN:STANDARD
TZOFFSETFROM:-0400
TZOFFSETTO:-0500
TZNAME:EST
DTSTART:20231105T060000
END:STANDARD
BEGIN:DAYLIGHT
TZOFFSETFROM:-0500
TZOFFSETTO:-0400
TZNAME:EDT
DTSTART:20240310T070000
END:DAYLIGHT
BEGIN:STANDARD
TZOFFSETFROM:-0400
TZOFFSETTO:-0500
TZNAME:EST
DTSTART:20241103T060000
END:STANDARD
BEGIN:DAYLIGHT
TZOFFSETFROM:-0500
TZOFFSETTO:-0400
TZNAME:EDT
DTSTART:20250309T070000
END:DAYLIGHT
BEGIN:STANDARD
TZOFFSETFROM:-0400
TZOFFSETTO:-0500
TZNAME:EST
DTSTART:20251102T060000
END:STANDARD
BEGIN:DAYLIGHT
TZOFFSETFROM:-0500
TZOFFSETTO:-0400
TZNAME:EDT
DTSTART:20260308T070000
END:DAYLIGHT
BEGIN:STANDARD
TZOFFSETFROM:-0400
TZOFFSETTO:-0500
TZNAME:EST
DTSTART:20261101T060000
END:STANDARD
END:VTIMEZONE
BEGIN:VEVENT
DTSTART;TZID=America/New_York:20251007T173000
DTEND;TZID=America/New_York:20251007T173000
DTSTAMP:20260419T093425
CREATED:20250908T173957Z
LAST-MODIFIED:20250908T173957Z
UID:10002616-1759858200-1759858200@downtownchagrinfalls.com
SUMMARY:CDFF Opening Film & VIP Reception John Candy: I Like Me
DESCRIPTION:The Chagrin Documentary Film Festival (CDFF) returns for its 16th year this October\, with tickets now on sale. Documentary lovers can attend screenings throughout beautiful downtown Chagrin Falls from October 7-12. The festival showcases powerful documentary films from filmmakers worldwide\, offering compelling storytelling for all film enthusiasts. \nCDFF opens Tuesday\, October 7 at the Chagrin Falls Intermediate School Theater with the premiere of John Candy: I Like Me from Amazon MGM Studios. The evening begins with a VIP reception at 5:30 PM\, presented by Carnegie Investment Counsel. Individual film tickets start at just $15\, with several screenings offered free to the public. Festival membership packages provide access to all 74 films and special events.
URL:https://downtownchagrinfalls.com/event/cdff-opening-film-vip-reception-john-candy-i-like-me/
LOCATION:Chagrin Falls Intermediate School\, 77 E. Washington Street\, Chagrin Falls\, OH\, 44022\, United States
CATEGORIES:Community,Film
ATTACH;FMTTYPE=image/jpeg:https://downtownchagrinfalls.com/wp-content/uploads/2025/09/Chasing-Clues-2025-25.jpg
ORGANIZER;CN="Chagrin Documentary Film Festival":MAILTO:info@chagrinfilmfest.org
END:VEVENT
BEGIN:VEVENT
DTSTART;TZID=America/New_York:20231008T173000
DTEND;TZID=America/New_York:20231008T193000
DTSTAMP:20260419T093425
CREATED:20230927T211343Z
LAST-MODIFIED:20230927T223213Z
UID:10001259-1696786200-1696793400@downtownchagrinfalls.com
SUMMARY:CDFF - The Orchestra Chuck Built - Festival Closing
DESCRIPTION:Sponsored by South Franklin Circle\nCelebrate with CDFF as the in-person festival draws to a close and we get ready to enjoy CDFF on Demand. Performance by the Ohio Youth Orchestra.\nIndividual ticket: $15 included in membership Family Explorer and above.\nFilm: The Orchestra Chuck Built\nWhen Chuck Dickerson learned that only 1.8% of the professional orchestra workforce in the US is Black\, he set out to make a change
URL:https://downtownchagrinfalls.com/event/the-orchestra-chuck-built-festival-closing/
LOCATION:Chagrin Falls Intermediate School\, 77 E. Washington Street\, Chagrin Falls\, OH\, 44022\, United States
CATEGORIES:Festival,Film
ATTACH;FMTTYPE=image/jpeg:https://downtownchagrinfalls.com/wp-content/uploads/2023/09/Orchestra-Chuck-Built.jpeg
ORGANIZER;CN="Chagrin Documentary Film Festival":MAILTO:info@chagrinfilmfest.org
END:VEVENT
BEGIN:VEVENT
DTSTART;TZID=America/New_York:20231003T183000
DTEND;TZID=America/New_York:20231003T213000
DTSTAMP:20260419T093425
CREATED:20230927T201803Z
LAST-MODIFIED:20230927T201803Z
UID:10001246-1696357800-1696368600@downtownchagrinfalls.com
SUMMARY:CDFF The Big Watch
DESCRIPTION:Join host Gabe Spiegel of Fox 8 as we open the 14th Annual CDFF and launch THE BIG WATCH\, an Ohio Humanities partnership that brings families together to experience a heartwarming documentary for all ages. Bring your family for a night of film\, fun and popcorn!\nFilm starts at 7:00 PM. $12 individual film ticket (students with a parent are free!). General public is invited to join the red carpet starting a t 6:30 PM prior to the screening.\nFilm: My Name Is Annabel\nAnnabel Hernandez is a performer with Down syndrome. She shares the story of her passion for performing and how her family and friends have helped her along her journey.
URL:https://downtownchagrinfalls.com/event/cdff-the-big-watch/
LOCATION:Chagrin Falls Intermediate School\, 77 E. Washington Street\, Chagrin Falls\, OH\, 44022\, United States
CATEGORIES:Film
ATTACH;FMTTYPE=image/jpeg:https://downtownchagrinfalls.com/wp-content/uploads/2023/09/The-Big-Watch-2023.jpeg
ORGANIZER;CN="Chagrin Documentary Film Festival":MAILTO:info@chagrinfilmfest.org
END:VEVENT
BEGIN:VEVENT
DTSTART;TZID=America/New_York:20231003T173000
DTEND;TZID=America/New_York:20231003T213000
DTSTAMP:20260419T093425
CREATED:20230927T201435Z
LAST-MODIFIED:20230927T201435Z
UID:10001245-1696354200-1696368600@downtownchagrinfalls.com
SUMMARY:CDFF's 14th Annual Opening Night VIP Reception & The Big Watch
DESCRIPTION:Special VIP Reception prior to “The Big Watch”. Join host Gabe Spiegel of Fox 8 as we open the 14th Annual CDFF and launch THE BIG WATCH\, an Ohio Humanities partnership that brings families together to experience a heartwarming documentary for all ages. Walk the red carpet with filmmakers and local celebrates. Enjoy a cocktail and a large selection of appetizers from some of the best local restaurants.\nVIP ticket includes the film “My Name is Annabel”\, following the reception. $75 Individual ticket\, included in membership for Family Explorer and up.
URL:https://downtownchagrinfalls.com/event/cdffs-14th-annual-opening-night-vip-reception-the-big-watch/
LOCATION:Chagrin Falls Intermediate School\, 77 E. Washington Street\, Chagrin Falls\, OH\, 44022\, United States
CATEGORIES:Festival,Film,Food & Drink
ATTACH;FMTTYPE=image/jpeg:https://downtownchagrinfalls.com/wp-content/uploads/2023/09/CDFF-open.jpeg
ORGANIZER;CN="Chagrin Documentary Film Festival":MAILTO:info@chagrinfilmfest.org
END:VEVENT
END:VCALENDAR