BEGIN:VCALENDAR
VERSION:2.0
PRODID:-//Downtown Chagrin Falls - ECPv6.15.13.1//NONSGML v1.0//EN
CALSCALE:GREGORIAN
METHOD:PUBLISH
X-ORIGINAL-URL:https://downtownchagrinfalls.com
X-WR-CALDESC:Events for Downtown Chagrin Falls
REFRESH-INTERVAL;VALUE=DURATION:PT1H
X-Robots-Tag:noindex
X-PUBLISHED-TTL:PT1H
BEGIN:VTIMEZONE
TZID:America/New_York
BEGIN:DAYLIGHT
TZOFFSETFROM:-0500
TZOFFSETTO:-0400
TZNAME:EDT
DTSTART:20220313T070000
END:DAYLIGHT
BEGIN:STANDARD
TZOFFSETFROM:-0400
TZOFFSETTO:-0500
TZNAME:EST
DTSTART:20221106T060000
END:STANDARD
BEGIN:DAYLIGHT
TZOFFSETFROM:-0500
TZOFFSETTO:-0400
TZNAME:EDT
DTSTART:20230312T070000
END:DAYLIGHT
BEGIN:STANDARD
TZOFFSETFROM:-0400
TZOFFSETTO:-0500
TZNAME:EST
DTSTART:20231105T060000
END:STANDARD
BEGIN:DAYLIGHT
TZOFFSETFROM:-0500
TZOFFSETTO:-0400
TZNAME:EDT
DTSTART:20240310T070000
END:DAYLIGHT
BEGIN:STANDARD
TZOFFSETFROM:-0400
TZOFFSETTO:-0500
TZNAME:EST
DTSTART:20241103T060000
END:STANDARD
END:VTIMEZONE
BEGIN:VEVENT
DTSTART;TZID=America/New_York:20231118T120000
DTEND;TZID=America/New_York:20231118T160000
DTSTAMP:20260419T131758
CREATED:20231115T173521Z
LAST-MODIFIED:20231115T173521Z
UID:10002343-1700308800-1700323200@downtownchagrinfalls.com
SUMMARY:Maria from Earth to Home Decor Pop Up
DESCRIPTION:Earth to Home is an Artisan\, handmade concrete decor brand that brings the organics of nature into your home creating an environment of simplicity and peace while staying true the the unique individual that you are. Crafted with our hands straight into your home. \nMaria will be setting up her items at Cascades Boutique on Saturday\, November 18th from 12-4!
URL:https://downtownchagrinfalls.com/event/maria-from-earth-to-home-decor-pop-up/
LOCATION:Cascades Boutique\, 10 W Washington Street\, Chagrin Falls\, OH\, 44022\, United States
CATEGORIES:Shopping
ATTACH;FMTTYPE=image/jpeg:https://downtownchagrinfalls.com/wp-content/uploads/2023/11/Untitled.jpg
END:VEVENT
BEGIN:VEVENT
DTSTART;TZID=America/New_York:20231110T130000
DTEND;TZID=America/New_York:20231111T200000
DTSTAMP:20260419T131758
CREATED:20231109T202620Z
LAST-MODIFIED:20231109T202620Z
UID:10002326-1699621200-1699732800@downtownchagrinfalls.com
SUMMARY:Cascades Boutique: Holiday Open House
DESCRIPTION:Cascades Boutique Holiday Open House\n11/10 & 11/11 11am to 6pm\nHoliday Mimosas & Treats\nNEW Merchandise and lots of great surprises!
URL:https://downtownchagrinfalls.com/event/cascades-boutique-holiday-open-house/
LOCATION:Cascades Boutique\, 10 W Washington Street\, Chagrin Falls\, OH\, 44022\, United States
CATEGORIES:Shopping
ATTACH;FMTTYPE=image/png:https://downtownchagrinfalls.com/wp-content/uploads/2023/11/Untitled-design-82.png
END:VEVENT
END:VCALENDAR