BEGIN:VCALENDAR
VERSION:2.0
PRODID:-//Downtown Chagrin Falls - ECPv6.15.13.1//NONSGML v1.0//EN
CALSCALE:GREGORIAN
METHOD:PUBLISH
X-ORIGINAL-URL:https://downtownchagrinfalls.com
X-WR-CALDESC:Events for Downtown Chagrin Falls
REFRESH-INTERVAL;VALUE=DURATION:PT1H
X-Robots-Tag:noindex
X-PUBLISHED-TTL:PT1H
BEGIN:VTIMEZONE
TZID:America/New_York
BEGIN:DAYLIGHT
TZOFFSETFROM:-0500
TZOFFSETTO:-0400
TZNAME:EDT
DTSTART:20240310T070000
END:DAYLIGHT
BEGIN:STANDARD
TZOFFSETFROM:-0400
TZOFFSETTO:-0500
TZNAME:EST
DTSTART:20241103T060000
END:STANDARD
BEGIN:DAYLIGHT
TZOFFSETFROM:-0500
TZOFFSETTO:-0400
TZNAME:EDT
DTSTART:20250309T070000
END:DAYLIGHT
BEGIN:STANDARD
TZOFFSETFROM:-0400
TZOFFSETTO:-0500
TZNAME:EST
DTSTART:20251102T060000
END:STANDARD
BEGIN:DAYLIGHT
TZOFFSETFROM:-0500
TZOFFSETTO:-0400
TZNAME:EDT
DTSTART:20260308T070000
END:DAYLIGHT
BEGIN:STANDARD
TZOFFSETFROM:-0400
TZOFFSETTO:-0500
TZNAME:EST
DTSTART:20261101T060000
END:STANDARD
END:VTIMEZONE
BEGIN:VEVENT
DTSTART;TZID=America/New_York:20250816T100000
DTEND;TZID=America/New_York:20250816T160000
DTSTAMP:20260419T113643
CREATED:20250807T171916Z
LAST-MODIFIED:20250807T171916Z
UID:10002530-1755338400-1755360000@downtownchagrinfalls.com
SUMMARY:Chagrin Valley Gallery Walk: S2dio Extended Hours
DESCRIPTION:On Saturday\, August 9 & 16\, S2dio will be hosting extended hours for all gallery walkers! 10-4pm   Take the opportunity to stop in to this gallery with limited hours. \n\n  \nAbout the Chagrin Valley Gallery Walk presented by Fairmout Center for the Arts August 1 -31\, 2025:  \nExperience local visual arts and get to know local artists in the Chagrin Valley! Pick up your Gallery Walk passport at any participating gallery to begin your journey. Collect a stamp from each location and submit your passport by August 31\, 2025 to be entered to win a $100 gift card to a Chagrin Valley restaurant! The winner will be contacted on Tuesday\, September 2.
URL:https://downtownchagrinfalls.com/event/chagrin-valley-gallery-walk-s2dio-extended-hours/2025-08-16/
LOCATION:S2dio\, 151 Bell Street\, Chagrin Falls\, 44022\, United States
CATEGORIES:Art,Wine Tasting
ATTACH;FMTTYPE=image/jpeg:https://downtownchagrinfalls.com/wp-content/uploads/2025/08/Chasing-Clues-2025-8.jpg
END:VEVENT
BEGIN:VEVENT
DTSTART;TZID=America/New_York:20250809T100000
DTEND;TZID=America/New_York:20250809T160000
DTSTAMP:20260419T113643
CREATED:20250807T171916Z
LAST-MODIFIED:20250807T171916Z
UID:10002529-1754733600-1754755200@downtownchagrinfalls.com
SUMMARY:Chagrin Valley Gallery Walk: S2dio Extended Hours
DESCRIPTION:On Saturday\, August 9 & 16\, S2dio will be hosting extended hours for all gallery walkers! 10-4pm   Take the opportunity to stop in to this gallery with limited hours. \n\n  \nAbout the Chagrin Valley Gallery Walk presented by Fairmout Center for the Arts August 1 -31\, 2025:  \nExperience local visual arts and get to know local artists in the Chagrin Valley! Pick up your Gallery Walk passport at any participating gallery to begin your journey. Collect a stamp from each location and submit your passport by August 31\, 2025 to be entered to win a $100 gift card to a Chagrin Valley restaurant! The winner will be contacted on Tuesday\, September 2.
URL:https://downtownchagrinfalls.com/event/chagrin-valley-gallery-walk-s2dio-extended-hours/2025-08-09/
LOCATION:S2dio\, 151 Bell Street\, Chagrin Falls\, 44022\, United States
CATEGORIES:Art,Wine Tasting
ATTACH;FMTTYPE=image/jpeg:https://downtownchagrinfalls.com/wp-content/uploads/2025/08/Chasing-Clues-2025-8.jpg
END:VEVENT
END:VCALENDAR