BEGIN:VCALENDAR
VERSION:2.0
PRODID:-//Downtown Chagrin Falls - ECPv6.15.13.1//NONSGML v1.0//EN
CALSCALE:GREGORIAN
METHOD:PUBLISH
X-ORIGINAL-URL:https://downtownchagrinfalls.com
X-WR-CALDESC:Events for Downtown Chagrin Falls
REFRESH-INTERVAL;VALUE=DURATION:PT1H
X-Robots-Tag:noindex
X-PUBLISHED-TTL:PT1H
BEGIN:VTIMEZONE
TZID:America/New_York
BEGIN:DAYLIGHT
TZOFFSETFROM:-0500
TZOFFSETTO:-0400
TZNAME:EDT
DTSTART:20220313T070000
END:DAYLIGHT
BEGIN:STANDARD
TZOFFSETFROM:-0400
TZOFFSETTO:-0500
TZNAME:EST
DTSTART:20221106T060000
END:STANDARD
BEGIN:DAYLIGHT
TZOFFSETFROM:-0500
TZOFFSETTO:-0400
TZNAME:EDT
DTSTART:20230312T070000
END:DAYLIGHT
BEGIN:STANDARD
TZOFFSETFROM:-0400
TZOFFSETTO:-0500
TZNAME:EST
DTSTART:20231105T060000
END:STANDARD
BEGIN:DAYLIGHT
TZOFFSETFROM:-0500
TZOFFSETTO:-0400
TZNAME:EDT
DTSTART:20240310T070000
END:DAYLIGHT
BEGIN:STANDARD
TZOFFSETFROM:-0400
TZOFFSETTO:-0500
TZNAME:EST
DTSTART:20241103T060000
END:STANDARD
END:VTIMEZONE
BEGIN:VEVENT
DTSTART;TZID=America/New_York:20231003T183000
DTEND;TZID=America/New_York:20231003T183000
DTSTAMP:20260419T115020
CREATED:20230928T202330Z
LAST-MODIFIED:20230928T202330Z
UID:10001345-1696357800-1696357800@downtownchagrinfalls.com
SUMMARY:Kenston Candidate Forum (includes CFESD candidates)
DESCRIPTION:LWVG Candidate Forums are coming to a community near you!\n\n\n STAY TUNED  for information about how YOU can submit questions for candidates!\n\n\nPlease join us at Kenston High School to hear from your local candidates in contested races for Bainbridge Township Trustee\, Chagrin Falls Exempted Village Schools Board of Education\, and Kenston Local Schools Board of Education.\n\n\nWe will also feature information about local issues you’ll see on your November ballot.\n\n\nFollow our page to stay up to date on all of the latest about our Candidate Forums\, Voter Guide\, and Vote411!
URL:https://downtownchagrinfalls.com/event/kenston-candidate-forum-includes-cfesd-candidates/
LOCATION:Robert A Lee Auditorium\, 9500 Bainbridge Road\, OH\, 44023\, United States
CATEGORIES:Government
ATTACH;FMTTYPE=image/jpeg:https://downtownchagrinfalls.com/wp-content/uploads/2023/09/kenston-candidate-forum.jpeg
END:VEVENT
END:VCALENDAR