BEGIN:VCALENDAR
VERSION:2.0
PRODID:-//Downtown Chagrin Falls - ECPv6.15.13.1//NONSGML v1.0//EN
CALSCALE:GREGORIAN
METHOD:PUBLISH
X-ORIGINAL-URL:https://downtownchagrinfalls.com
X-WR-CALDESC:Events for Downtown Chagrin Falls
REFRESH-INTERVAL;VALUE=DURATION:PT1H
X-Robots-Tag:noindex
X-PUBLISHED-TTL:PT1H
BEGIN:VTIMEZONE
TZID:America/New_York
BEGIN:DAYLIGHT
TZOFFSETFROM:-0500
TZOFFSETTO:-0400
TZNAME:EDT
DTSTART:20240310T070000
END:DAYLIGHT
BEGIN:STANDARD
TZOFFSETFROM:-0400
TZOFFSETTO:-0500
TZNAME:EST
DTSTART:20241103T060000
END:STANDARD
BEGIN:DAYLIGHT
TZOFFSETFROM:-0500
TZOFFSETTO:-0400
TZNAME:EDT
DTSTART:20250309T070000
END:DAYLIGHT
BEGIN:STANDARD
TZOFFSETFROM:-0400
TZOFFSETTO:-0500
TZNAME:EST
DTSTART:20251102T060000
END:STANDARD
BEGIN:DAYLIGHT
TZOFFSETFROM:-0500
TZOFFSETTO:-0400
TZNAME:EDT
DTSTART:20260308T070000
END:DAYLIGHT
BEGIN:STANDARD
TZOFFSETFROM:-0400
TZOFFSETTO:-0500
TZNAME:EST
DTSTART:20261101T060000
END:STANDARD
END:VTIMEZONE
BEGIN:VEVENT
DTSTART;TZID=America/New_York:20251119T183000
DTEND;TZID=America/New_York:20251119T193000
DTSTAMP:20260420T223146
CREATED:20251024T152458Z
LAST-MODIFIED:20251024T152458Z
UID:10002860-1763577000-1763580600@downtownchagrinfalls.com
SUMMARY:Bill Watterson and Chagrin Program
DESCRIPTION:Join Chagrin History Center Historian John Bourisseau as he looks at the more humorous side of Chagrin Falls in Bill Watterson’s early work published in the Chagrin Valley Herald from 1976 to 1979. RSVP Required. RSVP to admin@chagrinhistory.org or 440.247.4695
URL:https://downtownchagrinfalls.com/event/bill-watterson-and-chagrin-program/
LOCATION:Chagrin History Center\, 87 E. Washington Street\, Chagrin Falls\, OH\, 44022\, United States
CATEGORIES:Speaker
ATTACH;FMTTYPE=image/png:https://downtownchagrinfalls.com/wp-content/uploads/2025/10/Chasing-Clues-2025-1.png
END:VEVENT
BEGIN:VEVENT
DTSTART;TZID=America/New_York:20251120T180000
DTEND;TZID=America/New_York:20251120T210000
DTSTAMP:20260420T223146
CREATED:20251009T203842Z
LAST-MODIFIED:20251009T203842Z
UID:10002843-1763661600-1763672400@downtownchagrinfalls.com
SUMMARY:Ladies Night Out
DESCRIPTION:It’s that time of year again…our annual Ladies Night Out is back! Join us on Thursday\, November 20th from 6–9 PM at Tanglewood Golf Club for an evening filled with yummy treats\, shopping\, friendship and lots more. \n\n\nThis beloved annual event is one you don’t want to miss all while supporting the CFHS 2026 After Prom. Mark your calendars and stay tuned for more details about vendors\, raffles\, and surprises!
URL:https://downtownchagrinfalls.com/event/ladies-night-out/
LOCATION:Tanglewood Country Club\, 8745 Tanglewood Trail\, Bainbridge\, OH\, 44023\, United States
CATEGORIES:Food & Drink,Fundraiser,Shopping
ATTACH;FMTTYPE=image/jpeg:https://downtownchagrinfalls.com/wp-content/uploads/2025/10/Chasing-Clues-2025-35.jpg
END:VEVENT
BEGIN:VEVENT
DTSTART;TZID=America/New_York:20251121T170000
DTEND;TZID=America/New_York:20251121T190000
DTSTAMP:20260420T223146
CREATED:20251121T173318Z
LAST-MODIFIED:20251121T173318Z
UID:10002895-1763744400-1763751600@downtownchagrinfalls.com
SUMMARY:Market Garden Brewery Holiday Land Sampler Pack Tasting
DESCRIPTION:Join us in the Wine and Beer Department at Heinen’s Chagrin Falls as we we welcome a representative from Market Garden Brewery for a seasonal tasting of their special Holiday Land Sampler Pack! \nNo entrance fee required. | Questions? Please contact Heinen’s Chagrin Falls at (440) 424-5108.
URL:https://downtownchagrinfalls.com/event/market-garden-brewery-holiday-land-sampler-pack-tasting/
LOCATION:Heinen’s\, 20 Shopping Plaza\, Chagrin Falls\, OH\, 44022\, United States
CATEGORIES:Beer Tasting
ATTACH;FMTTYPE=image/png:https://downtownchagrinfalls.com/wp-content/uploads/2025/11/Winter-Beer_800x550.png
END:VEVENT
BEGIN:VEVENT
DTSTART;TZID=America/New_York:20251121T180000
DTEND;TZID=America/New_York:20251121T230000
DTSTAMP:20260420T223146
CREATED:20251024T144951Z
LAST-MODIFIED:20251024T145010Z
UID:10002854-1763748000-1763766000@downtownchagrinfalls.com
SUMMARY:CFDC Texas Hold’em Charity Tournament November 2025
DESCRIPTION:Looking for a great night of poker\, food\, and community spirit? The Chagrin Falls Dads’ Club (CFDC) invites you to go all-in for charity at the 2025 Texas Hold’em Charity Tournament — happening Friday\, November 21\, 2025\, at Chagrin Falls Town Hall. \nThis annual fundraiser is one of the most exciting Chagrin Falls charity events\, bringing together local players\, friends\, and supporters for an unforgettable evening of cards\, competition\, and camaraderie. \n\n🃏 Event Overview\nDate: Friday\, November 21\, 2025\nLocation: Chagrin Falls Town Hall\, 83 N Main St\, Chagrin Falls\, OH 44022\nTime: \n\n6:15 PM – Check-in and dinner\n6:45 PM – Rules review and seat/table draw\n7:00 PM – Tournament begins\n\nFormat: No-Limit Texas Hold’em\nPlayers: Up to 100\nLate Entry: Permitted before the first break
URL:https://downtownchagrinfalls.com/event/cfdc-texas-holdem-charity-tournament-november-2025/
LOCATION:Chagrin Falls Township Hall\, 83 N. Main Street\, Chagrin Falls\, OH\, 44022\, United States
CATEGORIES:Fundraiser,Games
ATTACH;FMTTYPE=image/jpeg:https://downtownchagrinfalls.com/wp-content/uploads/2025/10/chagrin-poker-night-2024-768x246-1.jpg
END:VEVENT
BEGIN:VEVENT
DTSTART;TZID=America/New_York:20251121T193000
DTEND;TZID=America/New_York:20251121T193000
DTSTAMP:20260420T223146
CREATED:20251009T191727Z
LAST-MODIFIED:20251009T192415Z
UID:10002657-1763753400-1763753400@downtownchagrinfalls.com
SUMMARY:Shrek The Musical
DESCRIPTION:Based on the Dreamworks Animation Motion Picture and the book by William Steig \nOriginally produced on Broadway by DreamWorks Theatricals and Neal Street Productions \nJoin us for a swamp-tacular adventure with Shrek The Musical! Based on the beloved Academy Award®-winning film\, this hilarious and heartwarming show brings your favorite ogre\, donkey\, and feisty princess to life on stage. Follow Shrek as he embarks on a quest to reclaim his swamp\, encountering a motley crew of fairytale misfits along the way. \nFilled with catchy songs\, dazzling costumes\, and a powerful message about acceptance and finding your true self\, Shrek The Musical is a joyous romp for the whole family! Get ready to believe in happy endings – no matter how unlikely they may seem. \n\n\n\n\n\n\nTom Jones – Shrek\nCaralyn Steck – Fiona\nKaitlyn Poschner – Donkey\nCameron Zona – Lord Farquaad\nJessie Pollak – Dragon/Lead Understudy\nLuna Cardamone – Gingy\nJulia DiPaolo – Pinocchio\nMila Cook – Young Fiona\nMegan Verrona – Teen Fiona/Peter Pan\nColton Berg – Young Shrek/Baby Bear\nBrandon Anders – Captain of the Guard / Pied Piper\nAmy Balsinger – Wicked Witch\nShelby Bodzin – Little Pig\nGabriel Chuna – Big Bad Wolf\nGreta Gelb – Cheshire Cat\nT.J. Hayes – Papa Bear / Thelonius\nFelicia Larson – Tweedle Dee\nPyro Lennerth – Humpty Dumpty\nRobin Mango – Little Pig / Blind Mouse\nBrittany Morehouse – Mama Bear\nMichela Palma – Elf\nDevan Panigrahi – Ugly Duckling\nKatie Remark – Sugar Plum Fairy\nNoelle Rudersdorf – Little Pig/Blind Mouse\nLoren Sciulla – White Rabbit\nMelanie Scott – Fairy Godmother\nCaitrin Claddagh Stark – Puss in Boots\nGregory Kalvlin – Mad Hatter/Dwarf
URL:https://downtownchagrinfalls.com/event/shrek-the-musical/2025-11-21/
LOCATION:Chagrin Valley Little Theatre\, 40 River Street\, Chagrin Falls\, OH\, 44022\, United States
CATEGORIES:Theater
ATTACH;FMTTYPE=image/jpeg:https://downtownchagrinfalls.com/wp-content/uploads/2025/10/Shrek-Landscape.jpeg
ORGANIZER;CN="Chagrin Valley Little Theatre":MAILTO:cvlt@cvlt.org
END:VEVENT
BEGIN:VEVENT
DTSTART;TZID=America/New_York:20251122T140000
DTEND;TZID=America/New_York:20251122T160000
DTSTAMP:20260420T223146
CREATED:20251121T173452Z
LAST-MODIFIED:20251121T173452Z
UID:10002896-1763820000-1763827200@downtownchagrinfalls.com
SUMMARY:Opolo Vineyards Wine Tasting
DESCRIPTION:Join us in the Wine Department at Heinen’s Chagrin Falls as we welcome a representative from our partner Tuscany Imports for a tasting of three delicious Opolo Vineyards wines including: \n\nSummit Creek Sauvignon Blanc\nSummit Creek Cabernet Sauvignon\nMountain Zinfandel\n\nNo entrance fee required. | Questions? Please contact Heinen’s Chagrin Falls at (440) 424-5108.
URL:https://downtownchagrinfalls.com/event/opolo-vineyards-wine-tasting/
LOCATION:Heinen’s\, 20 Shopping Plaza\, Chagrin Falls\, OH\, 44022\, United States
CATEGORIES:Wine Tasting
ATTACH;FMTTYPE=image/png:https://downtownchagrinfalls.com/wp-content/uploads/2025/11/Holiday-Wine-Showcase_800x550.png
END:VEVENT
BEGIN:VEVENT
DTSTART;TZID=America/New_York:20251122T140000
DTEND;TZID=America/New_York:20251122T170000
DTSTAMP:20260420T223146
CREATED:20251024T145939Z
LAST-MODIFIED:20251024T145939Z
UID:10002856-1763820000-1763830800@downtownchagrinfalls.com
SUMMARY:Chagrin History Fall Family Day
DESCRIPTION:Join us for our first Fall Family Day on Saturday November 22nd from 2-5pm! Enjoy an afternoon of festive activities for kids\, including story times\, and seasonal beer and spiked cider for adults!\nTickets are $15 for members (family up to 4)\, $25 for non-members (family up to 4)\, and $10 for additional people. Purchase tickets at https://www.chagrinhistorical.org/fall-family-day/Email director@chagrinhistory.org with questions. This event is sponsored by Pine Street Residential
URL:https://downtownchagrinfalls.com/event/chagrin-history-fall-family-day/
LOCATION:Chagrin History Center\, 87 E. Washington Street\, Chagrin Falls\, OH\, 44022\, United States
CATEGORIES:Children,Food & Drink,Just Fun
ATTACH;FMTTYPE=image/jpeg:https://downtownchagrinfalls.com/wp-content/uploads/2025/10/Chasing-Clues-2025-61.jpg
END:VEVENT
BEGIN:VEVENT
DTSTART;TZID=America/New_York:20251122T193000
DTEND;TZID=America/New_York:20251122T193000
DTSTAMP:20260420T223146
CREATED:20251009T191840Z
LAST-MODIFIED:20251009T192104Z
UID:10002771-1763839800-1763839800@downtownchagrinfalls.com
SUMMARY:Shrek The Musical
DESCRIPTION:Based on the Dreamworks Animation Motion Picture and the book by William Steig \nOriginally produced on Broadway by DreamWorks Theatricals and Neal Street Productions \nJoin us for a swamp-tacular adventure with Shrek The Musical! Based on the beloved Academy Award®-winning film\, this hilarious and heartwarming show brings your favorite ogre\, donkey\, and feisty princess to life on stage. Follow Shrek as he embarks on a quest to reclaim his swamp\, encountering a motley crew of fairytale misfits along the way. \nFilled with catchy songs\, dazzling costumes\, and a powerful message about acceptance and finding your true self\, Shrek The Musical is a joyous romp for the whole family! Get ready to believe in happy endings – no matter how unlikely they may seem. \n\n\n\n\n\n\nTom Jones – Shrek\nCaralyn Steck – Fiona\nKaitlyn Poschner – Donkey\nCameron Zona – Lord Farquaad\nJessie Pollak – Dragon/Lead Understudy\nLuna Cardamone – Gingy\nJulia DiPaolo – Pinocchio\nMila Cook – Young Fiona\nMegan Verrona – Teen Fiona/Peter Pan\nColton Berg – Young Shrek/Baby Bear\nBrandon Anders – Captain of the Guard / Pied Piper\nAmy Balsinger – Wicked Witch\nShelby Bodzin – Little Pig\nGabriel Chuna – Big Bad Wolf\nGreta Gelb – Cheshire Cat\nT.J. Hayes – Papa Bear / Thelonius\nFelicia Larson – Tweedle Dee\nPyro Lennerth – Humpty Dumpty\nRobin Mango – Little Pig / Blind Mouse\nBrittany Morehouse – Mama Bear\nMichela Palma – Elf\nDevan Panigrahi – Ugly Duckling\nKatie Remark – Sugar Plum Fairy\nNoelle Rudersdorf – Little Pig/Blind Mouse\nLoren Sciulla – White Rabbit\nMelanie Scott – Fairy Godmother\nCaitrin Claddagh Stark – Puss in Boots\nGregory Kalvlin – Mad Hatter/Dwarf
URL:https://downtownchagrinfalls.com/event/shrek-the-musical-2/2025-11-22/
LOCATION:Chagrin Valley Little Theatre\, 40 River Street\, Chagrin Falls\, OH\, 44022\, United States
CATEGORIES:Theater
ATTACH;FMTTYPE=image/jpeg:https://downtownchagrinfalls.com/wp-content/uploads/2025/10/Shrek-Landscape.jpeg
ORGANIZER;CN="Chagrin Valley Little Theatre":MAILTO:cvlt@cvlt.org
END:VEVENT
BEGIN:VEVENT
DTSTART;TZID=America/New_York:20251123T110000
DTEND;TZID=America/New_York:20251123T130000
DTSTAMP:20260420T223146
CREATED:20251121T173824Z
LAST-MODIFIED:20251121T173824Z
UID:10002897-1763895600-1763902800@downtownchagrinfalls.com
SUMMARY:Bent Ladder Cider Tasting
DESCRIPTION:Made in Doylestown\, Ohio and perfect for any Thanksgiving gathering\, join us in the Beer Department at Heinen’s Chagrin Falls as we taste the brand new cider from Bent Ladder! \nNo entrance fee required. | Questions? Please contact Heinen’s Chagrin Falls at (440) 424-5108.
URL:https://downtownchagrinfalls.com/event/bent-ladder-cider-tasting/
LOCATION:Heinen’s\, 20 Shopping Plaza\, Chagrin Falls\, OH\, 44022\, United States
CATEGORIES:Cider Tasting
ATTACH;FMTTYPE=image/png:https://downtownchagrinfalls.com/wp-content/uploads/2025/11/Hard-Cider_Blog-Feature.png
END:VEVENT
END:VCALENDAR