BEGIN:VCALENDAR
VERSION:2.0
PRODID:-//Downtown Chagrin Falls - ECPv6.15.13.1//NONSGML v1.0//EN
CALSCALE:GREGORIAN
METHOD:PUBLISH
X-ORIGINAL-URL:https://downtownchagrinfalls.com
X-WR-CALDESC:Events for Downtown Chagrin Falls
REFRESH-INTERVAL;VALUE=DURATION:PT1H
X-Robots-Tag:noindex
X-PUBLISHED-TTL:PT1H
BEGIN:VTIMEZONE
TZID:America/New_York
BEGIN:DAYLIGHT
TZOFFSETFROM:-0500
TZOFFSETTO:-0400
TZNAME:EDT
DTSTART:20240310T070000
END:DAYLIGHT
BEGIN:STANDARD
TZOFFSETFROM:-0400
TZOFFSETTO:-0500
TZNAME:EST
DTSTART:20241103T060000
END:STANDARD
BEGIN:DAYLIGHT
TZOFFSETFROM:-0500
TZOFFSETTO:-0400
TZNAME:EDT
DTSTART:20250309T070000
END:DAYLIGHT
BEGIN:STANDARD
TZOFFSETFROM:-0400
TZOFFSETTO:-0500
TZNAME:EST
DTSTART:20251102T060000
END:STANDARD
BEGIN:DAYLIGHT
TZOFFSETFROM:-0500
TZOFFSETTO:-0400
TZNAME:EDT
DTSTART:20260308T070000
END:DAYLIGHT
BEGIN:STANDARD
TZOFFSETFROM:-0400
TZOFFSETTO:-0500
TZNAME:EST
DTSTART:20261101T060000
END:STANDARD
END:VTIMEZONE
BEGIN:VEVENT
DTSTART;TZID=America/New_York:20251112T180000
DTEND;TZID=America/New_York:20251112T180000
DTSTAMP:20260420T194252
CREATED:20251024T153400Z
LAST-MODIFIED:20251024T153400Z
UID:10002861-1762970400-1762970400@downtownchagrinfalls.com
SUMMARY:JoJo's Bar Bourbon Night
DESCRIPTION:
URL:https://downtownchagrinfalls.com/event/jojos-bar-bourbon-night/
LOCATION:JoJo’s Bar\, 87 West Street\, Chagrin Falls\, OH\, 44022\, United States
CATEGORIES:Food & Drink
ATTACH;FMTTYPE=image/jpeg:https://downtownchagrinfalls.com/wp-content/uploads/2025/10/Chasing-Clues-2025-64.jpg
END:VEVENT
BEGIN:VEVENT
DTSTART;TZID=America/New_York:20251113T080000
DTEND;TZID=America/New_York:20251113T170000
DTSTAMP:20260420T194252
CREATED:20251113T213313Z
LAST-MODIFIED:20251113T213313Z
UID:10002864-1763020800-1763053200@downtownchagrinfalls.com
SUMMARY:Breakfast with Santa - CF Baseball Fundraiser
DESCRIPTION:All-you-can-eat Pancakes\, Photos with Santa\, Silent Auction & Toy Raffles\, Crafts with Baseball Elves. Kids under 2 are free! $15 tickets. 9am & 11 am seatings. Buy tickets at link
URL:https://downtownchagrinfalls.com/event/breakfast-with-santa-cf-baseball-fundraiser/
LOCATION:Chagrin Falls Middle School\, 400 E. Washington Street\, Chagrin Falls\, OH\, 44022\, United States
CATEGORIES:Fundraiser,Holiday
ATTACH;FMTTYPE=image/jpeg:https://downtownchagrinfalls.com/wp-content/uploads/2025/11/Chasing-Clues-2025-74.jpg
END:VEVENT
BEGIN:VEVENT
DTSTART;TZID=America/New_York:20251114T193000
DTEND;TZID=America/New_York:20251114T193000
DTSTAMP:20260420T194252
CREATED:20251009T191727Z
LAST-MODIFIED:20251009T192415Z
UID:10002656-1763148600-1763148600@downtownchagrinfalls.com
SUMMARY:Shrek The Musical
DESCRIPTION:Based on the Dreamworks Animation Motion Picture and the book by William Steig \nOriginally produced on Broadway by DreamWorks Theatricals and Neal Street Productions \nJoin us for a swamp-tacular adventure with Shrek The Musical! Based on the beloved Academy Award®-winning film\, this hilarious and heartwarming show brings your favorite ogre\, donkey\, and feisty princess to life on stage. Follow Shrek as he embarks on a quest to reclaim his swamp\, encountering a motley crew of fairytale misfits along the way. \nFilled with catchy songs\, dazzling costumes\, and a powerful message about acceptance and finding your true self\, Shrek The Musical is a joyous romp for the whole family! Get ready to believe in happy endings – no matter how unlikely they may seem. \n\n\n\n\n\n\nTom Jones – Shrek\nCaralyn Steck – Fiona\nKaitlyn Poschner – Donkey\nCameron Zona – Lord Farquaad\nJessie Pollak – Dragon/Lead Understudy\nLuna Cardamone – Gingy\nJulia DiPaolo – Pinocchio\nMila Cook – Young Fiona\nMegan Verrona – Teen Fiona/Peter Pan\nColton Berg – Young Shrek/Baby Bear\nBrandon Anders – Captain of the Guard / Pied Piper\nAmy Balsinger – Wicked Witch\nShelby Bodzin – Little Pig\nGabriel Chuna – Big Bad Wolf\nGreta Gelb – Cheshire Cat\nT.J. Hayes – Papa Bear / Thelonius\nFelicia Larson – Tweedle Dee\nPyro Lennerth – Humpty Dumpty\nRobin Mango – Little Pig / Blind Mouse\nBrittany Morehouse – Mama Bear\nMichela Palma – Elf\nDevan Panigrahi – Ugly Duckling\nKatie Remark – Sugar Plum Fairy\nNoelle Rudersdorf – Little Pig/Blind Mouse\nLoren Sciulla – White Rabbit\nMelanie Scott – Fairy Godmother\nCaitrin Claddagh Stark – Puss in Boots\nGregory Kalvlin – Mad Hatter/Dwarf
URL:https://downtownchagrinfalls.com/event/shrek-the-musical/2025-11-14/
LOCATION:Chagrin Valley Little Theatre\, 40 River Street\, Chagrin Falls\, OH\, 44022\, United States
CATEGORIES:Theater
ATTACH;FMTTYPE=image/jpeg:https://downtownchagrinfalls.com/wp-content/uploads/2025/10/Shrek-Landscape.jpeg
ORGANIZER;CN="Chagrin Valley Little Theatre":MAILTO:cvlt@cvlt.org
END:VEVENT
BEGIN:VEVENT
DTSTART;TZID=America/New_York:20251114T213000
DTEND;TZID=America/New_York:20251114T213000
DTSTAMP:20260420T194252
CREATED:20251009T184215Z
LAST-MODIFIED:20251009T184215Z
UID:10002649-1763155800-1763155800@downtownchagrinfalls.com
SUMMARY:At the Greenville: Cocktail Johnny
DESCRIPTION:We are the oldest tavern in the Chagrin Valley dating back to the late 1800’s. People from all walks of life can come to meet\, kick back and enjoy the warm and unique atmosphere. \nWe’ve got great local bands who perform live most weekends\, cold beers\, a full bar with your favorite liquors and spirits along with the famous chip wall which is always stocked for when you’re in the mood to snack. \nWe also have 6 big screen TV’s to catch all your favorite Cleveland sports teams\, a pool table\, Golden Tee® and Keno®!
URL:https://downtownchagrinfalls.com/event/at-the-greenville-cocktail-johnny/
LOCATION:Greenville Inn\, 7125 Pine Street\, Bainbridge\, OH\, 44022\, United States
CATEGORIES:Live Music
ATTACH;FMTTYPE=image/jpeg:https://downtownchagrinfalls.com/wp-content/uploads/2025/07/Greenville-Inn-Logo-2025.jpg
END:VEVENT
BEGIN:VEVENT
DTSTART;TZID=America/New_York:20251115T190000
DTEND;TZID=America/New_York:20251115T220000
DTSTAMP:20260420T194252
CREATED:20251113T213447Z
LAST-MODIFIED:20251113T213447Z
UID:10002865-1763233200-1763244000@downtownchagrinfalls.com
SUMMARY:Chuck's Fine Wines Fall Holiday Tasting
DESCRIPTION:Join us for one of our favorite events!! Our annual Fall Holiday Show! Featuring over 30 fabulous wines\, tons of great food and even better company! Kick off the holidays with a great and memorable evening at Chucks!\n\n\nSaturday\, November 15th 7-10pm!! $100/person\n\n\nReservations are required\, spots are limited and filling up fast. Call us today to secure your spot!\n(440)247-7534
URL:https://downtownchagrinfalls.com/event/chucks-fine-wines-fall-holiday-tasting/
LOCATION:Chuck’s Fine Wines\, 23 Bell Street\, Chagrin Falls\, OH\, 44022\, United States
CATEGORIES:Wine Tasting
ATTACH;FMTTYPE=image/jpeg:https://downtownchagrinfalls.com/wp-content/uploads/2025/11/Chasing-Clues-2025-75.jpg
END:VEVENT
BEGIN:VEVENT
DTSTART;TZID=America/New_York:20251115T193000
DTEND;TZID=America/New_York:20251115T193000
DTSTAMP:20260420T194252
CREATED:20251009T191840Z
LAST-MODIFIED:20251009T192104Z
UID:10002770-1763235000-1763235000@downtownchagrinfalls.com
SUMMARY:Shrek The Musical
DESCRIPTION:Based on the Dreamworks Animation Motion Picture and the book by William Steig \nOriginally produced on Broadway by DreamWorks Theatricals and Neal Street Productions \nJoin us for a swamp-tacular adventure with Shrek The Musical! Based on the beloved Academy Award®-winning film\, this hilarious and heartwarming show brings your favorite ogre\, donkey\, and feisty princess to life on stage. Follow Shrek as he embarks on a quest to reclaim his swamp\, encountering a motley crew of fairytale misfits along the way. \nFilled with catchy songs\, dazzling costumes\, and a powerful message about acceptance and finding your true self\, Shrek The Musical is a joyous romp for the whole family! Get ready to believe in happy endings – no matter how unlikely they may seem. \n\n\n\n\n\n\nTom Jones – Shrek\nCaralyn Steck – Fiona\nKaitlyn Poschner – Donkey\nCameron Zona – Lord Farquaad\nJessie Pollak – Dragon/Lead Understudy\nLuna Cardamone – Gingy\nJulia DiPaolo – Pinocchio\nMila Cook – Young Fiona\nMegan Verrona – Teen Fiona/Peter Pan\nColton Berg – Young Shrek/Baby Bear\nBrandon Anders – Captain of the Guard / Pied Piper\nAmy Balsinger – Wicked Witch\nShelby Bodzin – Little Pig\nGabriel Chuna – Big Bad Wolf\nGreta Gelb – Cheshire Cat\nT.J. Hayes – Papa Bear / Thelonius\nFelicia Larson – Tweedle Dee\nPyro Lennerth – Humpty Dumpty\nRobin Mango – Little Pig / Blind Mouse\nBrittany Morehouse – Mama Bear\nMichela Palma – Elf\nDevan Panigrahi – Ugly Duckling\nKatie Remark – Sugar Plum Fairy\nNoelle Rudersdorf – Little Pig/Blind Mouse\nLoren Sciulla – White Rabbit\nMelanie Scott – Fairy Godmother\nCaitrin Claddagh Stark – Puss in Boots\nGregory Kalvlin – Mad Hatter/Dwarf
URL:https://downtownchagrinfalls.com/event/shrek-the-musical-2/2025-11-15/
LOCATION:Chagrin Valley Little Theatre\, 40 River Street\, Chagrin Falls\, OH\, 44022\, United States
CATEGORIES:Theater
ATTACH;FMTTYPE=image/jpeg:https://downtownchagrinfalls.com/wp-content/uploads/2025/10/Shrek-Landscape.jpeg
ORGANIZER;CN="Chagrin Valley Little Theatre":MAILTO:cvlt@cvlt.org
END:VEVENT
END:VCALENDAR