BEGIN:VCALENDAR
VERSION:2.0
PRODID:-//Downtown Chagrin Falls - ECPv6.15.13.1//NONSGML v1.0//EN
CALSCALE:GREGORIAN
METHOD:PUBLISH
X-ORIGINAL-URL:https://downtownchagrinfalls.com
X-WR-CALDESC:Events for Downtown Chagrin Falls
REFRESH-INTERVAL;VALUE=DURATION:PT1H
X-Robots-Tag:noindex
X-PUBLISHED-TTL:PT1H
BEGIN:VTIMEZONE
TZID:America/New_York
BEGIN:DAYLIGHT
TZOFFSETFROM:-0500
TZOFFSETTO:-0400
TZNAME:EDT
DTSTART:20240310T070000
END:DAYLIGHT
BEGIN:STANDARD
TZOFFSETFROM:-0400
TZOFFSETTO:-0500
TZNAME:EST
DTSTART:20241103T060000
END:STANDARD
BEGIN:DAYLIGHT
TZOFFSETFROM:-0500
TZOFFSETTO:-0400
TZNAME:EDT
DTSTART:20250309T070000
END:DAYLIGHT
BEGIN:STANDARD
TZOFFSETFROM:-0400
TZOFFSETTO:-0500
TZNAME:EST
DTSTART:20251102T060000
END:STANDARD
BEGIN:DAYLIGHT
TZOFFSETFROM:-0500
TZOFFSETTO:-0400
TZNAME:EDT
DTSTART:20260308T070000
END:DAYLIGHT
BEGIN:STANDARD
TZOFFSETFROM:-0400
TZOFFSETTO:-0500
TZNAME:EST
DTSTART:20261101T060000
END:STANDARD
END:VTIMEZONE
BEGIN:VEVENT
DTSTART;TZID=America/New_York:20251028T140000
DTEND;TZID=America/New_York:20251028T150000
DTSTAMP:20260420T212955
CREATED:20250910T180804Z
LAST-MODIFIED:20250910T180804Z
UID:10002631-1761660000-1761663600@downtownchagrinfalls.com
SUMMARY:Tuesday Afternoon Book Discussion
DESCRIPTION:9/23 The Handmaid’s Tale\, by Margaret Atwood;\n10/28 Becoming Madam Secretary\, by Stephanie Dray;\n11/25 Memorial Days\, by Geraldine Brooks\n 
URL:https://downtownchagrinfalls.com/event/tuesday-afternoon-book-discussion/2025-10-28/
LOCATION:Chagrin Falls Public Library\, 100 East Orange Street\, Chagrin Falls\, OH\, 44022\, United States
CATEGORIES:Book Club
ATTACH;FMTTYPE=image/jpeg:https://downtownchagrinfalls.com/wp-content/uploads/2025/09/Chasing-Clues-2025-30.jpg
END:VEVENT
BEGIN:VEVENT
DTSTART;TZID=America/New_York:20251028T180000
DTEND;TZID=America/New_York:20251028T180000
DTSTAMP:20260420T212955
CREATED:20251009T195303Z
LAST-MODIFIED:20251009T195303Z
UID:10002840-1761674400-1761674400@downtownchagrinfalls.com
SUMMARY:Fireside Book Club: Pan
DESCRIPTION:Join us on Tuesday\, October 28th to discuss the book Pan by Michael Clune. Michael Clune will join us as guest speaker. Book club is free and open to the public. All are welcome!
URL:https://downtownchagrinfalls.com/event/fireside-book-club-pan/
LOCATION:Fireside Books\, 29 North Franklin Street\, Chagrin Falls\, OH\, 44022\, United States
CATEGORIES:Book Club
ATTACH;FMTTYPE=image/jpeg:https://downtownchagrinfalls.com/wp-content/uploads/2025/10/Chasing-Clues-2025-56.jpg
END:VEVENT
BEGIN:VEVENT
DTSTART;TZID=America/New_York:20251029T190000
DTEND;TZID=America/New_York:20251029T210000
DTSTAMP:20260420T212955
CREATED:20251009T211848Z
LAST-MODIFIED:20251009T211848Z
UID:10002851-1761764400-1761771600@downtownchagrinfalls.com
SUMMARY:The Enneagram: A Guide to Understanding Yourself and Others
DESCRIPTION:A fascinating presentation led by the esteemed Debbie Burditt. Debbie is a certified and nationally recognized Enneagram teacher and consultant\, and a founder of The Enneagram Group.  She will guide us through a captivating exploration of the ancient system\, revealing how Enneagram typology can support greater understanding of yourself and others.
URL:https://downtownchagrinfalls.com/event/the-enneagram-a-guide-to-understanding-yourself-and-others/
LOCATION:Federated Church\, 76 Bell Street\, Chagrin Falls\, OH\, 44022\, United States
CATEGORIES:Speaker
ATTACH;FMTTYPE=image/jpeg:https://downtownchagrinfalls.com/wp-content/uploads/2025/10/Chasing-Clues-2025-52.jpg
END:VEVENT
BEGIN:VEVENT
DTSTART;TZID=America/New_York:20251030T190000
DTEND;TZID=America/New_York:20251030T200000
DTSTAMP:20260420T212955
CREATED:20251024T150501Z
LAST-MODIFIED:20251024T150501Z
UID:10002857-1761850800-1761854400@downtownchagrinfalls.com
SUMMARY:Lantern Hike: In Henry Church\, Jr.'s Footsteps
DESCRIPTION:Lit only by lanterns and the moon above\, follow in the footsteps of Henry Church\, Jr. down to the Chagrin River and learn about the history behind his fascinating carving. Some lanterns will be provided or you can bring your own. Program for adults only
URL:https://downtownchagrinfalls.com/event/lantern-hike-in-henry-church-jr-s-footsteps/
LOCATION:South Chagrin Reservation
CATEGORIES:Fitness,Outdoor
ATTACH;FMTTYPE=image/jpeg:https://downtownchagrinfalls.com/wp-content/uploads/2025/10/Fireflies_V2.jpg
END:VEVENT
BEGIN:VEVENT
DTSTART;TZID=America/New_York:20251031T113000
DTEND;TZID=America/New_York:20251031T180000
DTSTAMP:20260420T212955
CREATED:20251024T145503Z
LAST-MODIFIED:20251024T145548Z
UID:10002855-1761910200-1761933600@downtownchagrinfalls.com
SUMMARY:Chagrin Pet & Garden Halloween Food Truck Event
DESCRIPTION:Join our Halloween Food Truck Event on October 31st! Not only will there be scary good food\, but all pets are welcome! \nCousins Main Lobster and That Hawaiian Guy’s BBQ food trucks scheduled
URL:https://downtownchagrinfalls.com/event/chagrin-pet-garden-halloween-food-truck-event/
LOCATION:Chagrin Pet & Garden\, 188 Solon Road\, Chagrin Falls\, OH\, 44022\, United States
CATEGORIES:Food & Drink
ATTACH;FMTTYPE=image/jpeg:https://downtownchagrinfalls.com/wp-content/uploads/2025/10/Chasing-Clues-2025-60.jpg
END:VEVENT
BEGIN:VEVENT
DTSTART;TZID=America/New_York:20251031T170000
DTEND;TZID=America/New_York:20251031T203000
DTSTAMP:20260420T212955
CREATED:20251024T143510Z
LAST-MODIFIED:20251024T143547Z
UID:10002852-1761930000-1761942600@downtownchagrinfalls.com
SUMMARY:BHHS Chagrin Falls Annual Halloween Open House
DESCRIPTION:Join your favorite real estate agents for a night filled with trick-or-treating\, cider\, bourbon\, music\, and snacks. It’s going to be a horrifically good time….
URL:https://downtownchagrinfalls.com/event/bhhs-chagrin-falls-annual-halloween-open-house/
LOCATION:Berkshire Hathaway Home Services\, 25 S. Franklin Street\, Chagrin Falls\, OH\, 44022\, United States
CATEGORIES:Just Fun
ATTACH;FMTTYPE=image/jpeg:https://downtownchagrinfalls.com/wp-content/uploads/2025/10/567147626_10161968102597844_636068736444780459_n.jpg
END:VEVENT
BEGIN:VEVENT
DTSTART;TZID=America/New_York:20251031T180000
DTEND;TZID=America/New_York:20251031T200000
DTSTAMP:20260420T212955
CREATED:20251024T144638Z
LAST-MODIFIED:20251024T144638Z
UID:10002853-1761933600-1761940800@downtownchagrinfalls.com
SUMMARY:Trick or Treat and Haunted Firehouse
DESCRIPTION:
URL:https://downtownchagrinfalls.com/event/trick-or-treat-and-haunted-firehouse/
LOCATION:Chagrin Falls\, Chagrin Falls\, OH\, 44022\, United States
CATEGORIES:Community,Just Fun
ATTACH;FMTTYPE=image/jpeg:https://downtownchagrinfalls.com/wp-content/uploads/2025/10/Chasing-Clues-2025-59.jpg
ORGANIZER;CN="Village of Chagrin Falls":MAILTO:debbie@chagrin-falls.org
END:VEVENT
BEGIN:VEVENT
DTSTART;TZID=America/New_York:20251031T213000
DTEND;TZID=America/New_York:20251031T213000
DTSTAMP:20260420T212955
CREATED:20251009T183930Z
LAST-MODIFIED:20251009T183930Z
UID:10002645-1761946200-1761946200@downtownchagrinfalls.com
SUMMARY:At the Greenville: Devn7
DESCRIPTION:We are the oldest tavern in the Chagrin Valley dating back to the late 1800’s. People from all walks of life can come to meet\, kick back and enjoy the warm and unique atmosphere. \nWe’ve got great local bands who perform live most weekends\, cold beers\, a full bar with your favorite liquors and spirits along with the famous chip wall which is always stocked for when you’re in the mood to snack. \nWe also have 6 big screen TV’s to catch all your favorite Cleveland sports teams\, a pool table\, Golden Tee® and Keno®!
URL:https://downtownchagrinfalls.com/event/at-the-greenville-devn7/
LOCATION:Greenville Inn\, 7125 Pine Street\, Bainbridge\, OH\, 44022\, United States
CATEGORIES:Live Music
ATTACH;FMTTYPE=image/jpeg:https://downtownchagrinfalls.com/wp-content/uploads/2025/07/Greenville-Inn-Logo-2025.jpg
END:VEVENT
BEGIN:VEVENT
DTSTART;TZID=America/New_York:20251101T100000
DTEND;TZID=America/New_York:20251101T140000
DTSTAMP:20260420T212955
CREATED:20251009T185426Z
LAST-MODIFIED:20251009T185426Z
UID:10002652-1761991200-1762005600@downtownchagrinfalls.com
SUMMARY:Holiday Craft Boutique at Hamlet
DESCRIPTION: November 1\, 2025 10:00 am – 2:00 pm \n\n\nUnique Gifts\, Local Makers & Holiday Cheer! \nMake your list and check it twice — Hamlet is hosting a festive Holiday Craft Boutique and you’re invited! \nThis FREE event is open to the public and features a variety of one-of-a-kind\, handmade gifts created by Hamlet residents and local organizations\, including the Chagrin Falls Historical Society\, Chagrin Falls Methodist Church\, Orange Senior Center and P.E.O. International. \nFind hand-crafted jewelry\, Scandinavian-inspired knitwear\, floral wreaths and lanterns\, beach glass creations\, textiles\, holiday cards\, and so much more — just in time for the season of giving! \n\nDoor prizes will be raffled throughout the event.\nEnjoy light refreshments while you shop.\nCash or check only for purchases.\n\nEvent Details:\nSaturday\, November 1\n10:00 a.m. – 2:00 p.m.\nThe Atrium at Hamlet\n200 Hamlet Hills Drive \nStart your holiday shopping with handmade charm — see you there!
URL:https://downtownchagrinfalls.com/event/holiday-craft-boutique-at-hamlet/
LOCATION:Hamlet Atrium\, 200 Hamlet Hills Drive\, Chagrin Falls\, OH\, 44022\, United States
CATEGORIES:Holiday,Shopping
ATTACH;FMTTYPE=image/jpeg:https://downtownchagrinfalls.com/wp-content/uploads/2025/10/Chasing-Clues-2025-47.jpg
END:VEVENT
BEGIN:VEVENT
DTSTART;TZID=America/New_York:20251101T110000
DTEND;TZID=America/New_York:20251101T140000
DTSTAMP:20260420T212955
CREATED:20251024T150934Z
LAST-MODIFIED:20251024T150934Z
UID:10002858-1761994800-1762005600@downtownchagrinfalls.com
SUMMARY:Valley Art Center 2025 Holiday Shop Kickoff Event
DESCRIPTION:Save the date \nJoin us Saturday\, November 1 from 11am-2pm for our Holiday Shop Kickoff! Enjoy light refreshments\, take part in an ornament-making workshop benefiting our clay program\, and explore unique\, handcrafted gifts from over 60 local artists—all $250 or less
URL:https://downtownchagrinfalls.com/event/valley-art-center-2025-holiday-shop-kickoff-event/
LOCATION:Valley Art Center\, 155 Bell Street\, Chagrin Falls\, OH\, 44022\, United States
CATEGORIES:Shopping
ATTACH;FMTTYPE=image/jpeg:https://downtownchagrinfalls.com/wp-content/uploads/2025/10/Chasing-Clues-2025-62.jpg
END:VEVENT
BEGIN:VEVENT
DTSTART;TZID=America/New_York:20251101T190000
DTEND;TZID=America/New_York:20251101T230000
DTSTAMP:20260420T212955
CREATED:20250829T150541Z
LAST-MODIFIED:20250829T150758Z
UID:10002582-1762023600-1762038000@downtownchagrinfalls.com
SUMMARY:Bainbridge Swing Dance
DESCRIPTION:A different live band performs at the Bainbridge Swing Dance the first Saturday of every month at Family Life Center (16349 Chillicothe Road\, Chagrin Falls\, OH 44023). Doors open at 6:30pm. Lesson at 7pm. Swing dance and live music 8-10pm. Plus Electro Swing with curated recorded playlist 10-11pm. \nSeptember 6th: Dr. Zoot plays live at the Bainbridge Swing Dance. Dr. Zoot performs in theaters\, clubs\, dance halls and festivals.  Since the band formed in early 1998 their popularity has been growing rapidly nationally and internationally. Their original tunes have been featured on many major CD compilations and have been placed in several TV and film scores.  Dr. Zoot’s distinctive sound maintains a contemporary feel while reaching back across the years to link with the greats who have come before them.  For more information and sound bites visit http://www.drzoot.com/. \n\nOctober 4th: Radio Rhythm IDOLS play live at the Bainbridge Swing Dance on Saturday the 4th of October 2025. Led by Paul Kovac and Carrie King\, the Radio Rhythm IDOLS draw their swing inspiration from the east – west – south – & north (actually not north so much).  Their sets include American songbook standards\, west-coast rock-a-billy\, pre-rock & roll R&B\, east & western swing\, all selected to make you want to dance.  The RRI will include up and coming star\, Cory Grinder\, a tall drink of water with a lot to say\, musically speaking.  Lace ‘em up & join us\, won’t you. \nNovember 1st: Rachel and the Beatnik Playboys are playing live at the Bainbridge Swing Dance. Based out of Cleveland\, Ohio\, Rachel Brown and the Beatnik Playboys consistently carry their audience away with powerful imagery and strong musical backgrounds. They embrace and explore many Americana styles and combine them into a soulful\, powerful sound. With original compositions and their own unique channeling of classics\, Rachel and the Beatnik Playboys are blazing new trails into the music world. To learn more about them visit https://rachelbps.com. \nDecember 6th:  Blue Lunch plays live at 8pm\, followed by Electro Swing at 10pm at the Family Life Center (16349 Chillicothe Road; Chagrin Falls\, OH 44023). Blue Lunch is a nine-piece band with a three-piece horn section.  It is unique in its use of multiple vocalists and harmony vocals. Producing an eclectic mix of swing\, blues\, soul\, jazz\, and New Orleans style rhythm and blues. Their combination of outstanding musicianship\, showmanship\, and humor\, has kept dance floors filled and audiences entertained.  For over 40 years\, Blue Lunch has been playing at festivals\, clubs\, private events\, and a variety of outdoor venues throughout the upper midwest. They have regularly entertained swing dancers in Northeast Ohio\, Pittsburgh\, Columbus\, and elsewhere. “Saxophone Shootout\, Live at Nighttown”\, one of eight albums produced by Blue Lunch\, placed in the top five Best Self-Produced CDs in the International Blues Challenge in Memphis. Learn more about Blue Lunch at http://www.bluelunch.com. \n\n\n \n \nAdmission (cash or personal check\, we do not yet accept credit cards): \n$10 per child (12 years and under) \n$20 per person (13+ years) \n$50 per family (up to 2 parents and minor children in same household) \n \nExperienced and non-experienced dancers are welcome. This public\, family-friendly event is open to all ages. No partner is required for the lesson (7-8pm) or the dances (8-11pm). No registration needed. For additional information visit www.WillCraigDance.com. \n\n\n\n\n\n\nLesson    7:00 – 8:00pm \nSwing Dance    8:00 – 10:00pm \nPLUS Electro Swing    10:00 – 11:00pm \n\n\nPlus Electro Swing – Electro Swing aka “swing house\, is an electronic dance music genre that combines the influence of vintage or modern swing and jazz mixed with house and hip hop . . .  A modern and dance-floor focused sound that is more readily accessible to the modern ear (Wikipedia).” There  will be more intense lighting\, including black lights\, strobes and lasers.  Featuring a curated playlist of recorded Electro Swing music. \n\n\n  \n\nF.A.Q. \n\n\n\n\n\n\n\n\n\n\n\nOur Policy and Standard Statement\n\n\nWe work together to create a friendly and welcoming community of new and experienced dancers\, showing kindness and consideration.  We help each other feel safe and comfortable.  We respect each others’ personal space and boundaries\, even when it is different from our own.  We believe in mutual communication and consent.  We welcome all who share our commitment to uphold these principles.  We also like feedback and smiles.  Thanks for dancing with us. \n\n\n\n\n\n\n\n\n\n\nI don’t have a partner to dance with.  Will I be able to dance?\n\n\nYes!  There are many people who attend our dances that do not arrive with a partner.  Will Craig\, his team and his regular dancers do a fantastic job of creating a welcoming atmosphere.  We highly recommend that you come to the lesson\, that generally starts about an hour before the live music and dance.  During the lesson\, partners are rotated and it gives people an opportunity to meet new faces.  Don’t be shy in asking others to dance with you through the course of the evening.  Dancing with a variety of people also helps you learn and hone dance moves. \n\n\n\n\n\n\n\n\n\n\nI don’t have dance shoes what should I wear?\n\n\nSoft soled shoes that are slick are considered the best for dancing.  They give you the ability to easily turn\, change direction and pivot in dance moves.  Wear something comfortable.  Additionally\, a little tip\, some type of sock or nylon between your foot and shoe will help prevent blisters.  Shoes\, that grip\, such as sneakers\, hiking boots\, etc. are the worst.  Your feet tend to stick to the dance floor and hinder you from fluid motions.  Please try to avoid soles that will streak or mar the dance floor. \n\n\n\n\n\n\n\n\n\n\nDo you allow arial moves at your dances?\n\n\nNo!  Due to liability\, etc. arial moves are strongly prohibited at our dances.  Please keep your feet (and others’ feet) on the ground. \n\n\n\n\n\n\n\n\n\n\nI left something at the dance.  Is there a lost and found?\n\n\nIf you have left something at the dance\, your best bet is to contact the dance hall.  If you have trouble connecting with someone at the venue\, send us an email (info@willcraigproductions.com) and let us know what you left behind.  We will try to locate it for you. \n\n\n\n\n\n\n\n\n\n\nTobacco and Alcohol Policy\n\n\nNo smoking is allowed in the building.  Alcohol is not sold at the dance. \n\n\n\n\n\n\n\n\n\n\nIllness Policy\n\n\nIf you have a runny nose\, cough\, fever\, or don’t feel well\, please stay home. \nDance partner rotation not required.
URL:https://downtownchagrinfalls.com/event/bainbridge-swing-dance-2/2025-11-01/
LOCATION:Family Life Center\, 16349 Chillicothe Road (Route 306)\, Chagrin Falls\, OH\, 44023\, United States
CATEGORIES:Classes,Dancing,Just Fun,Live Music
ATTACH;FMTTYPE=image/jpeg:https://downtownchagrinfalls.com/wp-content/uploads/2025/08/qtq80-MtTR1J.jpeg
ORGANIZER;CN="Will Craig Productions":MAILTO:info@willcraigproductions.com
END:VEVENT
BEGIN:VEVENT
DTSTART;TZID=America/New_York:20251101T213000
DTEND;TZID=America/New_York:20251101T213000
DTSTAMP:20260420T212955
CREATED:20251009T184009Z
LAST-MODIFIED:20251009T184009Z
UID:10002646-1762032600-1762032600@downtownchagrinfalls.com
SUMMARY:At the Greenville: Faith & Whisky
DESCRIPTION:We are the oldest tavern in the Chagrin Valley dating back to the late 1800’s. People from all walks of life can come to meet\, kick back and enjoy the warm and unique atmosphere. \nWe’ve got great local bands who perform live most weekends\, cold beers\, a full bar with your favorite liquors and spirits along with the famous chip wall which is always stocked for when you’re in the mood to snack. \nWe also have 6 big screen TV’s to catch all your favorite Cleveland sports teams\, a pool table\, Golden Tee® and Keno®!
URL:https://downtownchagrinfalls.com/event/at-the-greenville-faith-whisky/
LOCATION:Greenville Inn\, 7125 Pine Street\, Bainbridge\, OH\, 44022\, United States
CATEGORIES:Live Music
ATTACH;FMTTYPE=image/jpeg:https://downtownchagrinfalls.com/wp-content/uploads/2025/07/Greenville-Inn-Logo-2025.jpg
END:VEVENT
END:VCALENDAR