BEGIN:VCALENDAR
VERSION:2.0
PRODID:-//Downtown Chagrin Falls - ECPv6.15.13.1//NONSGML v1.0//EN
CALSCALE:GREGORIAN
METHOD:PUBLISH
X-ORIGINAL-URL:https://downtownchagrinfalls.com
X-WR-CALDESC:Events for Downtown Chagrin Falls
REFRESH-INTERVAL;VALUE=DURATION:PT1H
X-Robots-Tag:noindex
X-PUBLISHED-TTL:PT1H
BEGIN:VTIMEZONE
TZID:America/New_York
BEGIN:DAYLIGHT
TZOFFSETFROM:-0500
TZOFFSETTO:-0400
TZNAME:EDT
DTSTART:20240310T070000
END:DAYLIGHT
BEGIN:STANDARD
TZOFFSETFROM:-0400
TZOFFSETTO:-0500
TZNAME:EST
DTSTART:20241103T060000
END:STANDARD
BEGIN:DAYLIGHT
TZOFFSETFROM:-0500
TZOFFSETTO:-0400
TZNAME:EDT
DTSTART:20250309T070000
END:DAYLIGHT
BEGIN:STANDARD
TZOFFSETFROM:-0400
TZOFFSETTO:-0500
TZNAME:EST
DTSTART:20251102T060000
END:STANDARD
BEGIN:DAYLIGHT
TZOFFSETFROM:-0500
TZOFFSETTO:-0400
TZNAME:EDT
DTSTART:20260308T070000
END:DAYLIGHT
BEGIN:STANDARD
TZOFFSETFROM:-0400
TZOFFSETTO:-0500
TZNAME:EST
DTSTART:20261101T060000
END:STANDARD
END:VTIMEZONE
BEGIN:VEVENT
DTSTART;TZID=America/New_York:20251023T160000
DTEND;TZID=America/New_York:20251023T180000
DTSTAMP:20260420T110335
CREATED:20250905T184753Z
LAST-MODIFIED:20250905T184753Z
UID:10002590-1761235200-1761242400@downtownchagrinfalls.com
SUMMARY:Chagrin Falls Bootique
DESCRIPTION:Calling all ghosts and goblins. Save the date and come out for a safe – not scary – free – outdoor trick-or-treat event in downtown Chagrin Falls. Candy – Halloween Music – fun!
URL:https://downtownchagrinfalls.com/event/chagrin-falls-bootique/
LOCATION:Chagrin Falls\, Chagrin Falls\, OH\, 44022\, United States
CATEGORIES:Children
ATTACH;FMTTYPE=image/jpeg:https://downtownchagrinfalls.com/wp-content/uploads/2025/09/Bootique.jpg
END:VEVENT
BEGIN:VEVENT
DTSTART;TZID=America/New_York:20251024T193000
DTEND;TZID=America/New_York:20251024T193000
DTSTAMP:20260420T110335
CREATED:20251009T185755Z
LAST-MODIFIED:20251009T185755Z
UID:10002653-1761334200-1761334200@downtownchagrinfalls.com
SUMMARY:Exit Laughing
DESCRIPTION:When the biggest highlight of your life for the past thirty years has been your weekly card night out with the girls\, what do you do when one of your foursome inconveniently dies? \nIf you’re Connie\, Leona\, and Millie\, three southern ladies from Birmingham\, you do the most daring thing you’ve ever done: you “borrow” the ashes from the funeral home for one last card game! \nThe wildest\, most exciting night of their lives includes the police\, a stripper\, dessert\, booze\, laughs\, and a whole new way of looking at all the fun you can have when you’re truly living. \nDirector – Laurel K. Bryant \nStarring: \nBRENDA REDMOND as Connie\nAMANDA BRYANT as Rachel\nGRETA ROTHMAN as Leona\nJENNY BARRETT as Millie\nCAMERON ZONA as Bobby \nProduced by special arrangement with THE DRAMATIC PUBLISHING COMPANY of Woodstock\, Illinois
URL:https://downtownchagrinfalls.com/event/exit-laughing/2025-10-24/
LOCATION:River Street Playhouse\, 56 River Street\, Chagrin Falls\, OH\, 44022\, United States
CATEGORIES:Theater
ATTACH;FMTTYPE=image/jpeg:https://downtownchagrinfalls.com/wp-content/uploads/2025/10/Chasing-Clues-2025-36.jpg
ORGANIZER;CN="Chagrin Valley Little Theatre":MAILTO:cvlt@cvlt.org
END:VEVENT
BEGIN:VEVENT
DTSTART;TZID=America/New_York:20251024T213000
DTEND;TZID=America/New_York:20251024T213000
DTSTAMP:20260420T110335
CREATED:20251009T183811Z
LAST-MODIFIED:20251009T183811Z
UID:10002643-1761341400-1761341400@downtownchagrinfalls.com
SUMMARY:At the Greenville: Larry Haws & The Octopus From Louisiana
DESCRIPTION:We are the oldest tavern in the Chagrin Valley dating back to the late 1800’s. People from all walks of life can come to meet\, kick back and enjoy the warm and unique atmosphere. \nWe’ve got great local bands who perform live most weekends\, cold beers\, a full bar with your favorite liquors and spirits along with the famous chip wall which is always stocked for when you’re in the mood to snack. \nWe also have 6 big screen TV’s to catch all your favorite Cleveland sports teams\, a pool table\, Golden Tee® and Keno®!
URL:https://downtownchagrinfalls.com/event/at-the-greenville-larry-haws-the-octopus-from-louisiana/
LOCATION:Greenville Inn\, 7125 Pine Street\, Bainbridge\, OH\, 44022\, United States
CATEGORIES:Live Music
ATTACH;FMTTYPE=image/jpeg:https://downtownchagrinfalls.com/wp-content/uploads/2025/07/Greenville-Inn-Logo-2025.jpg
END:VEVENT
BEGIN:VEVENT
DTSTART;TZID=America/New_York:20251025T100000
DTEND;TZID=America/New_York:20251025T160000
DTSTAMP:20260420T110335
CREATED:20251009T204901Z
LAST-MODIFIED:20251009T204901Z
UID:10002846-1761386400-1761408000@downtownchagrinfalls.com
SUMMARY:Fall Craft & Vendor Show
DESCRIPTION:The United Methodist Church of Chagrin Falls is excited to announce our upcoming Craft Fair on Oct 25th and we’re looking for talented creators\, crafters and artists to join us! \n\nIf you create handmade goods\, seasonal décor\, jewelry\, baked treats\, or other unique items\, this is the perfect opportunity to showcase your work and connect with our community.\n\n\n To reserve your vendor space or learn more\, contact us at 440-247-5848 or fill out the Vendor Application on our website and mail it back to us.\n\n\nDon’t miss this chance to share your creativity—we’d love to have you join us!
URL:https://downtownchagrinfalls.com/event/fall-craft-vendor-show/
LOCATION:United Methodist Church of Chagrin Falls\, 20 S. Franklin Street\, Chagrin Falls\, OH\, 44022\, United States
CATEGORIES:Crafts,Fundraiser,Shopping
ATTACH;FMTTYPE=image/jpeg:https://downtownchagrinfalls.com/wp-content/uploads/2025/10/Chasing-Clues-2025-39.jpg
END:VEVENT
BEGIN:VEVENT
DTSTART;TZID=America/New_York:20251025T110000
DTEND;TZID=America/New_York:20251025T150000
DTSTAMP:20260420T110335
CREATED:20251009T205643Z
LAST-MODIFIED:20251009T205643Z
UID:10002847-1761390000-1761404400@downtownchagrinfalls.com
SUMMARY:Chagrin Valley Jaycees Oktubafest
DESCRIPTION:This fun-filled fall event is great for every age\, from children to teens and adults. Guests can join in on the fun by painting pumpkins and stuffing scarecrows to the tunes played by the local brass band Oompah!​ This year we will also have face painting and bouncy houses!​​\n\n\n\n\n​​​​​​​​​​​​​​​​​​The Jaycees are currently hosting a silent auction that is full of wonderful prizes including Cleveland Guardians tickets and many gift cards. Prizes are added regularly so make sure you check back regularly.​​​​​​​​​​ \nThis wonderful event is completely free to the public but the Jaycees always appreciate donations as all proceeds go towards the many charities we support.​ \n\n\n​Apple cider will be provided at this event for no cost along with the fun activity of painting your very own pumpkin!. ​ \nScarecrow clothing and straw will be provided for guests but we always encourage families to bring their own clothing for the scarecrows.  \nThere will also be a food truck for purchased food. 
URL:https://downtownchagrinfalls.com/event/chagrin-valley-jaycees-oktubafest/
LOCATION:Triangle Park\, Chagrin Falls\, OH\, 44022\, United States
CATEGORIES:Children,Community,Live Music,Outdoor
ATTACH;FMTTYPE=image/jpeg:https://downtownchagrinfalls.com/wp-content/uploads/2025/10/Oktubafest.jpg
ORGANIZER;CN="Chagrin Valley Jaycees":MAILTO:info@cvjc.org
END:VEVENT
BEGIN:VEVENT
DTSTART;TZID=America/New_York:20251025T130000
DTEND;TZID=America/New_York:20251025T150000
DTSTAMP:20260420T110335
CREATED:20251009T193813Z
LAST-MODIFIED:20251009T193813Z
UID:10002838-1761397200-1761404400@downtownchagrinfalls.com
SUMMARY:Fireside Bookshop Author Event: Brian Trapp
DESCRIPTION:Brian Trapp\, author of the book Range of Motion will sign books in the shop on Saturday\, October 25th from 1-3 pm. \n \n 
URL:https://downtownchagrinfalls.com/event/fireside-bookshop-author-event-brian-trapp/
LOCATION:Fireside Books\, 29 North Franklin Street\, Chagrin Falls\, OH\, 44022\, United States
CATEGORIES:Book signing
ATTACH;FMTTYPE=image/jpeg:https://downtownchagrinfalls.com/wp-content/uploads/2025/10/Chasing-Clues-2025-42.jpg
END:VEVENT
BEGIN:VEVENT
DTSTART;TZID=America/New_York:20251025T130000
DTEND;TZID=America/New_York:20251025T170000
DTSTAMP:20260420T110335
CREATED:20251009T210010Z
LAST-MODIFIED:20251009T210010Z
UID:10002848-1761397200-1761411600@downtownchagrinfalls.com
SUMMARY:TasteCLE Halloween Costume & Cocktail Party
DESCRIPTION:CHECK IN : Pub FratoCostume Contest Winner Announced that evening at M Bevy for the After Party\nGet ready for a spooky fun afternoon out. Walk around to the different bars and restaurants in Chagrin Falls and enjoy samples of either a seasonal beer or a spooky cocktail at each location. All ticket holders are eligible to win the $250 Grand Prize for Best Halloween Costume.\nCheck in is at Pub Frato. At check in\, we will take your picture and post it for all to see. The staff from all locations and Taste CLE will pick the winner and post right here in the event page.\nIt’s only $30 and that includes your 8 drinks\, passport\, specials and entrance to the costume contest. Price does go up the day of the event. They are gonna go fast.\nTICKET PRICE & WHAT’S INCLUDED$30 Early Bird (First 100 People)$35 Regular Rate (Through Oct 23th)$40 Late Registration (Oct 24th to Oct 25th)\nWHAT YOU GET8 Samples of Drinks. Either Beer or Seasonal Drink (Value $35+)Coupons to Local Retailers (Value $30+)\nLOCATIONS – We are Conjuring Cocktails – Details Coming SoonPub Frato –Yours Truly Chagrin Falls Kitchen & Bar –ETalian –M Italian –M Bevy –\n\nRETAILER COUPONSFireside Bookshop – 10% off one itemThe Spice and Tea Exchange – 15% off any consumable itemBlush Boutique – 20% off one itemSHED Boutique & Wellness – 20% off one itemChagrin Yoga – $49 New Student Special for your first month – “Sip Today\, Detox Tomorrow”Off the Wagon – $5 off a purchase of $35 or more\nSo start planning your costume and let’s get ready for a fun night. v
URL:https://downtownchagrinfalls.com/event/tastecle-halloween-costume-cocktail-party/
LOCATION:Chagrin Falls\, Chagrin Falls\, OH\, 44022\, United States
CATEGORIES:Bar Crawl
ATTACH;FMTTYPE=image/jpeg:https://downtownchagrinfalls.com/wp-content/uploads/2025/10/542008279_1216037163898368_126983735532553548_n.jpg
END:VEVENT
BEGIN:VEVENT
DTSTART;TZID=America/New_York:20251025T193000
DTEND;TZID=America/New_York:20251025T193000
DTSTAMP:20260420T110335
CREATED:20251009T185755Z
LAST-MODIFIED:20251009T185755Z
UID:10002654-1761420600-1761420600@downtownchagrinfalls.com
SUMMARY:Exit Laughing
DESCRIPTION:When the biggest highlight of your life for the past thirty years has been your weekly card night out with the girls\, what do you do when one of your foursome inconveniently dies? \nIf you’re Connie\, Leona\, and Millie\, three southern ladies from Birmingham\, you do the most daring thing you’ve ever done: you “borrow” the ashes from the funeral home for one last card game! \nThe wildest\, most exciting night of their lives includes the police\, a stripper\, dessert\, booze\, laughs\, and a whole new way of looking at all the fun you can have when you’re truly living. \nDirector – Laurel K. Bryant \nStarring: \nBRENDA REDMOND as Connie\nAMANDA BRYANT as Rachel\nGRETA ROTHMAN as Leona\nJENNY BARRETT as Millie\nCAMERON ZONA as Bobby \nProduced by special arrangement with THE DRAMATIC PUBLISHING COMPANY of Woodstock\, Illinois
URL:https://downtownchagrinfalls.com/event/exit-laughing/2025-10-25/
LOCATION:River Street Playhouse\, 56 River Street\, Chagrin Falls\, OH\, 44022\, United States
CATEGORIES:Theater
ATTACH;FMTTYPE=image/jpeg:https://downtownchagrinfalls.com/wp-content/uploads/2025/10/Chasing-Clues-2025-36.jpg
ORGANIZER;CN="Chagrin Valley Little Theatre":MAILTO:cvlt@cvlt.org
END:VEVENT
BEGIN:VEVENT
DTSTART;TZID=America/New_York:20251025T213000
DTEND;TZID=America/New_York:20251025T213000
DTSTAMP:20260420T110335
CREATED:20251009T183853Z
LAST-MODIFIED:20251009T183853Z
UID:10002644-1761427800-1761427800@downtownchagrinfalls.com
SUMMARY:At the Greenville: Miles Road Band
DESCRIPTION:We are the oldest tavern in the Chagrin Valley dating back to the late 1800’s. People from all walks of life can come to meet\, kick back and enjoy the warm and unique atmosphere. \nWe’ve got great local bands who perform live most weekends\, cold beers\, a full bar with your favorite liquors and spirits along with the famous chip wall which is always stocked for when you’re in the mood to snack. \nWe also have 6 big screen TV’s to catch all your favorite Cleveland sports teams\, a pool table\, Golden Tee® and Keno®!
URL:https://downtownchagrinfalls.com/event/at-the-greenville-miles-road-band-2/
LOCATION:Greenville Inn\, 7125 Pine Street\, Bainbridge\, OH\, 44022\, United States
CATEGORIES:Live Music
ATTACH;FMTTYPE=image/jpeg:https://downtownchagrinfalls.com/wp-content/uploads/2025/07/Greenville-Inn-Logo-2025.jpg
END:VEVENT
BEGIN:VEVENT
DTSTART;TZID=America/New_York:20251026T140000
DTEND;TZID=America/New_York:20251026T140000
DTSTAMP:20260420T110335
CREATED:20251009T185755Z
LAST-MODIFIED:20251009T185755Z
UID:10002655-1761487200-1761487200@downtownchagrinfalls.com
SUMMARY:Exit Laughing
DESCRIPTION:When the biggest highlight of your life for the past thirty years has been your weekly card night out with the girls\, what do you do when one of your foursome inconveniently dies? \nIf you’re Connie\, Leona\, and Millie\, three southern ladies from Birmingham\, you do the most daring thing you’ve ever done: you “borrow” the ashes from the funeral home for one last card game! \nThe wildest\, most exciting night of their lives includes the police\, a stripper\, dessert\, booze\, laughs\, and a whole new way of looking at all the fun you can have when you’re truly living. \nDirector – Laurel K. Bryant \nStarring: \nBRENDA REDMOND as Connie\nAMANDA BRYANT as Rachel\nGRETA ROTHMAN as Leona\nJENNY BARRETT as Millie\nCAMERON ZONA as Bobby \nProduced by special arrangement with THE DRAMATIC PUBLISHING COMPANY of Woodstock\, Illinois
URL:https://downtownchagrinfalls.com/event/exit-laughing/2025-10-26/
LOCATION:River Street Playhouse\, 56 River Street\, Chagrin Falls\, OH\, 44022\, United States
CATEGORIES:Theater
ATTACH;FMTTYPE=image/jpeg:https://downtownchagrinfalls.com/wp-content/uploads/2025/10/Chasing-Clues-2025-36.jpg
ORGANIZER;CN="Chagrin Valley Little Theatre":MAILTO:cvlt@cvlt.org
END:VEVENT
END:VCALENDAR