BEGIN:VCALENDAR
VERSION:2.0
PRODID:-//Downtown Chagrin Falls - ECPv6.15.13.1//NONSGML v1.0//EN
CALSCALE:GREGORIAN
METHOD:PUBLISH
X-WR-CALNAME:Downtown Chagrin Falls
X-ORIGINAL-URL:https://downtownchagrinfalls.com
X-WR-CALDESC:Events for Downtown Chagrin Falls
REFRESH-INTERVAL;VALUE=DURATION:PT1H
X-Robots-Tag:noindex
X-PUBLISHED-TTL:PT1H
BEGIN:VTIMEZONE
TZID:America/New_York
BEGIN:DAYLIGHT
TZOFFSETFROM:-0500
TZOFFSETTO:-0400
TZNAME:EDT
DTSTART:20240310T070000
END:DAYLIGHT
BEGIN:STANDARD
TZOFFSETFROM:-0400
TZOFFSETTO:-0500
TZNAME:EST
DTSTART:20241103T060000
END:STANDARD
BEGIN:DAYLIGHT
TZOFFSETFROM:-0500
TZOFFSETTO:-0400
TZNAME:EDT
DTSTART:20250309T070000
END:DAYLIGHT
BEGIN:STANDARD
TZOFFSETFROM:-0400
TZOFFSETTO:-0500
TZNAME:EST
DTSTART:20251102T060000
END:STANDARD
BEGIN:DAYLIGHT
TZOFFSETFROM:-0500
TZOFFSETTO:-0400
TZNAME:EDT
DTSTART:20260308T070000
END:DAYLIGHT
BEGIN:STANDARD
TZOFFSETFROM:-0400
TZOFFSETTO:-0500
TZNAME:EST
DTSTART:20261101T060000
END:STANDARD
END:VTIMEZONE
BEGIN:VEVENT
DTSTART;VALUE=DATE:20251007
DTEND;VALUE=DATE:20251014
DTSTAMP:20260420T015802
CREATED:20250820T174333Z
LAST-MODIFIED:20250908T174924Z
UID:10002572-1759802400-1760320799@downtownchagrinfalls.com
SUMMARY:Chagrin Documentary Film Festival
DESCRIPTION:The 16th annual Chagrin Documentary Film Festival (CDFF) will take place October 7-12 at walkable venues throughout the charming century Village of Chagrin Falls\, Ohio and is pleased to announce the acceptance of 74 films to the 2025 Festival. \nThe festival will kick off on Tuesday\, October 7 and run through Sunday\, October 12\, 2025. The complete 2025 program lineup and ticketing information will be announced in early September (chagrinfilmfest.org)  Screening venues include CDFF’s permanent home “CDFF on the Triangle”\, the historic Township Hall\, Chagrin Valley Little Theatre\, an outdoor screen in Triangle Park and several others. \nThe 2025 festival launches on October 7th\, presenting Colin Hanks’ moving documentary John Candy: I Like Me. \nEmerging Filmmakers: \nAmerican Clown directed by Guilford Adams\, Casey Pinkston (United States); \nChampions of the Golden Valley directed by Ben Sturgulewski (Afghanistan\, Germany\, United States); \nCoroner to the Stars directed by Ben Hethcoat\, Keita Ideno (United States); \nGod As My Witness directed by Lindsay Q Pitre (United States); \nA Lile Fellow: The Legacy of A.P. Giannini directed by Davide Fiore (United States); \nLooking Up directed by Elena Neuman (Israel\, United States); \nThe Opener directed by Jeff Toye (United States); \nRemaining Nave directed by Paige Bethmann (United States); \nTurtle Walker directed by Taira Malaney (India); \nWorld Without Cows directed by Michelle Michael\, \nBrandon Whitworth (United States); \n  \nVoices: \nThe Danny Gans Story directed by Andrew Davies Gans (United States). \n  \nEnvironmental Documentaries: \nThe Last Dive directed by Cody Sheehy (Mexico\, United States); \nLost Wolves of Yellowstone directed by Thomas Winston (United States); \nOceania: Journey to the Center directed by Natalie Zimmerman (Kiriba\, United States). \n  \nInternational Documentaries:  \nAlong The River directed by Gerburg Rohde-Dahl (Germany); \nGame On: Basketball in Rural China directed by David Hamlin (China\, United States); \nKaláka: from the Carpathians to the Caribbean directed by Réka Pigniczky (Argenna\, Colombia\, Hungary\, Romania); \nYou Need This directed by Ryan Andrej Lough (Germany\, United Kingdom\, Netherlands\, United States); \nAmong Thieves directed by Trevor J. Wallace\, Gino R. Caspari (China\, Hong Kong\, Switzerland\, United States); \nMemory for Burial directed by Charloe Jarrix\, Maud Guillaumin (France\, Poland). \n  \nSpotlight Documentaries:  \nThe Golden Spurtle directed by Constanne Cos (Scotland); \nLove+War directed by Chai Vasarhelyi\, Jimmy Chin (United States); \nShadow Scholars directed by Eloise King; Speak. directed by Jennifer Tiexiera (United States); \nSuburban Fury directed by Robinson Devor (United States). \n  \nUS Documentaries:  \nCracking the Code: Phil Sharp and the Biotech Revoluon directed by Bill Haney (United States); \nDear Mr. President: The Leers of Julia Sand directed by Destry Edwards (United States); \nFreeland ~ A Blackwater Story directed by Jusn Harris (United States); \nThe Heart Of Rock And Roll: A Cleveland Rocks Story directed by Patrick Donovan (United States); \nI Was Born This Way directed by Sam Pollard\, Daniel Junge (United States); \nJoin the Club directed by Kip Andersen\, Chris O’Connell (United States); \nLithium Rising: The Race for Crical Minerals directed by Samuel George (); \nThe Pantone Guy directed by Patrick Creadon (United States); \nRising Phoenix: A New Revoluon directed by Sheridan O’Donnell (United Kingdom\, United States); \nShuffle directed by Benjamin Flaherty (United States); \nThis is Pike County directed by Laura Paglin (United States); \nTrail Mix directed by Glenn Robert Sweitzer (United States). \n  \nShort Documentary Films Films which are less than 40 minutes in length.  \nLocal Short Documentaries:  \nThe Art Of Filling Plates directed by Julia Thorndike (United States); \nThe Eye of Cleveland directed by Jim Koenigsaecker (United States); \nFarm To Bed: The Families Behind Naturepedic’s Organic Coon directed by Kyle Loney (United States); \nHiking through Grief directed by Stephen Burks (United States); \nI Forgot to Tell You About…The Story of The Cleveland Buckeyes directed by Evelyn Renee Gregory (United States); \nSkate Rat Since ’88: The Krisan Svitak Story directed by Danny Mizicko (United States). \n  \nShort Documentaries:  \nAmal | Hope directed by Eros Zhao (Israel\, United States); \nAmy Sillman: To Abstract directed by Ian Forster (United States); \nBetween Moon Tides directed by Jason Jaacks (United States); \nBoda Boda directed by Marc Kusnetz (Uganda); \nThe Book of George directed by Danny Schmidt (United States); \nBreakaway: The Refugee World Cup directed by Jake Siam Solomon (United States); \nBreaking Plates directed by Karen Pearlman (Australia\, France); \nChanging the Film Landscape: The Garre Brown Story directed by Andrew Blike (United States); \nThe City of God Beneath the River directed by Edmund Teeh Agorhom (Ghana); \nForgotten Routes directed by Varta Arutunian (Armenia\, Ukraine\, United Kingdom); \nGeorge V directed by Dennis Scholl\, Dia Kontaxis (United States); \nGrit directed by Vanina Feldsztein (United States); \nHow Fast Can You Eat A Pickled Egg? directed by Daniel England (United Kingdom); \nHustle and Run directed by Jonny Madderson\, Jono Stevens (United Kingdom); \nJérôme Delépine\, A Vision of Humanity directed by David Tillault\, Nicolas Desmarchelier (France); \nJust and Perfect directed by Immanuel Mullen (United States); \nMy Father Was A Butcher directed by Basaan van Schip (Netherlands); \nPastures and Panels directed by Tucker Gragg (United States); \nProjecting Protest directed by Thomas Clement (United States); \nRanger of the North directed by Bradley Bethel (United States); \nThe Survivors directed by Tomasz Słomczyński\, Piotr Szymanek (Poland); \nThey Call Me The Tattoo Witch directed by Lindsay Nyman (Vietnam\, United States); \nUkraine Under Fire | A Film About War & Resilience directed by Jordan Campbell (Ukraine\, United States); \nWhat The River Knows directed by Diego Riley\, Will Buckley (United States); \nAll The Empty Rooms directed by Joshua Seel (United States). \n  \nStudent Documentaries:  \nBy Name directed by Aiden Black\, Jeremiah Badu\, Dillon Crane\, Michael Drvenkar\, Tyler Gedeon\, Owen Hoelker\, Conall McMahon\, Nicholas Schraff (United States); \nMagda directed by Ben Hartong (United States); \nMail Myself to You directed by Imogen Pranger (United States); \nPlaced: The Journey Through Foster Care directed by University of Dayton Media Production Students (United States); \nUnder the Lights directed by Isabella Douville (United States). \nAbout Chagrin Documentary Film Fesval: Founded in 2010\, the Chagrin Documentary Film Fesval has grown into a premier event for documentary filmmakers and enthusiasts. Honoring the memory of David Ponce\, the fesval showcases diverse perspecves and untold stories from around the globe\, fostering a deeper understanding of our world through the lens of documentary film.
URL:https://downtownchagrinfalls.com/event/chagrin-documentary-film-festival/
LOCATION:Chagrin Falls\, Chagrin Falls\, OH\, 44022\, United States
CATEGORIES:Festival,Film
ATTACH;FMTTYPE=image/jpeg:https://downtownchagrinfalls.com/wp-content/uploads/2025/08/Chasing-Clues-2025-27.jpg
ORGANIZER;CN="Chagrin Documentary Film Festival":MAILTO:info@chagrinfilmfest.org
END:VEVENT
BEGIN:VEVENT
DTSTART;VALUE=DATE:20251012
DTEND;VALUE=DATE:20251014
DTSTAMP:20260420T015802
CREATED:20251009T204036Z
LAST-MODIFIED:20251009T204036Z
UID:10002844-1760234400-1760320799@downtownchagrinfalls.com
SUMMARY:Cowboy Cares!
DESCRIPTION:On October 12\, Cowboy will donate a percentage of sales to WomenSafe\, providing shelter and support for survivors of domestic violence in Northeast Ohio.  Come hungry and help support a wonderful cause.
URL:https://downtownchagrinfalls.com/event/cowboy-cares/
LOCATION:Cowboy Food & Drink\, 8586 E. Washington Street\, Bainbridge\, OH\, 44023\, United States
CATEGORIES:Food & Drink,Fundraiser
ATTACH;FMTTYPE=image/jpeg:https://downtownchagrinfalls.com/wp-content/uploads/2025/10/Chasing-Clues-2025-37.jpg
END:VEVENT
BEGIN:VEVENT
DTSTART;TZID=America/New_York:20251014T170000
DTEND;TZID=America/New_York:20251014T190000
DTSTAMP:20260420T015802
CREATED:20251009T200325Z
LAST-MODIFIED:20251009T203320Z
UID:10002841-1760461200-1760468400@downtownchagrinfalls.com
SUMMARY:Robert Craig Wine Tasting at Chuck's
DESCRIPTION:Join us this Tuesday October 14th from 5-7pm for a tasting with Chuck Spelman VP of Sales for Robert Craig Winery!!! An excellent selection of beautiful wines and great company!!$60/person 5-7pmReservations required!(440)247-7534
URL:https://downtownchagrinfalls.com/event/robert-craig-wine-tasting-at-chucks/
LOCATION:Chuck’s Fine Wines\, 23 Bell Street\, Chagrin Falls\, OH\, 44022\, United States
CATEGORIES:Wine Tasting
ATTACH;FMTTYPE=image/jpeg:https://downtownchagrinfalls.com/wp-content/uploads/2025/10/Chasing-Clues-2025-58.jpg
END:VEVENT
BEGIN:VEVENT
DTSTART;TZID=America/New_York:20251015T190000
DTEND;TZID=America/New_York:20251015T203000
DTSTAMP:20260420T015802
CREATED:20251009T204507Z
LAST-MODIFIED:20251009T204507Z
UID:10002845-1760554800-1760560200@downtownchagrinfalls.com
SUMMARY:Foxy Crystals: Essential Oils Class 101
DESCRIPTION:Foxy Crystals at 24 N Main Street is hosting an Essential Oils class. Learn how using essential oils can improve your day to day life.
URL:https://downtownchagrinfalls.com/event/foxy-crystals-essential-oils-class-101/
LOCATION:Foxy Crystals\, 24 N. Main Street\, Chagrin Falls\, OH\, United States
CATEGORIES:Classes
ATTACH;FMTTYPE=image/jpeg:https://downtownchagrinfalls.com/wp-content/uploads/2025/10/Chasing-Clues-2025-40.jpg
END:VEVENT
BEGIN:VEVENT
DTSTART;TZID=America/New_York:20251017T213000
DTEND;TZID=America/New_York:20251017T213000
DTSTAMP:20260420T015802
CREATED:20251009T183648Z
LAST-MODIFIED:20251009T183648Z
UID:10002641-1760736600-1760736600@downtownchagrinfalls.com
SUMMARY:At the Greenville: Reality Check
DESCRIPTION:We are the oldest tavern in the Chagrin Valley dating back to the late 1800’s. People from all walks of life can come to meet\, kick back and enjoy the warm and unique atmosphere. \nWe’ve got great local bands who perform live most weekends\, cold beers\, a full bar with your favorite liquors and spirits along with the famous chip wall which is always stocked for when you’re in the mood to snack. \nWe also have 6 big screen TV’s to catch all your favorite Cleveland sports teams\, a pool table\, Golden Tee® and Keno®!
URL:https://downtownchagrinfalls.com/event/at-the-greenville-reality-check-2/
LOCATION:Greenville Inn\, 7125 Pine Street\, Bainbridge\, OH\, 44022\, United States
CATEGORIES:Live Music
ATTACH;FMTTYPE=image/jpeg:https://downtownchagrinfalls.com/wp-content/uploads/2025/07/Greenville-Inn-Logo-2025.jpg
END:VEVENT
BEGIN:VEVENT
DTSTART;TZID=America/New_York:20251018T150000
DTEND;TZID=America/New_York:20251018T163000
DTSTAMP:20260420T015802
CREATED:20250910T181239Z
LAST-MODIFIED:20250910T181502Z
UID:10002633-1760799600-1760805000@downtownchagrinfalls.com
SUMMARY:Spirits Alive! Guided Tour of Evergreen Hill Cemetery
DESCRIPTION:There are three 30 minute time slots each day. Reserve one\, they sell out quickly! \nJoin us for our eighth annual Spirits Alive! Evergreen Hill Cemetery tour. You will be guided to several graves and meet with spirits in the cemetery who will tell you their story. While this is an annual event\, the spirits who come out to talk to you are different each year.An RSVP is required for the event\, light refreshments will be provided. The event will take place rain or shine\, no refunds will be given. This event is proudly sponsored by Murphy Funeral Home. \n  \nTickets are $15 for members\, $20 for non-members. Purchase tickets here or call 440.247.4695
URL:https://downtownchagrinfalls.com/event/spirits-alive-guided-tour-of-evergreen-hill-cemetery/2025-10-18/
LOCATION:Evergreen Cemetery
CATEGORIES:Just Fun,Theater,Tour
ATTACH;FMTTYPE=image/jpeg:https://downtownchagrinfalls.com/wp-content/uploads/2025/09/Chasing-Clues-2025-31.jpg
END:VEVENT
BEGIN:VEVENT
DTSTART;TZID=America/New_York:20251018T213000
DTEND;TZID=America/New_York:20251018T213000
DTSTAMP:20260420T015802
CREATED:20251009T183724Z
LAST-MODIFIED:20251009T183724Z
UID:10002642-1760823000-1760823000@downtownchagrinfalls.com
SUMMARY:At the Greenville: Skinny Moo
DESCRIPTION:We are the oldest tavern in the Chagrin Valley dating back to the late 1800’s. People from all walks of life can come to meet\, kick back and enjoy the warm and unique atmosphere. \nWe’ve got great local bands who perform live most weekends\, cold beers\, a full bar with your favorite liquors and spirits along with the famous chip wall which is always stocked for when you’re in the mood to snack. \nWe also have 6 big screen TV’s to catch all your favorite Cleveland sports teams\, a pool table\, Golden Tee® and Keno®!
URL:https://downtownchagrinfalls.com/event/at-the-greenville-skinny-moo-2/
LOCATION:Greenville Inn\, 7125 Pine Street\, Bainbridge\, OH\, 44022\, United States
CATEGORIES:Live Music
ATTACH;FMTTYPE=image/jpeg:https://downtownchagrinfalls.com/wp-content/uploads/2025/07/Greenville-Inn-Logo-2025.jpg
END:VEVENT
BEGIN:VEVENT
DTSTART;TZID=America/New_York:20251019T090000
DTEND;TZID=America/New_York:20251019T120000
DTSTAMP:20260420T015803
CREATED:20250718T155544Z
LAST-MODIFIED:20250718T155806Z
UID:10002483-1760864400-1760875200@downtownchagrinfalls.com
SUMMARY:North Union Farmers Market Chagrin Falls
DESCRIPTION:Located in the beautiful village of Chagrin Falls\, this market is filled with Northeast Ohio’s finest farmers.  Enjoy shopping for fresh produce on a lazy Sunday morning! \n \nChagrin Falls Market is located on at Bandstand Triangle Park from 9-12 every Sunday. You will find farms and food producers with fresh produce\, meats\, dairy\, baked goods and more. \nThe Chagrin Falls Market will remain open during bridge construction!
URL:https://downtownchagrinfalls.com/event/north-union-farmers-market-chagrin-falls/2025-10-19/
LOCATION:Chagrin Falls\, Chagrin Falls\, OH\, 44022\, United States
CATEGORIES:Farmers Market
ATTACH;FMTTYPE=image/jpeg:https://downtownchagrinfalls.com/wp-content/uploads/2025/07/Untitled-design-1.jpg
END:VEVENT
BEGIN:VEVENT
DTSTART;TZID=America/New_York:20251019T130000
DTEND;TZID=America/New_York:20251019T150000
DTSTAMP:20260420T015803
CREATED:20251009T193527Z
LAST-MODIFIED:20251009T195100Z
UID:10002837-1760878800-1760886000@downtownchagrinfalls.com
SUMMARY:Fireside Bookshop Author Event: Adrianne Crawford Fletcher
DESCRIPTION:Adrianne M. Crawford Fletcher\, author of the book Helping Hands\, Healing Hands will sign books in the shop on Sunday\, October 19th from 1-3 pm.
URL:https://downtownchagrinfalls.com/event/fireside-bookshop-author-event-sharon-campbell-2/
LOCATION:Fireside Books\, 29 North Franklin Street\, Chagrin Falls\, OH\, 44022\, United States
CATEGORIES:Book signing
ATTACH;FMTTYPE=image/jpeg:https://downtownchagrinfalls.com/wp-content/uploads/2025/10/Chasing-Clues-2025-55.jpg
END:VEVENT
BEGIN:VEVENT
DTSTART;TZID=America/New_York:20251019T150000
DTEND;TZID=America/New_York:20251019T163000
DTSTAMP:20260420T015803
CREATED:20250910T181239Z
LAST-MODIFIED:20250910T181502Z
UID:10002634-1760886000-1760891400@downtownchagrinfalls.com
SUMMARY:Spirits Alive! Guided Tour of Evergreen Hill Cemetery
DESCRIPTION:There are three 30 minute time slots each day. Reserve one\, they sell out quickly! \nJoin us for our eighth annual Spirits Alive! Evergreen Hill Cemetery tour. You will be guided to several graves and meet with spirits in the cemetery who will tell you their story. While this is an annual event\, the spirits who come out to talk to you are different each year.An RSVP is required for the event\, light refreshments will be provided. The event will take place rain or shine\, no refunds will be given. This event is proudly sponsored by Murphy Funeral Home. \n  \nTickets are $15 for members\, $20 for non-members. Purchase tickets here or call 440.247.4695
URL:https://downtownchagrinfalls.com/event/spirits-alive-guided-tour-of-evergreen-hill-cemetery/2025-10-19/
LOCATION:Evergreen Cemetery
CATEGORIES:Just Fun,Theater,Tour
ATTACH;FMTTYPE=image/jpeg:https://downtownchagrinfalls.com/wp-content/uploads/2025/09/Chasing-Clues-2025-31.jpg
END:VEVENT
END:VCALENDAR