BEGIN:VCALENDAR
VERSION:2.0
PRODID:-//Downtown Chagrin Falls - ECPv6.15.13.1//NONSGML v1.0//EN
CALSCALE:GREGORIAN
METHOD:PUBLISH
X-WR-CALNAME:Downtown Chagrin Falls
X-ORIGINAL-URL:https://downtownchagrinfalls.com
X-WR-CALDESC:Events for Downtown Chagrin Falls
REFRESH-INTERVAL;VALUE=DURATION:PT1H
X-Robots-Tag:noindex
X-PUBLISHED-TTL:PT1H
BEGIN:VTIMEZONE
TZID:America/New_York
BEGIN:DAYLIGHT
TZOFFSETFROM:-0500
TZOFFSETTO:-0400
TZNAME:EDT
DTSTART:20240310T070000
END:DAYLIGHT
BEGIN:STANDARD
TZOFFSETFROM:-0400
TZOFFSETTO:-0500
TZNAME:EST
DTSTART:20241103T060000
END:STANDARD
BEGIN:DAYLIGHT
TZOFFSETFROM:-0500
TZOFFSETTO:-0400
TZNAME:EDT
DTSTART:20250309T070000
END:DAYLIGHT
BEGIN:STANDARD
TZOFFSETFROM:-0400
TZOFFSETTO:-0500
TZNAME:EST
DTSTART:20251102T060000
END:STANDARD
BEGIN:DAYLIGHT
TZOFFSETFROM:-0500
TZOFFSETTO:-0400
TZNAME:EDT
DTSTART:20260308T070000
END:DAYLIGHT
BEGIN:STANDARD
TZOFFSETFROM:-0400
TZOFFSETTO:-0500
TZNAME:EST
DTSTART:20261101T060000
END:STANDARD
END:VTIMEZONE
BEGIN:VEVENT
DTSTART;TZID=America/New_York:20250930T100000
DTEND;TZID=America/New_York:20250930T110000
DTSTAMP:20260419T203202
CREATED:20250910T175417Z
LAST-MODIFIED:20250910T175417Z
UID:10002628-1759226400-1759230000@downtownchagrinfalls.com
SUMMARY:Walking Club - Adults
DESCRIPTION:University Hospitals Ahuja Medical Center and the Chagrin Falls Library encourage you to join our Walking Club to get your body moving and enjoy open discussion on a health and wellness topics.
URL:https://downtownchagrinfalls.com/event/walking-club-adults/2025-09-30/
LOCATION:Chagrin Falls Public Library\, 100 East Orange Street\, Chagrin Falls\, OH\, 44022\, United States
CATEGORIES:Fitness
ATTACH;FMTTYPE=image/jpeg:https://downtownchagrinfalls.com/wp-content/uploads/2025/09/qtq80-ganyAd.jpeg
END:VEVENT
BEGIN:VEVENT
DTSTART;TZID=America/New_York:20250930T180000
DTEND;TZID=America/New_York:20250930T193000
DTSTAMP:20260419T203202
CREATED:20250905T185837Z
LAST-MODIFIED:20250905T185837Z
UID:10002593-1759255200-1759260600@downtownchagrinfalls.com
SUMMARY:Fireside Book Club: West with Giraffes
DESCRIPTION:Join us on Tuesday\, September 30th to discuss the book West with Giraffes by Lynda Rutledge. Book club is free and open to the public. All are welcome!
URL:https://downtownchagrinfalls.com/event/fireside-book-club-west-with-giraffes/
LOCATION:Fireside Books\, 29 North Franklin Street\, Chagrin Falls\, OH\, 44022\, United States
CATEGORIES:Book Club
ATTACH;FMTTYPE=image/jpeg:https://downtownchagrinfalls.com/wp-content/uploads/2025/09/Chasing-Clues-2025-21.jpg
END:VEVENT
BEGIN:VEVENT
DTSTART;TZID=America/New_York:20251003T193000
DTEND;TZID=America/New_York:20251003T220000
DTSTAMP:20260419T203202
CREATED:20250908T170747Z
LAST-MODIFIED:20250908T170747Z
UID:10002611-1759519800-1759528800@downtownchagrinfalls.com
SUMMARY:Puffs Or: Seven Increasingly Eventful Years At A Certain School of Magic and Magic
DESCRIPTION:For seven years a certain boy wizard went to a certain Wizard School and conquered evil. This\, however\, is not his story. This is the story of the Puffs… who just happened to be there too. A tale for anyone who has never been destined to save the world. \nThe New York Times proclaims Puffs “A fast-paced romp through the ‘Seven Increasingly Eventful Years at a Certain School of Magic and Magic.’ For Potterphiliacs who grew up alongside Potter and are eager to revisit that world\, Puffs exudes a jovial\, winking fondness for all things Harry!” \nThis clever and inventive play “never goes more than a minute without a laugh” (Nerdist) giving you a new look at a familiar adventure from the perspective of three potential heroes just trying to make it through a magic school that proves to be very dangerous for children. Alongside them are the Puffs\, a group of well-meaning\, loyal outsiders with a thing for badgers “who are so lovable and relatable\, you’ll leave the theater wishing they were in the stories all along” (Hollywood Life). Their “hilariously heartfelt!” (Metro) and epic journey takes the classic story to new places and reimagines what a boy wizard hero can be. \nDirector – DANIEL HUNSICKER\nProducers – NANCY ROGOFF & CINDEE CATALANO-EDELMAN\nStage Manager – EMILY LYNCH\nCostumer – ALEX PETSCHE\nSet & Sound Design – DANIEL HUNSICKER\nTechnical Coordinator & Set Construction – STEVEN M. SAVANYU\nLighting Design – MARCUS DANA \nSTARRING \nWayne Hopkins – VICTOR BERNARDO\nOliver Rivers – CLAY HOFFNER\nMegan Jones – ANNA POPA\nNarrator – VICTORIA KIRGESNER\nJ. Finch Fletchley – CAMERON SILER\nCedric/Voldy – CHRISTIAN ACHKAR\nLeanne – KATIE HINTZE\nSusie Bones – BEKAH NEUBECKER\nSally Perks – APRIL NEEDHAM\nErnie Mac – CASEY McCANN\nHannah – TARA CORKERY \nPuffs is not authorized\, sanctioned\, licensed or endorsed by J.K Rowling\, Warner Bros. or any person or company associated with the Harry Potter books\, films or play. \n“Puffs (Two Act Edition)” is presented by arrangement with Concord Theatricals on behalf of Samuel French\, Inc www.concordtheatricals.com
URL:https://downtownchagrinfalls.com/event/puffs-or-seven-increasingly-eventful-years-at-a-certain-school-of-magic-and-magic/2025-10-03/
LOCATION:Chagrin Valley Little Theatre\, 40 River Street\, Chagrin Falls\, OH\, 44022\, United States
CATEGORIES:Comedy,Theater
ATTACH;FMTTYPE=image/jpeg:https://downtownchagrinfalls.com/wp-content/uploads/2025/09/Puffs-Landscape-1024x536-1.jpeg
ORGANIZER;CN="Chagrin Valley Little Theatre":MAILTO:cvlt@cvlt.org
END:VEVENT
BEGIN:VEVENT
DTSTART;TZID=America/New_York:20251004T090000
DTEND;TZID=America/New_York:20251004T120000
DTSTAMP:20260419T203202
CREATED:20250718T155044Z
LAST-MODIFIED:20250718T155044Z
UID:10002461-1759568400-1759579200@downtownchagrinfalls.com
SUMMARY:Geauga Fresh Farmers Market
DESCRIPTION:It’s our 21st season!  We are ready to showcase our areas finest farmers\, bakers\, makers & artisans to YOU!  Depending on the month\, we celebrate the bounty of our harvests.  Our calendars are getting full with Blueberry Day\, Kid’s Market\, Tomato Day\, Corn Day & Fall Harvest Day!  Stop by for a longstanding community market\, we look forward to serving you.\n\nStarted in 2002 the Geauga Fresh Farmers’ Market is producer-only farmers’ market operating year round in Geauga County. The market is board run\, which includes community members & vendors.  We strive to provide you with fresh\, local and real products made or grown by people you can actually talk to.\n\n \nThe purpose of the Geauga Fresh Market is to provide local farmers with a means to sell their produce or value added products directly to consumers\, and to afford consumers the opportunity to buy fresh\, locally grown food. A market that allows farmers to sell directly to consumers will help to support a farm economy in Geauga County. Increasing the profitability of local farms will enable more farms to continue to operate rather than to be lost to development. By promoting the preservation of farmland in Geauga County\, the rural character of the county will remain for all to enjoy. \n \nBy bringing the freshest Geauga County produce and locally made products to the consumer on a weekly basis the Market will encourage customers to value and understand the benefits of supporting our local agricultural economy. The market aims at educating consumers by reconnecting them with their food and where it comes from\, by providing them with higher quality\, more variety and a sense of seasonality. \n \n2025 Geauga Fresh Farmers’ Market Board:\nBryan Briggs\, BB Farms (Vice President)\nKelli Hanley Potts\, Cleveland Field Kitchen\nTiffany O’Neill\, Bainbridge Blooms (Secretary)\nMichael Pizmoht\, Sherwin Williams (Treasurer)\nJacque Thompson\, Wildroots Within (President)\nKarin Wright\, Wright Family Farms\n \nMarket Manager:\nTiffany Mushrush Mentzer\, Harvest Bell Farm\n \nVolunteer Village Representative:\nMayor Bill Koons\, South Russell Village Rep.
URL:https://downtownchagrinfalls.com/event/geauga-fresh-farmers-market/2025-10-04/
LOCATION:5205 Chillicothe Road\, South Russell\, OH\, 5205 Chillicothe Road\, South Russell\, OH\, 44022\, United States
CATEGORIES:Farmers Market
ATTACH;FMTTYPE=image/webp:https://downtownchagrinfalls.com/wp-content/uploads/2023/09/Geauga_Fresh_Logo_2022_1200x.webp
ORGANIZER;CN="Geauga Fresh Farmers Market":MAILTO:geaugaffm@gmail.com
END:VEVENT
BEGIN:VEVENT
DTSTART;TZID=America/New_York:20251004T100000
DTEND;TZID=America/New_York:20251004T150000
DTSTAMP:20260419T203202
CREATED:20250905T190814Z
LAST-MODIFIED:20250905T190814Z
UID:10002594-1759572000-1759590000@downtownchagrinfalls.com
SUMMARY:Creations Craft Fair
DESCRIPTION:Children’s Guild of Cleveland presents Creations \nOur 81st Creative Fundraiser! \nGet your holiday shopping and decorating done early this year – and don’t forget the Hostess Gifts and Stocking Stuffers. \nBuy a Creation\, Help a child! \n 
URL:https://downtownchagrinfalls.com/event/creations-craft-fair/
LOCATION:Family Life Center\, 16349 Chillicothe Road (Route 306)\, Chagrin Falls\, OH\, 44023\, United States
CATEGORIES:Crafts,Fundraiser
ATTACH;FMTTYPE=image/jpeg:https://downtownchagrinfalls.com/wp-content/uploads/2025/09/Chasing-Clues-2025-22.jpg
ORGANIZER;CN="Children's Guild of Cleveland":MAILTO:info@childrensguildcleveland.org
END:VEVENT
BEGIN:VEVENT
DTSTART;TZID=America/New_York:20251004T173000
DTEND;TZID=America/New_York:20251004T173000
DTSTAMP:20260419T203202
CREATED:20250814T151141Z
LAST-MODIFIED:20250814T151141Z
UID:10002549-1759599000-1759599000@downtownchagrinfalls.com
SUMMARY:Heritage Gala: A Night to Remember
DESCRIPTION:SAVE THE DATE\nChagrin History Center presents our annual gala\, Heritage Gala: A Night to Remember on Saturday October 4 at the newly refurbished Tanglewood Club! Join us as we celebrate the preservation of Chagrin history and raise funds for Chagrin History Center. The event includes the return of the wonderful Swamp Boogie Band\, raffles\, auctions\, and more! This is a ticketed event\, stay tuned for more information on price and event details.
URL:https://downtownchagrinfalls.com/event/heritage-gala-a-night-to-remember/
LOCATION:Tanglewood Country Club\, 8745 Tanglewood Trail\, Bainbridge\, OH\, 44023\, United States
CATEGORIES:Fundraiser,History,Live Music
ATTACH;FMTTYPE=image/jpeg:https://downtownchagrinfalls.com/wp-content/uploads/2025/08/516602793_1145519020947389_532615217617718423_n.jpg
END:VEVENT
BEGIN:VEVENT
DTSTART;TZID=America/New_York:20251004T190000
DTEND;TZID=America/New_York:20251004T230000
DTSTAMP:20260419T203202
CREATED:20250829T150541Z
LAST-MODIFIED:20250829T150758Z
UID:10002581-1759604400-1759618800@downtownchagrinfalls.com
SUMMARY:Bainbridge Swing Dance
DESCRIPTION:A different live band performs at the Bainbridge Swing Dance the first Saturday of every month at Family Life Center (16349 Chillicothe Road\, Chagrin Falls\, OH 44023). Doors open at 6:30pm. Lesson at 7pm. Swing dance and live music 8-10pm. Plus Electro Swing with curated recorded playlist 10-11pm. \nSeptember 6th: Dr. Zoot plays live at the Bainbridge Swing Dance. Dr. Zoot performs in theaters\, clubs\, dance halls and festivals.  Since the band formed in early 1998 their popularity has been growing rapidly nationally and internationally. Their original tunes have been featured on many major CD compilations and have been placed in several TV and film scores.  Dr. Zoot’s distinctive sound maintains a contemporary feel while reaching back across the years to link with the greats who have come before them.  For more information and sound bites visit http://www.drzoot.com/. \n\nOctober 4th: Radio Rhythm IDOLS play live at the Bainbridge Swing Dance on Saturday the 4th of October 2025. Led by Paul Kovac and Carrie King\, the Radio Rhythm IDOLS draw their swing inspiration from the east – west – south – & north (actually not north so much).  Their sets include American songbook standards\, west-coast rock-a-billy\, pre-rock & roll R&B\, east & western swing\, all selected to make you want to dance.  The RRI will include up and coming star\, Cory Grinder\, a tall drink of water with a lot to say\, musically speaking.  Lace ‘em up & join us\, won’t you. \nNovember 1st: Rachel and the Beatnik Playboys are playing live at the Bainbridge Swing Dance. Based out of Cleveland\, Ohio\, Rachel Brown and the Beatnik Playboys consistently carry their audience away with powerful imagery and strong musical backgrounds. They embrace and explore many Americana styles and combine them into a soulful\, powerful sound. With original compositions and their own unique channeling of classics\, Rachel and the Beatnik Playboys are blazing new trails into the music world. To learn more about them visit https://rachelbps.com. \nDecember 6th:  Blue Lunch plays live at 8pm\, followed by Electro Swing at 10pm at the Family Life Center (16349 Chillicothe Road; Chagrin Falls\, OH 44023). Blue Lunch is a nine-piece band with a three-piece horn section.  It is unique in its use of multiple vocalists and harmony vocals. Producing an eclectic mix of swing\, blues\, soul\, jazz\, and New Orleans style rhythm and blues. Their combination of outstanding musicianship\, showmanship\, and humor\, has kept dance floors filled and audiences entertained.  For over 40 years\, Blue Lunch has been playing at festivals\, clubs\, private events\, and a variety of outdoor venues throughout the upper midwest. They have regularly entertained swing dancers in Northeast Ohio\, Pittsburgh\, Columbus\, and elsewhere. “Saxophone Shootout\, Live at Nighttown”\, one of eight albums produced by Blue Lunch\, placed in the top five Best Self-Produced CDs in the International Blues Challenge in Memphis. Learn more about Blue Lunch at http://www.bluelunch.com. \n\n\n \n \nAdmission (cash or personal check\, we do not yet accept credit cards): \n$10 per child (12 years and under) \n$20 per person (13+ years) \n$50 per family (up to 2 parents and minor children in same household) \n \nExperienced and non-experienced dancers are welcome. This public\, family-friendly event is open to all ages. No partner is required for the lesson (7-8pm) or the dances (8-11pm). No registration needed. For additional information visit www.WillCraigDance.com. \n\n\n\n\n\n\nLesson    7:00 – 8:00pm \nSwing Dance    8:00 – 10:00pm \nPLUS Electro Swing    10:00 – 11:00pm \n\n\nPlus Electro Swing – Electro Swing aka “swing house\, is an electronic dance music genre that combines the influence of vintage or modern swing and jazz mixed with house and hip hop . . .  A modern and dance-floor focused sound that is more readily accessible to the modern ear (Wikipedia).” There  will be more intense lighting\, including black lights\, strobes and lasers.  Featuring a curated playlist of recorded Electro Swing music. \n\n\n  \n\nF.A.Q. \n\n\n\n\n\n\n\n\n\n\n\nOur Policy and Standard Statement\n\n\nWe work together to create a friendly and welcoming community of new and experienced dancers\, showing kindness and consideration.  We help each other feel safe and comfortable.  We respect each others’ personal space and boundaries\, even when it is different from our own.  We believe in mutual communication and consent.  We welcome all who share our commitment to uphold these principles.  We also like feedback and smiles.  Thanks for dancing with us. \n\n\n\n\n\n\n\n\n\n\nI don’t have a partner to dance with.  Will I be able to dance?\n\n\nYes!  There are many people who attend our dances that do not arrive with a partner.  Will Craig\, his team and his regular dancers do a fantastic job of creating a welcoming atmosphere.  We highly recommend that you come to the lesson\, that generally starts about an hour before the live music and dance.  During the lesson\, partners are rotated and it gives people an opportunity to meet new faces.  Don’t be shy in asking others to dance with you through the course of the evening.  Dancing with a variety of people also helps you learn and hone dance moves. \n\n\n\n\n\n\n\n\n\n\nI don’t have dance shoes what should I wear?\n\n\nSoft soled shoes that are slick are considered the best for dancing.  They give you the ability to easily turn\, change direction and pivot in dance moves.  Wear something comfortable.  Additionally\, a little tip\, some type of sock or nylon between your foot and shoe will help prevent blisters.  Shoes\, that grip\, such as sneakers\, hiking boots\, etc. are the worst.  Your feet tend to stick to the dance floor and hinder you from fluid motions.  Please try to avoid soles that will streak or mar the dance floor. \n\n\n\n\n\n\n\n\n\n\nDo you allow arial moves at your dances?\n\n\nNo!  Due to liability\, etc. arial moves are strongly prohibited at our dances.  Please keep your feet (and others’ feet) on the ground. \n\n\n\n\n\n\n\n\n\n\nI left something at the dance.  Is there a lost and found?\n\n\nIf you have left something at the dance\, your best bet is to contact the dance hall.  If you have trouble connecting with someone at the venue\, send us an email (info@willcraigproductions.com) and let us know what you left behind.  We will try to locate it for you. \n\n\n\n\n\n\n\n\n\n\nTobacco and Alcohol Policy\n\n\nNo smoking is allowed in the building.  Alcohol is not sold at the dance. \n\n\n\n\n\n\n\n\n\n\nIllness Policy\n\n\nIf you have a runny nose\, cough\, fever\, or don’t feel well\, please stay home. \nDance partner rotation not required.
URL:https://downtownchagrinfalls.com/event/bainbridge-swing-dance-2/2025-10-04/
LOCATION:Family Life Center\, 16349 Chillicothe Road (Route 306)\, Chagrin Falls\, OH\, 44023\, United States
CATEGORIES:Classes,Dancing,Just Fun,Live Music
ATTACH;FMTTYPE=image/jpeg:https://downtownchagrinfalls.com/wp-content/uploads/2025/08/qtq80-MtTR1J.jpeg
ORGANIZER;CN="Will Craig Productions":MAILTO:info@willcraigproductions.com
END:VEVENT
BEGIN:VEVENT
DTSTART;TZID=America/New_York:20251004T193000
DTEND;TZID=America/New_York:20251004T220000
DTSTAMP:20260419T203202
CREATED:20250908T170747Z
LAST-MODIFIED:20250908T170747Z
UID:10002612-1759606200-1759615200@downtownchagrinfalls.com
SUMMARY:Puffs Or: Seven Increasingly Eventful Years At A Certain School of Magic and Magic
DESCRIPTION:For seven years a certain boy wizard went to a certain Wizard School and conquered evil. This\, however\, is not his story. This is the story of the Puffs… who just happened to be there too. A tale for anyone who has never been destined to save the world. \nThe New York Times proclaims Puffs “A fast-paced romp through the ‘Seven Increasingly Eventful Years at a Certain School of Magic and Magic.’ For Potterphiliacs who grew up alongside Potter and are eager to revisit that world\, Puffs exudes a jovial\, winking fondness for all things Harry!” \nThis clever and inventive play “never goes more than a minute without a laugh” (Nerdist) giving you a new look at a familiar adventure from the perspective of three potential heroes just trying to make it through a magic school that proves to be very dangerous for children. Alongside them are the Puffs\, a group of well-meaning\, loyal outsiders with a thing for badgers “who are so lovable and relatable\, you’ll leave the theater wishing they were in the stories all along” (Hollywood Life). Their “hilariously heartfelt!” (Metro) and epic journey takes the classic story to new places and reimagines what a boy wizard hero can be. \nDirector – DANIEL HUNSICKER\nProducers – NANCY ROGOFF & CINDEE CATALANO-EDELMAN\nStage Manager – EMILY LYNCH\nCostumer – ALEX PETSCHE\nSet & Sound Design – DANIEL HUNSICKER\nTechnical Coordinator & Set Construction – STEVEN M. SAVANYU\nLighting Design – MARCUS DANA \nSTARRING \nWayne Hopkins – VICTOR BERNARDO\nOliver Rivers – CLAY HOFFNER\nMegan Jones – ANNA POPA\nNarrator – VICTORIA KIRGESNER\nJ. Finch Fletchley – CAMERON SILER\nCedric/Voldy – CHRISTIAN ACHKAR\nLeanne – KATIE HINTZE\nSusie Bones – BEKAH NEUBECKER\nSally Perks – APRIL NEEDHAM\nErnie Mac – CASEY McCANN\nHannah – TARA CORKERY \nPuffs is not authorized\, sanctioned\, licensed or endorsed by J.K Rowling\, Warner Bros. or any person or company associated with the Harry Potter books\, films or play. \n“Puffs (Two Act Edition)” is presented by arrangement with Concord Theatricals on behalf of Samuel French\, Inc www.concordtheatricals.com
URL:https://downtownchagrinfalls.com/event/puffs-or-seven-increasingly-eventful-years-at-a-certain-school-of-magic-and-magic/2025-10-04/
LOCATION:Chagrin Valley Little Theatre\, 40 River Street\, Chagrin Falls\, OH\, 44022\, United States
CATEGORIES:Comedy,Theater
ATTACH;FMTTYPE=image/jpeg:https://downtownchagrinfalls.com/wp-content/uploads/2025/09/Puffs-Landscape-1024x536-1.jpeg
ORGANIZER;CN="Chagrin Valley Little Theatre":MAILTO:cvlt@cvlt.org
END:VEVENT
BEGIN:VEVENT
DTSTART;TZID=America/New_York:20251005T090000
DTEND;TZID=America/New_York:20251005T120000
DTSTAMP:20260419T203202
CREATED:20250718T155544Z
LAST-MODIFIED:20250718T155806Z
UID:10002481-1759654800-1759665600@downtownchagrinfalls.com
SUMMARY:North Union Farmers Market Chagrin Falls
DESCRIPTION:Located in the beautiful village of Chagrin Falls\, this market is filled with Northeast Ohio’s finest farmers.  Enjoy shopping for fresh produce on a lazy Sunday morning! \n \nChagrin Falls Market is located on at Bandstand Triangle Park from 9-12 every Sunday. You will find farms and food producers with fresh produce\, meats\, dairy\, baked goods and more. \nThe Chagrin Falls Market will remain open during bridge construction!
URL:https://downtownchagrinfalls.com/event/north-union-farmers-market-chagrin-falls/2025-10-05/
LOCATION:Chagrin Falls\, Chagrin Falls\, OH\, 44022\, United States
CATEGORIES:Farmers Market
ATTACH;FMTTYPE=image/jpeg:https://downtownchagrinfalls.com/wp-content/uploads/2025/07/Untitled-design-1.jpg
END:VEVENT
BEGIN:VEVENT
DTSTART;TZID=America/New_York:20251005T130000
DTEND;TZID=America/New_York:20251005T170000
DTSTAMP:20260419T203202
CREATED:20250828T175303Z
LAST-MODIFIED:20250828T175303Z
UID:10002579-1759669200-1759683600@downtownchagrinfalls.com
SUMMARY:South Russell Fall Festival
DESCRIPTION:The South Russell Fall Festival will take place on Sunday October 5th from 1 -5 pm.  Food trucks and family entertainment are being planned.  Watch the linked website for more details!
URL:https://downtownchagrinfalls.com/event/south-russell-fall-festival/
LOCATION:South Russell Park\, 1000 Bell Road\, South Russell\, OH\, 44022\, United States
ATTACH;FMTTYPE=image/jpeg:https://downtownchagrinfalls.com/wp-content/uploads/2025/08/qtq80-hBy9EX.jpeg
END:VEVENT
BEGIN:VEVENT
DTSTART;TZID=America/New_York:20251005T140000
DTEND;TZID=America/New_York:20251005T170000
DTSTAMP:20260419T203202
CREATED:20250908T170747Z
LAST-MODIFIED:20250908T170747Z
UID:10002613-1759672800-1759683600@downtownchagrinfalls.com
SUMMARY:Puffs Or: Seven Increasingly Eventful Years At A Certain School of Magic and Magic
DESCRIPTION:For seven years a certain boy wizard went to a certain Wizard School and conquered evil. This\, however\, is not his story. This is the story of the Puffs… who just happened to be there too. A tale for anyone who has never been destined to save the world. \nThe New York Times proclaims Puffs “A fast-paced romp through the ‘Seven Increasingly Eventful Years at a Certain School of Magic and Magic.’ For Potterphiliacs who grew up alongside Potter and are eager to revisit that world\, Puffs exudes a jovial\, winking fondness for all things Harry!” \nThis clever and inventive play “never goes more than a minute without a laugh” (Nerdist) giving you a new look at a familiar adventure from the perspective of three potential heroes just trying to make it through a magic school that proves to be very dangerous for children. Alongside them are the Puffs\, a group of well-meaning\, loyal outsiders with a thing for badgers “who are so lovable and relatable\, you’ll leave the theater wishing they were in the stories all along” (Hollywood Life). Their “hilariously heartfelt!” (Metro) and epic journey takes the classic story to new places and reimagines what a boy wizard hero can be. \nDirector – DANIEL HUNSICKER\nProducers – NANCY ROGOFF & CINDEE CATALANO-EDELMAN\nStage Manager – EMILY LYNCH\nCostumer – ALEX PETSCHE\nSet & Sound Design – DANIEL HUNSICKER\nTechnical Coordinator & Set Construction – STEVEN M. SAVANYU\nLighting Design – MARCUS DANA \nSTARRING \nWayne Hopkins – VICTOR BERNARDO\nOliver Rivers – CLAY HOFFNER\nMegan Jones – ANNA POPA\nNarrator – VICTORIA KIRGESNER\nJ. Finch Fletchley – CAMERON SILER\nCedric/Voldy – CHRISTIAN ACHKAR\nLeanne – KATIE HINTZE\nSusie Bones – BEKAH NEUBECKER\nSally Perks – APRIL NEEDHAM\nErnie Mac – CASEY McCANN\nHannah – TARA CORKERY \nPuffs is not authorized\, sanctioned\, licensed or endorsed by J.K Rowling\, Warner Bros. or any person or company associated with the Harry Potter books\, films or play. \n“Puffs (Two Act Edition)” is presented by arrangement with Concord Theatricals on behalf of Samuel French\, Inc www.concordtheatricals.com
URL:https://downtownchagrinfalls.com/event/puffs-or-seven-increasingly-eventful-years-at-a-certain-school-of-magic-and-magic/2025-10-05/
LOCATION:Chagrin Valley Little Theatre\, 40 River Street\, Chagrin Falls\, OH\, 44022\, United States
CATEGORIES:Comedy,Theater
ATTACH;FMTTYPE=image/jpeg:https://downtownchagrinfalls.com/wp-content/uploads/2025/09/Puffs-Landscape-1024x536-1.jpeg
ORGANIZER;CN="Chagrin Valley Little Theatre":MAILTO:cvlt@cvlt.org
END:VEVENT
END:VCALENDAR