BEGIN:VCALENDAR
VERSION:2.0
PRODID:-//Downtown Chagrin Falls - ECPv6.15.13.1//NONSGML v1.0//EN
CALSCALE:GREGORIAN
METHOD:PUBLISH
X-ORIGINAL-URL:https://downtownchagrinfalls.com
X-WR-CALDESC:Events for Downtown Chagrin Falls
REFRESH-INTERVAL;VALUE=DURATION:PT1H
X-Robots-Tag:noindex
X-PUBLISHED-TTL:PT1H
BEGIN:VTIMEZONE
TZID:America/New_York
BEGIN:DAYLIGHT
TZOFFSETFROM:-0500
TZOFFSETTO:-0400
TZNAME:EDT
DTSTART:20240310T070000
END:DAYLIGHT
BEGIN:STANDARD
TZOFFSETFROM:-0400
TZOFFSETTO:-0500
TZNAME:EST
DTSTART:20241103T060000
END:STANDARD
BEGIN:DAYLIGHT
TZOFFSETFROM:-0500
TZOFFSETTO:-0400
TZNAME:EDT
DTSTART:20250309T070000
END:DAYLIGHT
BEGIN:STANDARD
TZOFFSETFROM:-0400
TZOFFSETTO:-0500
TZNAME:EST
DTSTART:20251102T060000
END:STANDARD
BEGIN:DAYLIGHT
TZOFFSETFROM:-0500
TZOFFSETTO:-0400
TZNAME:EDT
DTSTART:20260308T070000
END:DAYLIGHT
BEGIN:STANDARD
TZOFFSETFROM:-0400
TZOFFSETTO:-0500
TZNAME:EST
DTSTART:20261101T060000
END:STANDARD
END:VTIMEZONE
BEGIN:VEVENT
DTSTART;VALUE=DATE:20250923
DTEND;VALUE=DATE:20250925
DTSTAMP:20260419T185238
CREATED:20250905T183516Z
LAST-MODIFIED:20250905T183516Z
UID:10002586-1758592800-1758679199@downtownchagrinfalls.com
SUMMARY:Autumn Kickoff Party at Sage & Honey
DESCRIPTION:September 23rd\, All Day! Have you heard we’re so excited for Autumn? We are celebrating all day! We will be playing Gilmore Girls on the projector all day in our event room. A nature scavenger hunt around the store for kids\, hot apple cider\, cookie decorating\, a complementary Autumn reading goals bookmark\, and so much more.
URL:https://downtownchagrinfalls.com/event/autumn-kickoff-party-at-sage-honey/
LOCATION:Sage & Honey\, 10 E. Washington Street\, Chagrin Falls\, OH\, 44022\, United States
CATEGORIES:Community,Crafts,Just Fun
ATTACH;FMTTYPE=image/jpeg:https://downtownchagrinfalls.com/wp-content/uploads/2025/09/qtq80-MxNtct.jpeg
END:VEVENT
BEGIN:VEVENT
DTSTART;TZID=America/New_York:20250923T100000
DTEND;TZID=America/New_York:20250923T110000
DTSTAMP:20260419T185238
CREATED:20250910T175417Z
LAST-MODIFIED:20250910T175417Z
UID:10002627-1758621600-1758625200@downtownchagrinfalls.com
SUMMARY:Walking Club - Adults
DESCRIPTION:University Hospitals Ahuja Medical Center and the Chagrin Falls Library encourage you to join our Walking Club to get your body moving and enjoy open discussion on a health and wellness topics.
URL:https://downtownchagrinfalls.com/event/walking-club-adults/2025-09-23/
LOCATION:Chagrin Falls Public Library\, 100 East Orange Street\, Chagrin Falls\, OH\, 44022\, United States
CATEGORIES:Fitness
ATTACH;FMTTYPE=image/jpeg:https://downtownchagrinfalls.com/wp-content/uploads/2025/09/qtq80-ganyAd.jpeg
END:VEVENT
BEGIN:VEVENT
DTSTART;TZID=America/New_York:20250923T140000
DTEND;TZID=America/New_York:20250923T150000
DTSTAMP:20260419T185238
CREATED:20250910T180804Z
LAST-MODIFIED:20250910T180804Z
UID:10002630-1758636000-1758639600@downtownchagrinfalls.com
SUMMARY:Tuesday Afternoon Book Discussion
DESCRIPTION:9/23 The Handmaid’s Tale\, by Margaret Atwood;\n10/28 Becoming Madam Secretary\, by Stephanie Dray;\n11/25 Memorial Days\, by Geraldine Brooks\n 
URL:https://downtownchagrinfalls.com/event/tuesday-afternoon-book-discussion/2025-09-23/
LOCATION:Chagrin Falls Public Library\, 100 East Orange Street\, Chagrin Falls\, OH\, 44022\, United States
CATEGORIES:Book Club
ATTACH;FMTTYPE=image/jpeg:https://downtownchagrinfalls.com/wp-content/uploads/2025/09/Chasing-Clues-2025-30.jpg
END:VEVENT
BEGIN:VEVENT
DTSTART;TZID=America/New_York:20250924T170000
DTEND;TZID=America/New_York:20250924T190000
DTSTAMP:20260419T185238
CREATED:20250814T145013Z
LAST-MODIFIED:20250814T145013Z
UID:10002541-1758733200-1758740400@downtownchagrinfalls.com
SUMMARY:Clothing Repair Cafe with Jam and Tea
DESCRIPTION:Lost a button? Broken zipper? Want to make simple alterations to your clothing or creatively mend holes? Join us once a month starting June 18th 5-7pm at Kelly’s Working Well Farm. Bring a clothing item to repair or upcycle and enjoy customizing your wardrobe. There will be KWWF jam to sample along with tea and fizzy drinks made with herbs and fruit from the farm.
URL:https://downtownchagrinfalls.com/event/clothing-repair-cafe-with-jam-and-tea/
LOCATION:Kelly’s Working Well Farm\, 16519 S. Franklin Street\, Chagrin Falls\, OH\, 44023\, United States
CATEGORIES:Crafts
ATTACH;FMTTYPE=image/jpeg:https://downtownchagrinfalls.com/wp-content/uploads/2025/08/Chasing-Clues-2025-11.jpg
END:VEVENT
BEGIN:VEVENT
DTSTART;TZID=America/New_York:20250924T180000
DTEND;TZID=America/New_York:20250924T200000
DTSTAMP:20260419T185238
CREATED:20250905T183833Z
LAST-MODIFIED:20250905T183833Z
UID:10002587-1758736800-1758744000@downtownchagrinfalls.com
SUMMARY:Open Mic/Poetry Reading Night at Sage & Honey
DESCRIPTION:You all have been asking for it\, and it is finally here! We are so excited to be hosting our Open Mic/Poetry Reading Night with local music therapist Natalia Leslie. The event will be from 6:00-8:00 PM. \nWe will put out our sign-up sheet for the night on the day of\, at 4:00 pm. Each time slot will be 5 minutes long. You are more than welcome to come in anytime and pick your time slot. \nPlease RSVP below on if you are performing or just coming to listen to some local artists and poets. We can’t wait to hear everyone’s art! \nIf you have any questions or problems signing up\, please email us at info@sage-honey.com
URL:https://downtownchagrinfalls.com/event/open-mic-poetry-reading-night-at-sage-honey/
LOCATION:Sage & Honey\, 10 E. Washington Street\, Chagrin Falls\, OH\, 44022\, United States
CATEGORIES:Open Mic Night
ATTACH;FMTTYPE=image/jpeg:https://downtownchagrinfalls.com/wp-content/uploads/2025/09/Chasing-Clues-2025-19.jpg
END:VEVENT
BEGIN:VEVENT
DTSTART;TZID=America/New_York:20250925T180000
DTEND;TZID=America/New_York:20250925T220000
DTSTAMP:20260419T185238
CREATED:20250807T164547Z
LAST-MODIFIED:20250905T201247Z
UID:10002604-1758823200-1758837600@downtownchagrinfalls.com
SUMMARY:Open Mic Night at M Bevy
DESCRIPTION:Join us every Thursday from 6-10pm for a free\, welcoming open mic night on M Bevy’s outdoor patio! Musicians of all levels are invited to share their talents in a casual\, supportive atmosphere that encourages collaboration. This family and dog-friendly event operates on a first-come\, first-served basis\, so arrive early to sign up. The evening culminates with a community jam session where everyone can join in. Located at M Bevy\, 87 West St\, Chagrin Falls. For more information\, contact host Colleen Welsch.
URL:https://downtownchagrinfalls.com/event/open-mic-night-at-m-bevy/2025-09-25/
LOCATION:M Bevy\, 87 West Street\, Chagrin Falls\, OH\, 44022\, United States
CATEGORIES:Just Fun,Live Music,Open Mic Night
ATTACH;FMTTYPE=image/jpeg:https://downtownchagrinfalls.com/wp-content/uploads/2025/08/qtq80-t4kjZA.jpeg
ORGANIZER;CN="M Bevy":MAILTO:chagrin@mbevy.com
END:VEVENT
BEGIN:VEVENT
DTSTART;TZID=America/New_York:20250926T193000
DTEND;TZID=America/New_York:20250926T220000
DTSTAMP:20260419T185238
CREATED:20250908T170747Z
LAST-MODIFIED:20250908T170747Z
UID:10002608-1758915000-1758924000@downtownchagrinfalls.com
SUMMARY:Puffs Or: Seven Increasingly Eventful Years At A Certain School of Magic and Magic
DESCRIPTION:For seven years a certain boy wizard went to a certain Wizard School and conquered evil. This\, however\, is not his story. This is the story of the Puffs… who just happened to be there too. A tale for anyone who has never been destined to save the world. \nThe New York Times proclaims Puffs “A fast-paced romp through the ‘Seven Increasingly Eventful Years at a Certain School of Magic and Magic.’ For Potterphiliacs who grew up alongside Potter and are eager to revisit that world\, Puffs exudes a jovial\, winking fondness for all things Harry!” \nThis clever and inventive play “never goes more than a minute without a laugh” (Nerdist) giving you a new look at a familiar adventure from the perspective of three potential heroes just trying to make it through a magic school that proves to be very dangerous for children. Alongside them are the Puffs\, a group of well-meaning\, loyal outsiders with a thing for badgers “who are so lovable and relatable\, you’ll leave the theater wishing they were in the stories all along” (Hollywood Life). Their “hilariously heartfelt!” (Metro) and epic journey takes the classic story to new places and reimagines what a boy wizard hero can be. \nDirector – DANIEL HUNSICKER\nProducers – NANCY ROGOFF & CINDEE CATALANO-EDELMAN\nStage Manager – EMILY LYNCH\nCostumer – ALEX PETSCHE\nSet & Sound Design – DANIEL HUNSICKER\nTechnical Coordinator & Set Construction – STEVEN M. SAVANYU\nLighting Design – MARCUS DANA \nSTARRING \nWayne Hopkins – VICTOR BERNARDO\nOliver Rivers – CLAY HOFFNER\nMegan Jones – ANNA POPA\nNarrator – VICTORIA KIRGESNER\nJ. Finch Fletchley – CAMERON SILER\nCedric/Voldy – CHRISTIAN ACHKAR\nLeanne – KATIE HINTZE\nSusie Bones – BEKAH NEUBECKER\nSally Perks – APRIL NEEDHAM\nErnie Mac – CASEY McCANN\nHannah – TARA CORKERY \nPuffs is not authorized\, sanctioned\, licensed or endorsed by J.K Rowling\, Warner Bros. or any person or company associated with the Harry Potter books\, films or play. \n“Puffs (Two Act Edition)” is presented by arrangement with Concord Theatricals on behalf of Samuel French\, Inc www.concordtheatricals.com
URL:https://downtownchagrinfalls.com/event/puffs-or-seven-increasingly-eventful-years-at-a-certain-school-of-magic-and-magic/2025-09-26/
LOCATION:Chagrin Valley Little Theatre\, 40 River Street\, Chagrin Falls\, OH\, 44022\, United States
CATEGORIES:Comedy,Theater
ATTACH;FMTTYPE=image/jpeg:https://downtownchagrinfalls.com/wp-content/uploads/2025/09/Puffs-Landscape-1024x536-1.jpeg
ORGANIZER;CN="Chagrin Valley Little Theatre":MAILTO:cvlt@cvlt.org
END:VEVENT
BEGIN:VEVENT
DTSTART;TZID=America/New_York:20250926T213000
DTEND;TZID=America/New_York:20250926T213000
DTSTAMP:20260419T185238
CREATED:20250910T174309Z
LAST-MODIFIED:20250910T174309Z
UID:10002623-1758922200-1758922200@downtownchagrinfalls.com
SUMMARY:At the Greenville: Follow The Sun
DESCRIPTION:We are the oldest tavern in the Chagrin Valley dating back to the late 1800’s. People from all walks of life can come to meet\, kick back and enjoy the warm and unique atmosphere. \nWe’ve got great local bands who perform live most weekends\, cold beers\, a full bar with your favorite liquors and spirits along with the famous chip wall which is always stocked for when you’re in the mood to snack. \nWe also have 6 big screen TV’s to catch all your favorite Cleveland sports teams\, a pool table\, Golden Tee® and Keno®!
URL:https://downtownchagrinfalls.com/event/at-the-greenville-follow-the-sun/
LOCATION:Greenville Inn\, 7125 Pine Street\, Bainbridge\, OH\, 44022\, United States
CATEGORIES:Live Music
ATTACH;FMTTYPE=image/jpeg:https://downtownchagrinfalls.com/wp-content/uploads/2025/07/Greenville-Inn-Logo-2025.jpg
END:VEVENT
BEGIN:VEVENT
DTSTART;TZID=America/New_York:20250927T090000
DTEND;TZID=America/New_York:20250927T120000
DTSTAMP:20260419T185238
CREATED:20250718T155044Z
LAST-MODIFIED:20250718T155044Z
UID:10002460-1758963600-1758974400@downtownchagrinfalls.com
SUMMARY:Geauga Fresh Farmers Market
DESCRIPTION:It’s our 21st season!  We are ready to showcase our areas finest farmers\, bakers\, makers & artisans to YOU!  Depending on the month\, we celebrate the bounty of our harvests.  Our calendars are getting full with Blueberry Day\, Kid’s Market\, Tomato Day\, Corn Day & Fall Harvest Day!  Stop by for a longstanding community market\, we look forward to serving you.\n\nStarted in 2002 the Geauga Fresh Farmers’ Market is producer-only farmers’ market operating year round in Geauga County. The market is board run\, which includes community members & vendors.  We strive to provide you with fresh\, local and real products made or grown by people you can actually talk to.\n\n \nThe purpose of the Geauga Fresh Market is to provide local farmers with a means to sell their produce or value added products directly to consumers\, and to afford consumers the opportunity to buy fresh\, locally grown food. A market that allows farmers to sell directly to consumers will help to support a farm economy in Geauga County. Increasing the profitability of local farms will enable more farms to continue to operate rather than to be lost to development. By promoting the preservation of farmland in Geauga County\, the rural character of the county will remain for all to enjoy. \n \nBy bringing the freshest Geauga County produce and locally made products to the consumer on a weekly basis the Market will encourage customers to value and understand the benefits of supporting our local agricultural economy. The market aims at educating consumers by reconnecting them with their food and where it comes from\, by providing them with higher quality\, more variety and a sense of seasonality. \n \n2025 Geauga Fresh Farmers’ Market Board:\nBryan Briggs\, BB Farms (Vice President)\nKelli Hanley Potts\, Cleveland Field Kitchen\nTiffany O’Neill\, Bainbridge Blooms (Secretary)\nMichael Pizmoht\, Sherwin Williams (Treasurer)\nJacque Thompson\, Wildroots Within (President)\nKarin Wright\, Wright Family Farms\n \nMarket Manager:\nTiffany Mushrush Mentzer\, Harvest Bell Farm\n \nVolunteer Village Representative:\nMayor Bill Koons\, South Russell Village Rep.
URL:https://downtownchagrinfalls.com/event/geauga-fresh-farmers-market/2025-09-27/
LOCATION:5205 Chillicothe Road\, South Russell\, OH\, 5205 Chillicothe Road\, South Russell\, OH\, 44022\, United States
CATEGORIES:Farmers Market
ATTACH;FMTTYPE=image/webp:https://downtownchagrinfalls.com/wp-content/uploads/2023/09/Geauga_Fresh_Logo_2022_1200x.webp
ORGANIZER;CN="Geauga Fresh Farmers Market":MAILTO:geaugaffm@gmail.com
END:VEVENT
BEGIN:VEVENT
DTSTART;TZID=America/New_York:20250927T090000
DTEND;TZID=America/New_York:20250927T170000
DTSTAMP:20260419T185238
CREATED:20250814T171333Z
LAST-MODIFIED:20250919T161503Z
UID:10002555-1758963600-1758992400@downtownchagrinfalls.com
SUMMARY:Community Yard Sale
DESCRIPTION:The Village of Chagrin Falls sponsors an Annual Village-Wide Yard Sale Day on the fourth Saturday in September from 9 a.m. to 5 p.m.  The yard sale permit requirement is suspended for one day only\, inviting all Village residents to participate. \n All are welcome to shop\, browse\, eat\, play and enjoy historic Chagrin Falls. \nParking is available in municipal parking lots and on residential streets as marked. \nTo view the map of currently planned sales\, view this link or see the map below (updated weekly). \n \n  \nTo have your sale address added to the local maps published online and on flyers the day of the sale\, use this link: https://forms.gle/ppayFzWxAreAputs6
URL:https://downtownchagrinfalls.com/event/community-yard-sale/
LOCATION:Chagrin Falls\, Chagrin Falls\, OH\, 44022\, United States
CATEGORIES:Community,Shopping
ATTACH;FMTTYPE=image/png:https://downtownchagrinfalls.com/wp-content/uploads/2025/08/Village-Yard-Sale-Facebook-Post.png
ORGANIZER;CN="Village of Chagrin Falls":MAILTO:debbie@chagrin-falls.org
END:VEVENT
BEGIN:VEVENT
DTSTART;TZID=America/New_York:20250927T093000
DTEND;TZID=America/New_York:20250927T150000
DTSTAMP:20260419T185238
CREATED:20250814T163223Z
LAST-MODIFIED:20250905T190152Z
UID:10002553-1758965400-1758985200@downtownchagrinfalls.com
SUMMARY:Food Trucks by the Falls
DESCRIPTION:This annual tradition brings together the best local food trucks\, live music\, and family-friendly fun in the charming setting of Triangle Park and North Franklin Street. \n​ \nLaunched in 2021 to add a little extra excitement to the Village of Chagrin Falls during the community garage sale\, Trucks By the Falls has quickly grown into one of our most beloved—and tastiest—traditions. By closing off North Franklin Street\, we’ve created the perfect space for neighbors\, friends\, and visitors to gather\, share a meal\, and celebrate community. \n​ \nJoin us at Trucks By the Falls—where great food meets great community. \nParticipating Trucks: \nCLE Sweet Cycle \nPiccolo Authentic Italian \nThe Dawg Bowl Cajun Cuisine \nWholly Frijoles \nCLE Cotton Candy \n 
URL:https://downtownchagrinfalls.com/event/food-trucks-by-the-falls/
LOCATION:Chagrin Falls\, Chagrin Falls\, OH\, 44022\, United States
CATEGORIES:Food & Drink,Fundraiser,Shopping
ATTACH;FMTTYPE=image/jpeg:https://downtownchagrinfalls.com/wp-content/uploads/2025/08/Food-Trucks-by-the-Falls.jpg
ORGANIZER;CN="Chagrin Valley Jaycees":MAILTO:info@cvjc.org
END:VEVENT
BEGIN:VEVENT
DTSTART;TZID=America/New_York:20250927T150000
DTEND;TZID=America/New_York:20250927T150000
DTSTAMP:20260419T185238
CREATED:20250908T173259Z
LAST-MODIFIED:20250908T173259Z
UID:10002615-1758985200-1758985200@downtownchagrinfalls.com
SUMMARY:Putts For Peace Mini Golf Tournament
DESCRIPTION:Hosted by Rotary Club of Chagrin Valley \nSaturday\, September 27 2025 \nGolf Dome \n3 PM Sign in \n3:30 PM Shotgun Start \n$50 entry fee per 2 person team \nOptional $25 dinner \n$5 for two mulligan putts \n  \nSwing to support local\, national and international peace initiatives.  All skill levels welcome. \nFamily friendly event. \n 
URL:https://downtownchagrinfalls.com/event/putts-for-peace-mini-golf-tournament/
LOCATION:Golf Dome\, 8198 E. Washington Street\, Chagrin Falls\, 44023\, United States
CATEGORIES:Fundraiser,Games,Just Fun,Outdoor
ATTACH;FMTTYPE=image/jpeg:https://downtownchagrinfalls.com/wp-content/uploads/2025/09/Chasing-Clues-2025-24.jpg
END:VEVENT
BEGIN:VEVENT
DTSTART;TZID=America/New_York:20250927T193000
DTEND;TZID=America/New_York:20250927T220000
DTSTAMP:20260419T185238
CREATED:20250908T170747Z
LAST-MODIFIED:20250908T170747Z
UID:10002609-1759001400-1759010400@downtownchagrinfalls.com
SUMMARY:Puffs Or: Seven Increasingly Eventful Years At A Certain School of Magic and Magic
DESCRIPTION:For seven years a certain boy wizard went to a certain Wizard School and conquered evil. This\, however\, is not his story. This is the story of the Puffs… who just happened to be there too. A tale for anyone who has never been destined to save the world. \nThe New York Times proclaims Puffs “A fast-paced romp through the ‘Seven Increasingly Eventful Years at a Certain School of Magic and Magic.’ For Potterphiliacs who grew up alongside Potter and are eager to revisit that world\, Puffs exudes a jovial\, winking fondness for all things Harry!” \nThis clever and inventive play “never goes more than a minute without a laugh” (Nerdist) giving you a new look at a familiar adventure from the perspective of three potential heroes just trying to make it through a magic school that proves to be very dangerous for children. Alongside them are the Puffs\, a group of well-meaning\, loyal outsiders with a thing for badgers “who are so lovable and relatable\, you’ll leave the theater wishing they were in the stories all along” (Hollywood Life). Their “hilariously heartfelt!” (Metro) and epic journey takes the classic story to new places and reimagines what a boy wizard hero can be. \nDirector – DANIEL HUNSICKER\nProducers – NANCY ROGOFF & CINDEE CATALANO-EDELMAN\nStage Manager – EMILY LYNCH\nCostumer – ALEX PETSCHE\nSet & Sound Design – DANIEL HUNSICKER\nTechnical Coordinator & Set Construction – STEVEN M. SAVANYU\nLighting Design – MARCUS DANA \nSTARRING \nWayne Hopkins – VICTOR BERNARDO\nOliver Rivers – CLAY HOFFNER\nMegan Jones – ANNA POPA\nNarrator – VICTORIA KIRGESNER\nJ. Finch Fletchley – CAMERON SILER\nCedric/Voldy – CHRISTIAN ACHKAR\nLeanne – KATIE HINTZE\nSusie Bones – BEKAH NEUBECKER\nSally Perks – APRIL NEEDHAM\nErnie Mac – CASEY McCANN\nHannah – TARA CORKERY \nPuffs is not authorized\, sanctioned\, licensed or endorsed by J.K Rowling\, Warner Bros. or any person or company associated with the Harry Potter books\, films or play. \n“Puffs (Two Act Edition)” is presented by arrangement with Concord Theatricals on behalf of Samuel French\, Inc www.concordtheatricals.com
URL:https://downtownchagrinfalls.com/event/puffs-or-seven-increasingly-eventful-years-at-a-certain-school-of-magic-and-magic/2025-09-27/
LOCATION:Chagrin Valley Little Theatre\, 40 River Street\, Chagrin Falls\, OH\, 44022\, United States
CATEGORIES:Comedy,Theater
ATTACH;FMTTYPE=image/jpeg:https://downtownchagrinfalls.com/wp-content/uploads/2025/09/Puffs-Landscape-1024x536-1.jpeg
ORGANIZER;CN="Chagrin Valley Little Theatre":MAILTO:cvlt@cvlt.org
END:VEVENT
BEGIN:VEVENT
DTSTART;TZID=America/New_York:20250927T213000
DTEND;TZID=America/New_York:20250927T213000
DTSTAMP:20260419T185238
CREATED:20250910T174345Z
LAST-MODIFIED:20250910T174345Z
UID:10002624-1759008600-1759008600@downtownchagrinfalls.com
SUMMARY:At the Greenville: Armstrong Bearcat
DESCRIPTION:We are the oldest tavern in the Chagrin Valley dating back to the late 1800’s. People from all walks of life can come to meet\, kick back and enjoy the warm and unique atmosphere. \nWe’ve got great local bands who perform live most weekends\, cold beers\, a full bar with your favorite liquors and spirits along with the famous chip wall which is always stocked for when you’re in the mood to snack. \nWe also have 6 big screen TV’s to catch all your favorite Cleveland sports teams\, a pool table\, Golden Tee® and Keno®!
URL:https://downtownchagrinfalls.com/event/at-the-greenville-armstrong-bearcat-2/
LOCATION:Greenville Inn\, 7125 Pine Street\, Bainbridge\, OH\, 44022\, United States
CATEGORIES:Live Music
ATTACH;FMTTYPE=image/jpeg:https://downtownchagrinfalls.com/wp-content/uploads/2025/07/Greenville-Inn-Logo-2025.jpg
END:VEVENT
BEGIN:VEVENT
DTSTART;TZID=America/New_York:20250928T090000
DTEND;TZID=America/New_York:20250928T120000
DTSTAMP:20260419T185238
CREATED:20250718T155544Z
LAST-MODIFIED:20250718T155806Z
UID:10002480-1759050000-1759060800@downtownchagrinfalls.com
SUMMARY:North Union Farmers Market Chagrin Falls
DESCRIPTION:Located in the beautiful village of Chagrin Falls\, this market is filled with Northeast Ohio’s finest farmers.  Enjoy shopping for fresh produce on a lazy Sunday morning! \n \nChagrin Falls Market is located on at Bandstand Triangle Park from 9-12 every Sunday. You will find farms and food producers with fresh produce\, meats\, dairy\, baked goods and more. \nThe Chagrin Falls Market will remain open during bridge construction!
URL:https://downtownchagrinfalls.com/event/north-union-farmers-market-chagrin-falls/2025-09-28/
LOCATION:Chagrin Falls\, Chagrin Falls\, OH\, 44022\, United States
CATEGORIES:Farmers Market
ATTACH;FMTTYPE=image/jpeg:https://downtownchagrinfalls.com/wp-content/uploads/2025/07/Untitled-design-1.jpg
END:VEVENT
BEGIN:VEVENT
DTSTART;TZID=America/New_York:20250928T140000
DTEND;TZID=America/New_York:20250928T170000
DTSTAMP:20260419T185238
CREATED:20250908T170747Z
LAST-MODIFIED:20250908T170747Z
UID:10002610-1759068000-1759078800@downtownchagrinfalls.com
SUMMARY:Puffs Or: Seven Increasingly Eventful Years At A Certain School of Magic and Magic
DESCRIPTION:For seven years a certain boy wizard went to a certain Wizard School and conquered evil. This\, however\, is not his story. This is the story of the Puffs… who just happened to be there too. A tale for anyone who has never been destined to save the world. \nThe New York Times proclaims Puffs “A fast-paced romp through the ‘Seven Increasingly Eventful Years at a Certain School of Magic and Magic.’ For Potterphiliacs who grew up alongside Potter and are eager to revisit that world\, Puffs exudes a jovial\, winking fondness for all things Harry!” \nThis clever and inventive play “never goes more than a minute without a laugh” (Nerdist) giving you a new look at a familiar adventure from the perspective of three potential heroes just trying to make it through a magic school that proves to be very dangerous for children. Alongside them are the Puffs\, a group of well-meaning\, loyal outsiders with a thing for badgers “who are so lovable and relatable\, you’ll leave the theater wishing they were in the stories all along” (Hollywood Life). Their “hilariously heartfelt!” (Metro) and epic journey takes the classic story to new places and reimagines what a boy wizard hero can be. \nDirector – DANIEL HUNSICKER\nProducers – NANCY ROGOFF & CINDEE CATALANO-EDELMAN\nStage Manager – EMILY LYNCH\nCostumer – ALEX PETSCHE\nSet & Sound Design – DANIEL HUNSICKER\nTechnical Coordinator & Set Construction – STEVEN M. SAVANYU\nLighting Design – MARCUS DANA \nSTARRING \nWayne Hopkins – VICTOR BERNARDO\nOliver Rivers – CLAY HOFFNER\nMegan Jones – ANNA POPA\nNarrator – VICTORIA KIRGESNER\nJ. Finch Fletchley – CAMERON SILER\nCedric/Voldy – CHRISTIAN ACHKAR\nLeanne – KATIE HINTZE\nSusie Bones – BEKAH NEUBECKER\nSally Perks – APRIL NEEDHAM\nErnie Mac – CASEY McCANN\nHannah – TARA CORKERY \nPuffs is not authorized\, sanctioned\, licensed or endorsed by J.K Rowling\, Warner Bros. or any person or company associated with the Harry Potter books\, films or play. \n“Puffs (Two Act Edition)” is presented by arrangement with Concord Theatricals on behalf of Samuel French\, Inc www.concordtheatricals.com
URL:https://downtownchagrinfalls.com/event/puffs-or-seven-increasingly-eventful-years-at-a-certain-school-of-magic-and-magic/2025-09-28/
LOCATION:Chagrin Valley Little Theatre\, 40 River Street\, Chagrin Falls\, OH\, 44022\, United States
CATEGORIES:Comedy,Theater
ATTACH;FMTTYPE=image/jpeg:https://downtownchagrinfalls.com/wp-content/uploads/2025/09/Puffs-Landscape-1024x536-1.jpeg
ORGANIZER;CN="Chagrin Valley Little Theatre":MAILTO:cvlt@cvlt.org
END:VEVENT
BEGIN:VEVENT
DTSTART;TZID=America/New_York:20250928T150000
DTEND;TZID=America/New_York:20250928T170000
DTSTAMP:20260419T185238
CREATED:20250905T184446Z
LAST-MODIFIED:20250905T184446Z
UID:10002589-1759071600-1759078800@downtownchagrinfalls.com
SUMMARY:Romantasy Book Club at Sage & Honey
DESCRIPTION:September 28 @ 3:00 pm – 5:00 pm\nFree\n\n\nGrab your magic potion (coffee)\, tavern stew (crêpe)\, and claim your throne (comfy couch) at Sage & Honey’s Romantasy Book Club! This month\, we’re reading Quicksilver by Callie Hart . At 3:00 PM on August 28th\, come in ready to talk about everything you loved (and hated) about the romance\, characters\, and magical world. We’ve got questions prepared\, but feel free to come up with some of your own! \nBelow is a description of Quicksilver: \n\nDo not touch the sword. Do not turn the key. Do not open the gate. \nIn the land of the unforgiving desert\, there isn’t much a girl wouldn’t do for a glass of water. \nTwenty-four-year-old Saeris Fane is good at keeping secrets. No one knows about the strange powers she possesses\, or the fact that she has been picking pockets and stealing from the Undying Queen’s reservoirs for as long as she can remember. \nBut a secret is like a knot. Sooner or later\, it is bound to come undone. \nWhen Saeris comes face-to-face with Death himself\, she inadvertently re-opens a gateway between realms and is transported to a land of ice and snow. The Fae have always been the stuff of myth\, of legend\, of nightmares… but it turns out they’re real\, and Saeris has landed herself in the middle of a centuries-long conflict that might just get her killed. \nThe first of her kind to tread the frozen mountains of Yvelia in over a thousand years\, Saeris mistakenly binds herself to Kingfisher\, a handsome Fae warrior\, who has secrets and nefarious agendas of his own. He will use her Alchemist’s magic to protect his people\, no matter what it costs him . . . or her. \nDeath has a name. It is Kingfisher of the Ajun Gate. His past is murky. His attitude stinks. And he’s the only way Saeris is going to make it home. \nIntrigued? Pick up a copy at Sage & Honey today and join us on August 28th! Show your reservation ticket at check-out and get 20% off of your copy today. \nLet’s get magically messy!
URL:https://downtownchagrinfalls.com/event/romantasy-book-club-at-sage-honey/
LOCATION:Sage & Honey\, 10 E. Washington Street\, Chagrin Falls\, OH\, 44022\, United States
CATEGORIES:Book Club
ATTACH;FMTTYPE=image/jpeg:https://downtownchagrinfalls.com/wp-content/uploads/2025/09/September-FB-Event-1-1024x576-copy.jpg
END:VEVENT
END:VCALENDAR