BEGIN:VCALENDAR
VERSION:2.0
PRODID:-//Downtown Chagrin Falls - ECPv6.15.13.1//NONSGML v1.0//EN
CALSCALE:GREGORIAN
METHOD:PUBLISH
X-WR-CALNAME:Downtown Chagrin Falls
X-ORIGINAL-URL:https://downtownchagrinfalls.com
X-WR-CALDESC:Events for Downtown Chagrin Falls
REFRESH-INTERVAL;VALUE=DURATION:PT1H
X-Robots-Tag:noindex
X-PUBLISHED-TTL:PT1H
BEGIN:VTIMEZONE
TZID:America/New_York
BEGIN:DAYLIGHT
TZOFFSETFROM:-0500
TZOFFSETTO:-0400
TZNAME:EDT
DTSTART:20240310T070000
END:DAYLIGHT
BEGIN:STANDARD
TZOFFSETFROM:-0400
TZOFFSETTO:-0500
TZNAME:EST
DTSTART:20241103T060000
END:STANDARD
BEGIN:DAYLIGHT
TZOFFSETFROM:-0500
TZOFFSETTO:-0400
TZNAME:EDT
DTSTART:20250309T070000
END:DAYLIGHT
BEGIN:STANDARD
TZOFFSETFROM:-0400
TZOFFSETTO:-0500
TZNAME:EST
DTSTART:20251102T060000
END:STANDARD
BEGIN:DAYLIGHT
TZOFFSETFROM:-0500
TZOFFSETTO:-0400
TZNAME:EDT
DTSTART:20260308T070000
END:DAYLIGHT
BEGIN:STANDARD
TZOFFSETFROM:-0400
TZOFFSETTO:-0500
TZNAME:EST
DTSTART:20261101T060000
END:STANDARD
END:VTIMEZONE
BEGIN:VEVENT
DTSTART;TZID=America/New_York:20250911T113000
DTEND;TZID=America/New_York:20250911T123000
DTSTAMP:20260419T165925
CREATED:20250905T182325Z
LAST-MODIFIED:20250905T182325Z
UID:10002584-1757590200-1757593800@downtownchagrinfalls.com
SUMMARY:New Mom Support Group
DESCRIPTION:Join us for a cozy\, judgment-free support group designed especially for first-time moms with little ones under one year old. Led by one of our employees\, Hunter– a first-time mom herself– this group offers a space to share stories\, ask questions\, and build community over coffee and conversation. \nWhether you’re navigating sleepless nights\, celebrating milestones\, or just need some adult company\, you’ll find understanding ears and friendly faces here. Babies are always welcome\, and there’s plenty of room to relax and recharge while connecting with other new moms. \nCome for Coffee\, Stay for the Community!
URL:https://downtownchagrinfalls.com/event/new-mom-support-group/
LOCATION:Sage & Honey\, 10 E. Washington Street\, Chagrin Falls\, OH\, 44022\, United States
CATEGORIES:Community,Support
ATTACH;FMTTYPE=image/jpeg:https://downtownchagrinfalls.com/wp-content/uploads/2025/09/New-Mom-Group-copy.jpg
END:VEVENT
BEGIN:VEVENT
DTSTART;TZID=America/New_York:20250911T180000
DTEND;TZID=America/New_York:20250911T193000
DTSTAMP:20260419T165925
CREATED:20250905T192244Z
LAST-MODIFIED:20250905T192244Z
UID:10002596-1757613600-1757619000@downtownchagrinfalls.com
SUMMARY:Chagrin Valley Fire Community Open House
DESCRIPTION:You’re Invited! Fire Department Open House\n\n\nAfter 8 years of planning and 1 year of construction\, our Fire Department renovation is finally complete—and we’re excited to open the doors to the community!\n\n\nThis open house is not only a chance to tour areas of the station not typically open to the public\, but also an opportunity to see firsthand what your donations—large and small—helped make possible. Every contribution mattered\, and together\, you’ve helped create a safer\, stronger\, and more responsive Fire/EMS Department.\n\n\nWhy We Renovated:\nAdded women’s facilities for privacy and inclusivity\nExpanded capacity to house a larger on-duty workforce\nImproved layout to reduce response times with a new egress for fire trucks and apparatus—because seconds save lives\n\n\nLocation: Chagrin Valley Fire Department\, 21 W. Washington Street\, Chagrin Falls\, OH 44022\n\n\nDate & Time: September 11\, 2025\, from 6 – 7:30 pm\n\n\nThis is your chance to see where and how your Fire/EMS services operate\, meet the team\, and tour the upgraded facilities.\n\n\nWe welcome all community members to join us in celebrating this important milestone.
URL:https://downtownchagrinfalls.com/event/chagrin-valley-fire-community-open-house/
LOCATION:Chagrin Valley Fire Department\, 21 W Washington Street\, Chagrin Falls\, OH\, 44022\, United States
CATEGORIES:Community,Open House
ATTACH;FMTTYPE=image/jpeg:https://downtownchagrinfalls.com/wp-content/uploads/2025/09/536277672_1200751155414984_2530630422077040537_n.jpg
END:VEVENT
BEGIN:VEVENT
DTSTART;TZID=America/New_York:20250911T180000
DTEND;TZID=America/New_York:20250911T220000
DTSTAMP:20260419T165925
CREATED:20250807T164547Z
LAST-MODIFIED:20250905T201247Z
UID:10002602-1757613600-1757628000@downtownchagrinfalls.com
SUMMARY:Open Mic Night at M Bevy
DESCRIPTION:Join us every Thursday from 6-10pm for a free\, welcoming open mic night on M Bevy’s outdoor patio! Musicians of all levels are invited to share their talents in a casual\, supportive atmosphere that encourages collaboration. This family and dog-friendly event operates on a first-come\, first-served basis\, so arrive early to sign up. The evening culminates with a community jam session where everyone can join in. Located at M Bevy\, 87 West St\, Chagrin Falls. For more information\, contact host Colleen Welsch.
URL:https://downtownchagrinfalls.com/event/open-mic-night-at-m-bevy/2025-09-11/
LOCATION:M Bevy\, 87 West Street\, Chagrin Falls\, OH\, 44022\, United States
CATEGORIES:Just Fun,Live Music,Open Mic Night
ATTACH;FMTTYPE=image/jpeg:https://downtownchagrinfalls.com/wp-content/uploads/2025/08/qtq80-t4kjZA.jpeg
ORGANIZER;CN="M Bevy":MAILTO:chagrin@mbevy.com
END:VEVENT
BEGIN:VEVENT
DTSTART;TZID=America/New_York:20250912T170000
DTEND;TZID=America/New_York:20250912T200000
DTSTAMP:20260419T165925
CREATED:20250908T165809Z
LAST-MODIFIED:20250908T165809Z
UID:10002605-1757696400-1757707200@downtownchagrinfalls.com
SUMMARY:Opening Reception for Crafted Couture:  A Wearable Art Showcase
DESCRIPTION:Crafted Couture: A Wearable Art Exhibition Opening\nJoin us for the opening reception of Crafted Couture: A Wearable Art Exhibition\, celebrating fashion as an inclusive and accessible form of creative expression.\nExplore wearable artworks designed by regional and national artists who push the boundaries of design\, craft\, and accessibility.\nSchedule5:00–6:00 PM: Sensory friendly quiet hour6:00–8:00 PM: General opening with all volumes\nThis event is free and open to the public.
URL:https://downtownchagrinfalls.com/event/opening-reception-for-crafted-couture-a-wearable-art-showcase/
LOCATION:Valley Art Center\, 155 Bell Street\, Chagrin Falls\, OH\, 44022\, United States
CATEGORIES:Art,Art Exhibit Opening
ATTACH;FMTTYPE=image/jpeg:https://downtownchagrinfalls.com/wp-content/uploads/2025/09/Chasing-Clues-2025-23.jpg
END:VEVENT
BEGIN:VEVENT
DTSTART;TZID=America/New_York:20250912T213000
DTEND;TZID=America/New_York:20250912T213000
DTSTAMP:20260419T165925
CREATED:20250910T174014Z
LAST-MODIFIED:20250910T174014Z
UID:10002619-1757712600-1757712600@downtownchagrinfalls.com
SUMMARY:At the Greenville: No Control
DESCRIPTION:We are the oldest tavern in the Chagrin Valley dating back to the late 1800’s. People from all walks of life can come to meet\, kick back and enjoy the warm and unique atmosphere. \nWe’ve got great local bands who perform live most weekends\, cold beers\, a full bar with your favorite liquors and spirits along with the famous chip wall which is always stocked for when you’re in the mood to snack. \nWe also have 6 big screen TV’s to catch all your favorite Cleveland sports teams\, a pool table\, Golden Tee® and Keno®!
URL:https://downtownchagrinfalls.com/event/at-the-greenville-no-control/
LOCATION:Greenville Inn\, 7125 Pine Street\, Bainbridge\, OH\, 44022\, United States
CATEGORIES:Live Music
ATTACH;FMTTYPE=image/jpeg:https://downtownchagrinfalls.com/wp-content/uploads/2025/07/Greenville-Inn-Logo-2025.jpg
END:VEVENT
BEGIN:VEVENT
DTSTART;TZID=America/New_York:20250913T090000
DTEND;TZID=America/New_York:20250913T120000
DTSTAMP:20260419T165925
CREATED:20250718T155044Z
LAST-MODIFIED:20250718T155044Z
UID:10002458-1757754000-1757764800@downtownchagrinfalls.com
SUMMARY:Geauga Fresh Farmers Market
DESCRIPTION:It’s our 21st season!  We are ready to showcase our areas finest farmers\, bakers\, makers & artisans to YOU!  Depending on the month\, we celebrate the bounty of our harvests.  Our calendars are getting full with Blueberry Day\, Kid’s Market\, Tomato Day\, Corn Day & Fall Harvest Day!  Stop by for a longstanding community market\, we look forward to serving you.\n\nStarted in 2002 the Geauga Fresh Farmers’ Market is producer-only farmers’ market operating year round in Geauga County. The market is board run\, which includes community members & vendors.  We strive to provide you with fresh\, local and real products made or grown by people you can actually talk to.\n\n \nThe purpose of the Geauga Fresh Market is to provide local farmers with a means to sell their produce or value added products directly to consumers\, and to afford consumers the opportunity to buy fresh\, locally grown food. A market that allows farmers to sell directly to consumers will help to support a farm economy in Geauga County. Increasing the profitability of local farms will enable more farms to continue to operate rather than to be lost to development. By promoting the preservation of farmland in Geauga County\, the rural character of the county will remain for all to enjoy. \n \nBy bringing the freshest Geauga County produce and locally made products to the consumer on a weekly basis the Market will encourage customers to value and understand the benefits of supporting our local agricultural economy. The market aims at educating consumers by reconnecting them with their food and where it comes from\, by providing them with higher quality\, more variety and a sense of seasonality. \n \n2025 Geauga Fresh Farmers’ Market Board:\nBryan Briggs\, BB Farms (Vice President)\nKelli Hanley Potts\, Cleveland Field Kitchen\nTiffany O’Neill\, Bainbridge Blooms (Secretary)\nMichael Pizmoht\, Sherwin Williams (Treasurer)\nJacque Thompson\, Wildroots Within (President)\nKarin Wright\, Wright Family Farms\n \nMarket Manager:\nTiffany Mushrush Mentzer\, Harvest Bell Farm\n \nVolunteer Village Representative:\nMayor Bill Koons\, South Russell Village Rep.
URL:https://downtownchagrinfalls.com/event/geauga-fresh-farmers-market/2025-09-13/
LOCATION:5205 Chillicothe Road\, South Russell\, OH\, 5205 Chillicothe Road\, South Russell\, OH\, 44022\, United States
CATEGORIES:Farmers Market
ATTACH;FMTTYPE=image/webp:https://downtownchagrinfalls.com/wp-content/uploads/2023/09/Geauga_Fresh_Logo_2022_1200x.webp
ORGANIZER;CN="Geauga Fresh Farmers Market":MAILTO:geaugaffm@gmail.com
END:VEVENT
BEGIN:VEVENT
DTSTART;TZID=America/New_York:20250913T110000
DTEND;TZID=America/New_York:20250913T120000
DTSTAMP:20260419T165925
CREATED:20250910T174840Z
LAST-MODIFIED:20250910T174840Z
UID:10002625-1757761200-1757764800@downtownchagrinfalls.com
SUMMARY:Centrifugal Art - Grades K-5
DESCRIPTION: Chagrin Falls Branch – Meeting Room (Main Floor) (32)\nAge group:  School Age (K-5)\nevent type:   Children’s Programs\nCome learn about centrifugal force while working on your own spinning art project! Come dressed for a messy paint activity.\nRegister at the link.
URL:https://downtownchagrinfalls.com/event/centrifugal-art-grades-k-5/
LOCATION:Chagrin Falls Public Library\, 100 East Orange Street\, Chagrin Falls\, OH\, 44022\, United States
CATEGORIES:Art,Children,Classes
ATTACH;FMTTYPE=image/png:https://downtownchagrinfalls.com/wp-content/uploads/2025/09/CHF-325x325-1.png
END:VEVENT
BEGIN:VEVENT
DTSTART;TZID=America/New_York:20250913T120000
DTEND;TZID=America/New_York:20250913T220000
DTSTAMP:20260419T165925
CREATED:20250910T173134Z
LAST-MODIFIED:20250910T173134Z
UID:10002617-1757764800-1757800800@downtownchagrinfalls.com
SUMMARY:Asylum Flash Bash at Glass Asylum 2
DESCRIPTION: SATURDAY\, SEPTEMBER 13 ASYLUM FLASH BASH Tattoo pop-up featuring @orchidaceous_ink @hail.luciafer.ink (12-6PM) Killer vintage finds from @cactus.gems and more (12–6PM) Hofbräuhaus food truck (5–9PM) @hbcle Live sets from @fatdaddyemusic & @drvyn_official (6–10PM)Cold drinks\, loud tunes\, hot ink\, and FREE admission all day.Come rock out with us at Glass Asylum 2!
URL:https://downtownchagrinfalls.com/event/asylum-flash-bash-at-glass-asylum-2/
LOCATION:Glass Asylum 2\, 7207 Chagrin Road Suite 5\, Chagrin Falls\, OH\, 44023\, United States
CATEGORIES:Food & Drink,Live Music,Shopping
ATTACH;FMTTYPE=image/jpeg:https://downtownchagrinfalls.com/wp-content/uploads/2025/09/Chasing-Clues-2025-28.jpg
END:VEVENT
BEGIN:VEVENT
DTSTART;TZID=America/New_York:20250913T130000
DTEND;TZID=America/New_York:20250913T150000
DTSTAMP:20260419T165925
CREATED:20250905T191415Z
LAST-MODIFIED:20250905T191415Z
UID:10002595-1757768400-1757775600@downtownchagrinfalls.com
SUMMARY:Chagrin Valley Herb Society Garden Stroll
DESCRIPTION:Garden Stroll!\nThe Chagrin Valley Herb Society will be hosting a garden stroll on\nSaturday\, September 13th from 1-3pm\, rain or shine\, at their gardens located at the Bainbridge Library.\nThe club will be showcasing the work they have done to recreate the gardens and to thank donors\, plant sale patrons and the entire community for their support.  There will be free drawings\, giveaways and the opportunity for guests to meet members and explore the gardens to learn about herbs\, flowers\, plants and pollinators.  For more information please email CVHS at chagrinvalleyherbsociety@gmail.com or visit their page on Facebook and Instagram.
URL:https://downtownchagrinfalls.com/event/chagrin-valley-herb-society-garden-stroll/
LOCATION:Bainbridge Library\, 17222 Snyder Rd.\, Chagrin Falls\, OH\, 44023\, United States
CATEGORIES:Exhibit,Gardening,Just Fun
ATTACH;FMTTYPE=image/jpeg:https://downtownchagrinfalls.com/wp-content/uploads/2025/09/540528499_1183430277143901_331961640288386929_n.jpg
ORGANIZER;CN="Chagrin Valley Herb Society":MAILTO:chagrinvalleyherbsociety@gmail.com
END:VEVENT
BEGIN:VEVENT
DTSTART;TZID=America/New_York:20250913T150000
DTEND;TZID=America/New_York:20250913T170000
DTSTAMP:20260419T165925
CREATED:20250801T133023Z
LAST-MODIFIED:20250814T151601Z
UID:10002501-1757775600-1757782800@downtownchagrinfalls.com
SUMMARY:Weekly Wine Tasting at Chuck's Fine Wines
DESCRIPTION:
URL:https://downtownchagrinfalls.com/event/weekly-wine-tasting-at-chucks-fine-wines/2025-09-13/
LOCATION:Chuck’s Fine Wines\, 23 Bell Street\, Chagrin Falls\, OH\, 44022\, United States
CATEGORIES:Food & Drink,Wine Tasting
ATTACH;FMTTYPE=image/jpeg:https://downtownchagrinfalls.com/wp-content/uploads/2025/08/qtq80-FtcBBM.jpeg
END:VEVENT
BEGIN:VEVENT
DTSTART;TZID=America/New_York:20250913T213000
DTEND;TZID=America/New_York:20250913T213000
DTSTAMP:20260419T165925
CREATED:20250910T174055Z
LAST-MODIFIED:20250910T174055Z
UID:10002620-1757799000-1757799000@downtownchagrinfalls.com
SUMMARY:At the Greenville: Where's Jimmy
DESCRIPTION:We are the oldest tavern in the Chagrin Valley dating back to the late 1800’s. People from all walks of life can come to meet\, kick back and enjoy the warm and unique atmosphere. \nWe’ve got great local bands who perform live most weekends\, cold beers\, a full bar with your favorite liquors and spirits along with the famous chip wall which is always stocked for when you’re in the mood to snack. \nWe also have 6 big screen TV’s to catch all your favorite Cleveland sports teams\, a pool table\, Golden Tee® and Keno®!
URL:https://downtownchagrinfalls.com/event/at-the-greenville-wheres-jimmy/
LOCATION:Greenville Inn\, 7125 Pine Street\, Bainbridge\, OH\, 44022\, United States
CATEGORIES:Live Music
ATTACH;FMTTYPE=image/jpeg:https://downtownchagrinfalls.com/wp-content/uploads/2025/07/Greenville-Inn-Logo-2025.jpg
END:VEVENT
BEGIN:VEVENT
DTSTART;TZID=America/New_York:20250914T090000
DTEND;TZID=America/New_York:20250914T120000
DTSTAMP:20260419T165925
CREATED:20250718T155544Z
LAST-MODIFIED:20250718T155806Z
UID:10002478-1757840400-1757851200@downtownchagrinfalls.com
SUMMARY:North Union Farmers Market Chagrin Falls
DESCRIPTION:Located in the beautiful village of Chagrin Falls\, this market is filled with Northeast Ohio’s finest farmers.  Enjoy shopping for fresh produce on a lazy Sunday morning! \n \nChagrin Falls Market is located on at Bandstand Triangle Park from 9-12 every Sunday. You will find farms and food producers with fresh produce\, meats\, dairy\, baked goods and more. \nThe Chagrin Falls Market will remain open during bridge construction!
URL:https://downtownchagrinfalls.com/event/north-union-farmers-market-chagrin-falls/2025-09-14/
LOCATION:Chagrin Falls\, Chagrin Falls\, OH\, 44022\, United States
CATEGORIES:Farmers Market
ATTACH;FMTTYPE=image/jpeg:https://downtownchagrinfalls.com/wp-content/uploads/2025/07/Untitled-design-1.jpg
END:VEVENT
BEGIN:VEVENT
DTSTART;TZID=America/New_York:20250914T130000
DTEND;TZID=America/New_York:20250914T150000
DTSTAMP:20260419T165925
CREATED:20250905T185247Z
LAST-MODIFIED:20250905T185401Z
UID:10002592-1757854800-1757862000@downtownchagrinfalls.com
SUMMARY:Fireside Book Signing: Bob Walker
DESCRIPTION:Bob Walker\, author of the books Lacey’s Adventure and Do Kangaroos Have Eyebrows? will sign books in the shop on Sunday\, September 14th from 1-3 pm.
URL:https://downtownchagrinfalls.com/event/fireside-book-signing-bob-walker/
LOCATION:Fireside Books\, 29 North Franklin Street\, Chagrin Falls\, OH\, 44022\, United States
CATEGORIES:Book signing
ATTACH;FMTTYPE=image/jpeg:https://downtownchagrinfalls.com/wp-content/uploads/2025/09/Chasing-Clues-2025-20.jpg
END:VEVENT
END:VCALENDAR