BEGIN:VCALENDAR
VERSION:2.0
PRODID:-//Downtown Chagrin Falls - ECPv6.15.13.1//NONSGML v1.0//EN
CALSCALE:GREGORIAN
METHOD:PUBLISH
X-ORIGINAL-URL:https://downtownchagrinfalls.com
X-WR-CALDESC:Events for Downtown Chagrin Falls
REFRESH-INTERVAL;VALUE=DURATION:PT1H
X-Robots-Tag:noindex
X-PUBLISHED-TTL:PT1H
BEGIN:VTIMEZONE
TZID:America/New_York
BEGIN:DAYLIGHT
TZOFFSETFROM:-0500
TZOFFSETTO:-0400
TZNAME:EDT
DTSTART:20240310T070000
END:DAYLIGHT
BEGIN:STANDARD
TZOFFSETFROM:-0400
TZOFFSETTO:-0500
TZNAME:EST
DTSTART:20241103T060000
END:STANDARD
BEGIN:DAYLIGHT
TZOFFSETFROM:-0500
TZOFFSETTO:-0400
TZNAME:EDT
DTSTART:20250309T070000
END:DAYLIGHT
BEGIN:STANDARD
TZOFFSETFROM:-0400
TZOFFSETTO:-0500
TZNAME:EST
DTSTART:20251102T060000
END:STANDARD
BEGIN:DAYLIGHT
TZOFFSETFROM:-0500
TZOFFSETTO:-0400
TZNAME:EDT
DTSTART:20260308T070000
END:DAYLIGHT
BEGIN:STANDARD
TZOFFSETFROM:-0400
TZOFFSETTO:-0500
TZNAME:EST
DTSTART:20261101T060000
END:STANDARD
END:VTIMEZONE
BEGIN:VEVENT
DTSTART;TZID=America/New_York:20250826T120000
DTEND;TZID=America/New_York:20250826T180000
DTSTAMP:20260419T222359
CREATED:20250807T175512Z
LAST-MODIFIED:20250807T175512Z
UID:10002536-1756209600-1756231200@downtownchagrinfalls.com
SUMMARY:Blood Drive at the Library
DESCRIPTION:Donate blood today. For more information or to make an appointment visit www.redcrossblood.org or call the American Red Cross at 800-RED-CROSS (800-733-2767).
URL:https://downtownchagrinfalls.com/event/blood-drive-at-the-library/
LOCATION:Chagrin Falls Public Library\, 100 East Orange Street\, Chagrin Falls\, OH\, 44022\, United States
ATTACH;FMTTYPE=image/jpeg:https://downtownchagrinfalls.com/wp-content/uploads/2025/08/Chasing-Clues-2025-9.jpg
END:VEVENT
BEGIN:VEVENT
DTSTART;TZID=America/New_York:20250826T120000
DTEND;TZID=America/New_York:20250826T180000
DTSTAMP:20260419T222359
CREATED:20250814T145844Z
LAST-MODIFIED:20250814T145844Z
UID:10002544-1756209600-1756231200@downtownchagrinfalls.com
SUMMARY:That Hawaiian Guy BBQ Food Truck Pop Up
DESCRIPTION:That Hawaiian Guy BBQ Food Truck will be popping up all August at Lowe’s Greenhouse! Tuesdays 12-6; Wednesdays 12-6\, Thursdays 12-2 (except Tues 8/19)
URL:https://downtownchagrinfalls.com/event/that-hawaiian-guy-bbq-food-truck-pop-up/2025-08-26/
LOCATION:Lowe’s Greenhouse\, 16540 Chillicothe Road\, Bainbridge\, OH\, 44023\, United States
CATEGORIES:Food & Drink,Pop up shop
ATTACH;FMTTYPE=image/jpeg:https://downtownchagrinfalls.com/wp-content/uploads/2025/08/529455566_1367803978530825_3881000374950596645_n.jpg
END:VEVENT
BEGIN:VEVENT
DTSTART;TZID=America/New_York:20250826T140000
DTEND;TZID=America/New_York:20250826T150000
DTSTAMP:20260419T222359
CREATED:20250718T163846Z
LAST-MODIFIED:20250718T163846Z
UID:10002490-1756216800-1756220400@downtownchagrinfalls.com
SUMMARY:CCPL Tuesday Afternoon Book Discussion
DESCRIPTION:Tuesdays\, June 24\, July 22 and August 26: 2:00pm – 3:00pm\n Chagrin Falls Branch – Meeting Room (Main Floor) (32)\nAge group:  Adults\nEvent type:   Book Discussion\n6/24 Good Dirt;\n7/22 And Then There Were None;\n8/26 From The Mixed-up Files of Mrs. Basil E. Frankweiler
URL:https://downtownchagrinfalls.com/event/ccpl-tuesday-afternoon-book-discussion/2025-08-26/
LOCATION:Chagrin Falls Public Library\, 100 East Orange Street\, Chagrin Falls\, OH\, 44022\, United States
CATEGORIES:Book Club
ATTACH;FMTTYPE=image/jpeg:https://downtownchagrinfalls.com/wp-content/uploads/2019/07/coffe-book-session-1567782-1278x858.jpg
END:VEVENT
BEGIN:VEVENT
DTSTART;TZID=America/New_York:20250826T180000
DTEND;TZID=America/New_York:20250826T190000
DTSTAMP:20260419T222359
CREATED:20250814T181701Z
LAST-MODIFIED:20250814T181701Z
UID:10002561-1756231200-1756234800@downtownchagrinfalls.com
SUMMARY:Fireside Book Club: Dystopian Classics
DESCRIPTION:Summer – but make it dystopian. \nJoin us on Tuesday\, August 26th to discuss the books 1984 by George Orwell and Darkness at Noon by Arthur Koestler. Book club is free and open to the public. All are welcome!
URL:https://downtownchagrinfalls.com/event/fireside-book-club-dystopian-classics/
LOCATION:Fireside Books\, 29 North Franklin Street\, Chagrin Falls\, OH\, 44022\, United States
CATEGORIES:Book Club
ATTACH;FMTTYPE=image/jpeg:https://downtownchagrinfalls.com/wp-content/uploads/2025/08/Chasing-Clues-2025-16.jpg
END:VEVENT
BEGIN:VEVENT
DTSTART;TZID=America/New_York:20250827T120000
DTEND;TZID=America/New_York:20250827T180000
DTSTAMP:20260419T222359
CREATED:20250814T145844Z
LAST-MODIFIED:20250814T145844Z
UID:10002545-1756296000-1756317600@downtownchagrinfalls.com
SUMMARY:That Hawaiian Guy BBQ Food Truck Pop Up
DESCRIPTION:That Hawaiian Guy BBQ Food Truck will be popping up all August at Lowe’s Greenhouse! Tuesdays 12-6; Wednesdays 12-6\, Thursdays 12-2 (except Tues 8/19)
URL:https://downtownchagrinfalls.com/event/that-hawaiian-guy-bbq-food-truck-pop-up/2025-08-27/
LOCATION:Lowe’s Greenhouse\, 16540 Chillicothe Road\, Bainbridge\, OH\, 44023\, United States
CATEGORIES:Food & Drink,Pop up shop
ATTACH;FMTTYPE=image/jpeg:https://downtownchagrinfalls.com/wp-content/uploads/2025/08/529455566_1367803978530825_3881000374950596645_n.jpg
END:VEVENT
BEGIN:VEVENT
DTSTART;TZID=America/New_York:20250827T170000
DTEND;TZID=America/New_York:20250827T190000
DTSTAMP:20260419T222359
CREATED:20250820T175634Z
LAST-MODIFIED:20250820T175634Z
UID:10002576-1756314000-1756321200@downtownchagrinfalls.com
SUMMARY:Wine Tasting with Pine Ridge Vineyards
DESCRIPTION:Featuring wines from Napa\, California.
URL:https://downtownchagrinfalls.com/event/wine-tasting-with-pine-ridge-vineyards/
LOCATION:Chuck’s Fine Wines\, 23 Bell Street\, Chagrin Falls\, OH\, 44022\, United States
CATEGORIES:Wine Tasting
ATTACH;FMTTYPE=image/png:https://downtownchagrinfalls.com/wp-content/uploads/2025/08/Chasing-Clues-2025.png
END:VEVENT
BEGIN:VEVENT
DTSTART;TZID=America/New_York:20250828T120000
DTEND;TZID=America/New_York:20250828T140000
DTSTAMP:20260419T222359
CREATED:20250814T145844Z
LAST-MODIFIED:20250814T145844Z
UID:10002546-1756382400-1756389600@downtownchagrinfalls.com
SUMMARY:That Hawaiian Guy BBQ Food Truck Pop Up
DESCRIPTION:That Hawaiian Guy BBQ Food Truck will be popping up all August at Lowe’s Greenhouse! Tuesdays 12-6; Wednesdays 12-6\, Thursdays 12-2 (except Tues 8/19)
URL:https://downtownchagrinfalls.com/event/that-hawaiian-guy-bbq-food-truck-pop-up/2025-08-28/
LOCATION:Lowe’s Greenhouse\, 16540 Chillicothe Road\, Bainbridge\, OH\, 44023\, United States
CATEGORIES:Food & Drink,Pop up shop
ATTACH;FMTTYPE=image/jpeg:https://downtownchagrinfalls.com/wp-content/uploads/2025/08/529455566_1367803978530825_3881000374950596645_n.jpg
END:VEVENT
BEGIN:VEVENT
DTSTART;TZID=America/New_York:20250828T180000
DTEND;TZID=America/New_York:20250828T220000
DTSTAMP:20260419T222359
CREATED:20250807T164547Z
LAST-MODIFIED:20250905T201247Z
UID:10002600-1756404000-1756418400@downtownchagrinfalls.com
SUMMARY:Open Mic Night at M Bevy
DESCRIPTION:Join us every Thursday from 6-10pm for a free\, welcoming open mic night on M Bevy’s outdoor patio! Musicians of all levels are invited to share their talents in a casual\, supportive atmosphere that encourages collaboration. This family and dog-friendly event operates on a first-come\, first-served basis\, so arrive early to sign up. The evening culminates with a community jam session where everyone can join in. Located at M Bevy\, 87 West St\, Chagrin Falls. For more information\, contact host Colleen Welsch.
URL:https://downtownchagrinfalls.com/event/open-mic-night-at-m-bevy/2025-08-28/
LOCATION:M Bevy\, 87 West Street\, Chagrin Falls\, OH\, 44022\, United States
CATEGORIES:Just Fun,Live Music,Open Mic Night
ATTACH;FMTTYPE=image/jpeg:https://downtownchagrinfalls.com/wp-content/uploads/2025/08/qtq80-t4kjZA.jpeg
ORGANIZER;CN="M Bevy":MAILTO:chagrin@mbevy.com
END:VEVENT
BEGIN:VEVENT
DTSTART;TZID=America/New_York:20250829T213000
DTEND;TZID=America/New_York:20250829T213000
DTSTAMP:20260419T222359
CREATED:20250814T182834Z
LAST-MODIFIED:20250814T182834Z
UID:10002570-1756503000-1756503000@downtownchagrinfalls.com
SUMMARY:At the Greenville:Southbound
DESCRIPTION:We are the oldest tavern in the Chagrin Valley dating back to the late 1800’s. People from all walks of life can come to meet\, kick back and enjoy the warm and unique atmosphere. \nWe’ve got great local bands who perform live most weekends\, cold beers\, a full bar with your favorite liquors and spirits along with the famous chip wall which is always stocked for when you’re in the mood to snack. \nWe also have 6 big screen TV’s to catch all your favorite Cleveland sports teams\, a pool table\, Golden Tee® and Keno®!
URL:https://downtownchagrinfalls.com/event/at-the-greenvillesouthbound/
LOCATION:Greenville Inn\, 7125 Pine Street\, Bainbridge\, OH\, 44022\, United States
CATEGORIES:Live Music
ATTACH;FMTTYPE=image/jpeg:https://downtownchagrinfalls.com/wp-content/uploads/2025/07/Greenville-Inn-Logo-2025.jpg
END:VEVENT
BEGIN:VEVENT
DTSTART;TZID=America/New_York:20250830T090000
DTEND;TZID=America/New_York:20250830T120000
DTSTAMP:20260419T222359
CREATED:20250718T155044Z
LAST-MODIFIED:20250718T155044Z
UID:10002456-1756544400-1756555200@downtownchagrinfalls.com
SUMMARY:Geauga Fresh Farmers Market
DESCRIPTION:It’s our 21st season!  We are ready to showcase our areas finest farmers\, bakers\, makers & artisans to YOU!  Depending on the month\, we celebrate the bounty of our harvests.  Our calendars are getting full with Blueberry Day\, Kid’s Market\, Tomato Day\, Corn Day & Fall Harvest Day!  Stop by for a longstanding community market\, we look forward to serving you.\n\nStarted in 2002 the Geauga Fresh Farmers’ Market is producer-only farmers’ market operating year round in Geauga County. The market is board run\, which includes community members & vendors.  We strive to provide you with fresh\, local and real products made or grown by people you can actually talk to.\n\n \nThe purpose of the Geauga Fresh Market is to provide local farmers with a means to sell their produce or value added products directly to consumers\, and to afford consumers the opportunity to buy fresh\, locally grown food. A market that allows farmers to sell directly to consumers will help to support a farm economy in Geauga County. Increasing the profitability of local farms will enable more farms to continue to operate rather than to be lost to development. By promoting the preservation of farmland in Geauga County\, the rural character of the county will remain for all to enjoy. \n \nBy bringing the freshest Geauga County produce and locally made products to the consumer on a weekly basis the Market will encourage customers to value and understand the benefits of supporting our local agricultural economy. The market aims at educating consumers by reconnecting them with their food and where it comes from\, by providing them with higher quality\, more variety and a sense of seasonality. \n \n2025 Geauga Fresh Farmers’ Market Board:\nBryan Briggs\, BB Farms (Vice President)\nKelli Hanley Potts\, Cleveland Field Kitchen\nTiffany O’Neill\, Bainbridge Blooms (Secretary)\nMichael Pizmoht\, Sherwin Williams (Treasurer)\nJacque Thompson\, Wildroots Within (President)\nKarin Wright\, Wright Family Farms\n \nMarket Manager:\nTiffany Mushrush Mentzer\, Harvest Bell Farm\n \nVolunteer Village Representative:\nMayor Bill Koons\, South Russell Village Rep.
URL:https://downtownchagrinfalls.com/event/geauga-fresh-farmers-market/2025-08-30/
LOCATION:5205 Chillicothe Road\, South Russell\, OH\, 5205 Chillicothe Road\, South Russell\, OH\, 44022\, United States
CATEGORIES:Farmers Market
ATTACH;FMTTYPE=image/webp:https://downtownchagrinfalls.com/wp-content/uploads/2023/09/Geauga_Fresh_Logo_2022_1200x.webp
ORGANIZER;CN="Geauga Fresh Farmers Market":MAILTO:geaugaffm@gmail.com
END:VEVENT
BEGIN:VEVENT
DTSTART;TZID=America/New_York:20250830T150000
DTEND;TZID=America/New_York:20250830T170000
DTSTAMP:20260419T222359
CREATED:20250801T133023Z
LAST-MODIFIED:20250814T151601Z
UID:10002499-1756566000-1756573200@downtownchagrinfalls.com
SUMMARY:Weekly Wine Tasting at Chuck's Fine Wines
DESCRIPTION:
URL:https://downtownchagrinfalls.com/event/weekly-wine-tasting-at-chucks-fine-wines/2025-08-30/
LOCATION:Chuck’s Fine Wines\, 23 Bell Street\, Chagrin Falls\, OH\, 44022\, United States
CATEGORIES:Food & Drink,Wine Tasting
ATTACH;FMTTYPE=image/jpeg:https://downtownchagrinfalls.com/wp-content/uploads/2025/08/qtq80-FtcBBM.jpeg
END:VEVENT
BEGIN:VEVENT
DTSTART;TZID=America/New_York:20250830T213000
DTEND;TZID=America/New_York:20250830T213000
DTSTAMP:20260419T222359
CREATED:20250814T182858Z
LAST-MODIFIED:20250814T182858Z
UID:10002571-1756589400-1756589400@downtownchagrinfalls.com
SUMMARY:At the Greenville: Rockstead
DESCRIPTION:We are the oldest tavern in the Chagrin Valley dating back to the late 1800’s. People from all walks of life can come to meet\, kick back and enjoy the warm and unique atmosphere. \nWe’ve got great local bands who perform live most weekends\, cold beers\, a full bar with your favorite liquors and spirits along with the famous chip wall which is always stocked for when you’re in the mood to snack. \nWe also have 6 big screen TV’s to catch all your favorite Cleveland sports teams\, a pool table\, Golden Tee® and Keno®!
URL:https://downtownchagrinfalls.com/event/at-the-greenville-rockstead/
LOCATION:Greenville Inn\, 7125 Pine Street\, Bainbridge\, OH\, 44022\, United States
CATEGORIES:Live Music
ATTACH;FMTTYPE=image/jpeg:https://downtownchagrinfalls.com/wp-content/uploads/2025/07/Greenville-Inn-Logo-2025.jpg
END:VEVENT
BEGIN:VEVENT
DTSTART;TZID=America/New_York:20250831T090000
DTEND;TZID=America/New_York:20250831T120000
DTSTAMP:20260419T222359
CREATED:20250718T155544Z
LAST-MODIFIED:20250718T155806Z
UID:10002476-1756630800-1756641600@downtownchagrinfalls.com
SUMMARY:North Union Farmers Market Chagrin Falls
DESCRIPTION:Located in the beautiful village of Chagrin Falls\, this market is filled with Northeast Ohio’s finest farmers.  Enjoy shopping for fresh produce on a lazy Sunday morning! \n \nChagrin Falls Market is located on at Bandstand Triangle Park from 9-12 every Sunday. You will find farms and food producers with fresh produce\, meats\, dairy\, baked goods and more. \nThe Chagrin Falls Market will remain open during bridge construction!
URL:https://downtownchagrinfalls.com/event/north-union-farmers-market-chagrin-falls/2025-08-31/
LOCATION:Chagrin Falls\, Chagrin Falls\, OH\, 44022\, United States
CATEGORIES:Farmers Market
ATTACH;FMTTYPE=image/jpeg:https://downtownchagrinfalls.com/wp-content/uploads/2025/07/Untitled-design-1.jpg
END:VEVENT
BEGIN:VEVENT
DTSTART;TZID=America/New_York:20250831T130000
DTEND;TZID=America/New_York:20250831T150000
DTSTAMP:20260419T222359
CREATED:20250814T182014Z
LAST-MODIFIED:20250814T182014Z
UID:10002562-1756645200-1756652400@downtownchagrinfalls.com
SUMMARY:Fireside Book Signing: Carl Elton Cook
DESCRIPTION:Carl Elton Cook\, author of the book The Mayflower Project will sign books in the shop on Sunday\, August 31st from 1-3 pm.
URL:https://downtownchagrinfalls.com/event/fireside-book-signing-carl-elton-cook/
LOCATION:Fireside Books\, 29 North Franklin Street\, Chagrin Falls\, OH\, 44022\, United States
CATEGORIES:Book signing
ATTACH;FMTTYPE=image/jpeg:https://downtownchagrinfalls.com/wp-content/uploads/2025/08/Chasing-Clues-2025-17.jpg
END:VEVENT
END:VCALENDAR