BEGIN:VCALENDAR
VERSION:2.0
PRODID:-//Downtown Chagrin Falls - ECPv6.15.13.1//NONSGML v1.0//EN
CALSCALE:GREGORIAN
METHOD:PUBLISH
X-WR-CALNAME:Downtown Chagrin Falls
X-ORIGINAL-URL:https://downtownchagrinfalls.com
X-WR-CALDESC:Events for Downtown Chagrin Falls
REFRESH-INTERVAL;VALUE=DURATION:PT1H
X-Robots-Tag:noindex
X-PUBLISHED-TTL:PT1H
BEGIN:VTIMEZONE
TZID:America/New_York
BEGIN:DAYLIGHT
TZOFFSETFROM:-0500
TZOFFSETTO:-0400
TZNAME:EDT
DTSTART:20240310T070000
END:DAYLIGHT
BEGIN:STANDARD
TZOFFSETFROM:-0400
TZOFFSETTO:-0500
TZNAME:EST
DTSTART:20241103T060000
END:STANDARD
BEGIN:DAYLIGHT
TZOFFSETFROM:-0500
TZOFFSETTO:-0400
TZNAME:EDT
DTSTART:20250309T070000
END:DAYLIGHT
BEGIN:STANDARD
TZOFFSETFROM:-0400
TZOFFSETTO:-0500
TZNAME:EST
DTSTART:20251102T060000
END:STANDARD
BEGIN:DAYLIGHT
TZOFFSETFROM:-0500
TZOFFSETTO:-0400
TZNAME:EDT
DTSTART:20260308T070000
END:DAYLIGHT
BEGIN:STANDARD
TZOFFSETFROM:-0400
TZOFFSETTO:-0500
TZNAME:EST
DTSTART:20261101T060000
END:STANDARD
END:VTIMEZONE
BEGIN:VEVENT
DTSTART;TZID=America/New_York:20250731T180000
DTEND;TZID=America/New_York:20250731T200000
DTSTAMP:20260419T152015
CREATED:20250708T195016Z
LAST-MODIFIED:20250708T195016Z
UID:10002426-1753984800-1753992000@downtownchagrinfalls.com
SUMMARY:CVCC Simple Summer Nights: Rubber Soul
DESCRIPTION:Our Simple Summer Nights Concert Series provides family fun entertainment right in the Village of Chagrin Falls! \nGet a bite to eat before\, after or during the concert\, and enjoy while you listen and sing along to the sounds of Rubber Soul-The Tribute.
URL:https://downtownchagrinfalls.com/event/cvcc-simple-summer-nights-rubber-soul/
LOCATION:Chagrin Falls\, Chagrin Falls\, OH\, 44022\, United States
CATEGORIES:Live Music
ATTACH;FMTTYPE=image/jpeg:https://downtownchagrinfalls.com/wp-content/uploads/2025/07/RubberSoulband.jpg
ORGANIZER;CN="Chagrin Valley Little Theatre":MAILTO:cvlt@cvlt.org
END:VEVENT
BEGIN:VEVENT
DTSTART;TZID=America/New_York:20250801T173000
DTEND;TZID=America/New_York:20250801T200000
DTSTAMP:20260419T152015
CREATED:20250801T132700Z
LAST-MODIFIED:20250801T132700Z
UID:10002494-1754069400-1754078400@downtownchagrinfalls.com
SUMMARY:Live Music at Heinen's Patio: Justo Saborit
DESCRIPTION:Start the weekend off right with a relaxing evening full of great music\, food and drink! \nJoin us in the Tasting Room or on the patio at Heinen’s Chagrin Falls and enjoy Latin tunes performed by local musician\, Justo Saborit. \nWhile you listen\, treat yourself to gourmet bites from our restaurant-style kitchen and sip on our selection of wine and beer on tap! \nNo entrance fee required. Food and beverage may be purchased separately.
URL:https://downtownchagrinfalls.com/event/live-music-at-heinens-patio-justo-saborit/
LOCATION:Heinen’s\, 20 Shopping Plaza\, Chagrin Falls\, OH\, 44022\, United States
CATEGORIES:Live Music
ATTACH;FMTTYPE=image/jpeg:https://downtownchagrinfalls.com/wp-content/uploads/2025/08/Chasing-Clues-2025-4.jpg
END:VEVENT
BEGIN:VEVENT
DTSTART;TZID=America/New_York:20250801T193000
DTEND;TZID=America/New_York:20250801T213000
DTSTAMP:20260419T152015
CREATED:20250708T193819Z
LAST-MODIFIED:20250718T162936Z
UID:10002415-1754076600-1754083800@downtownchagrinfalls.com
SUMMARY:Freaky Friday
DESCRIPTION:Based on the novel Freaky Friday by Mary Rodgers and the Disney films \nGet ready for a rollicking good time with Freaky Friday\, the hilarious and heartwarming musical adaptation of the beloved Disney film. When a magical mishap causes mother and daughter\, Katherine and Ellie\, to swap bodies\, they must navigate the chaos of each other’s lives\, racing against time to find a way back to their own bodies before it’s too late. \nFilled with vibrant songs and dynamic choreography\, this musical explores the trials and triumphs of family relationships and the power of empathy and understanding. With catchy tunes and a touching storyline\, Freaky Friday is sure to entertain audiences of all ages. \nThis lively production\, bursting with humor and heart\, celebrates the bond between parent and child in a fresh and modern way. Don’t miss the chance to experience the joy and laughter of Freaky Friday\, a show that will leave you singing and smiling long after the final curtain. \n\n\n\n\nStarring\nEllie Blake — JACE MALY\nKatherine Blake — HALLE ST. JOHN\nMike — JOHN PAUL WHITMAN\nFletcher Blake — SHANE JOHNSON\nGrandma Helene — TONI SOBER\nGrandpa Gordon — MARK HILAN\nAdam / Fish Vendor — JACK WAGAR\nGretchen — ELYSE WHITMAN\nHannah — RACHEL MARZULLO\nSavannah — JESSIE POLLAK\nParker/Wells / Catering Waiter — MEREDITH WAKEFIELD\nTorrey — AMY MANGO\nDanielle — ROBIN MANGO\nLouis / Catering Waiter — HENRY SENRA\nPastor Bruno / Mr. Blumen / Wells’s Dad — JOSH LINERODE\nSenor O’Brien / Officer Sitz / Catering Waiter — EV BRODSKY\nDr. Ehrin / Gretchen’s Mom — HAYLEY WHITMAN\nMrs. Luckenbill / Adam’s Mom / Mrs. Time — CARSYN AVEGNO\nMs. Meyer / Officer Kowalski / Savannah’s Mom — BRENDA WILLIS\nLaurel / Savannah Clique / Catering Waiter — ESMEE BAKER
URL:https://downtownchagrinfalls.com/event/freaky-friday/2025-08-01/
LOCATION:Chagrin Valley Little Theatre\, 40 River Street\, Chagrin Falls\, OH\, 44022\, United States
CATEGORIES:Theater
ATTACH;FMTTYPE=image/jpeg:https://downtownchagrinfalls.com/wp-content/uploads/2025/07/Freaky-Friday-2025.jpg
ORGANIZER;CN="Chagrin Valley Little Theatre":MAILTO:cvlt@cvlt.org
END:VEVENT
BEGIN:VEVENT
DTSTART;TZID=America/New_York:20250801T213000
DTEND;TZID=America/New_York:20250801T213000
DTSTAMP:20260419T152015
CREATED:20250801T150528Z
LAST-MODIFIED:20250801T150528Z
UID:10002503-1754083800-1754083800@downtownchagrinfalls.com
SUMMARY:At the Greenville: The Big Don Band
DESCRIPTION:We are the oldest tavern in the Chagrin Valley dating back to the late 1800’s. People from all walks of life can come to meet\, kick back and enjoy the warm and unique atmosphere. \nWe’ve got great local bands who perform live most weekends\, cold beers\, a full bar with your favorite liquors and spirits along with the famous chip wall which is always stocked for when you’re in the mood to snack. \nWe also have 6 big screen TV’s to catch all your favorite Cleveland sports teams\, a pool table\, Golden Tee® and Keno®!
URL:https://downtownchagrinfalls.com/event/at-the-greenville-the-big-don-band/
LOCATION:Greenville Inn\, 7125 Pine Street\, Bainbridge\, OH\, 44022\, United States
CATEGORIES:Live Music
ATTACH;FMTTYPE=image/jpeg:https://downtownchagrinfalls.com/wp-content/uploads/2025/07/Greenville-Inn-Logo-2025.jpg
END:VEVENT
BEGIN:VEVENT
DTSTART;TZID=America/New_York:20250802T090000
DTEND;TZID=America/New_York:20250802T120000
DTSTAMP:20260419T152015
CREATED:20250718T155044Z
LAST-MODIFIED:20250718T155044Z
UID:10002452-1754125200-1754136000@downtownchagrinfalls.com
SUMMARY:Geauga Fresh Farmers Market
DESCRIPTION:It’s our 21st season!  We are ready to showcase our areas finest farmers\, bakers\, makers & artisans to YOU!  Depending on the month\, we celebrate the bounty of our harvests.  Our calendars are getting full with Blueberry Day\, Kid’s Market\, Tomato Day\, Corn Day & Fall Harvest Day!  Stop by for a longstanding community market\, we look forward to serving you.\n\nStarted in 2002 the Geauga Fresh Farmers’ Market is producer-only farmers’ market operating year round in Geauga County. The market is board run\, which includes community members & vendors.  We strive to provide you with fresh\, local and real products made or grown by people you can actually talk to.\n\n \nThe purpose of the Geauga Fresh Market is to provide local farmers with a means to sell their produce or value added products directly to consumers\, and to afford consumers the opportunity to buy fresh\, locally grown food. A market that allows farmers to sell directly to consumers will help to support a farm economy in Geauga County. Increasing the profitability of local farms will enable more farms to continue to operate rather than to be lost to development. By promoting the preservation of farmland in Geauga County\, the rural character of the county will remain for all to enjoy. \n \nBy bringing the freshest Geauga County produce and locally made products to the consumer on a weekly basis the Market will encourage customers to value and understand the benefits of supporting our local agricultural economy. The market aims at educating consumers by reconnecting them with their food and where it comes from\, by providing them with higher quality\, more variety and a sense of seasonality. \n \n2025 Geauga Fresh Farmers’ Market Board:\nBryan Briggs\, BB Farms (Vice President)\nKelli Hanley Potts\, Cleveland Field Kitchen\nTiffany O’Neill\, Bainbridge Blooms (Secretary)\nMichael Pizmoht\, Sherwin Williams (Treasurer)\nJacque Thompson\, Wildroots Within (President)\nKarin Wright\, Wright Family Farms\n \nMarket Manager:\nTiffany Mushrush Mentzer\, Harvest Bell Farm\n \nVolunteer Village Representative:\nMayor Bill Koons\, South Russell Village Rep.
URL:https://downtownchagrinfalls.com/event/geauga-fresh-farmers-market/2025-08-02/
LOCATION:5205 Chillicothe Road\, South Russell\, OH\, 5205 Chillicothe Road\, South Russell\, OH\, 44022\, United States
CATEGORIES:Farmers Market
ATTACH;FMTTYPE=image/webp:https://downtownchagrinfalls.com/wp-content/uploads/2023/09/Geauga_Fresh_Logo_2022_1200x.webp
ORGANIZER;CN="Geauga Fresh Farmers Market":MAILTO:geaugaffm@gmail.com
END:VEVENT
BEGIN:VEVENT
DTSTART;TZID=America/New_York:20250802T130000
DTEND;TZID=America/New_York:20250802T170000
DTSTAMP:20260419T152015
CREATED:20250718T151850Z
LAST-MODIFIED:20250718T164747Z
UID:10002439-1754139600-1754154000@downtownchagrinfalls.com
SUMMARY:Chasing Clues in Chagrin Falls
DESCRIPTION:Join the businesses of Chagrin Falls and Connecting for Kids for a scavenger hunt adventure through town!\nYou and your team will visit local businesses\, find clues and compete with others to take the top prize. On your adventures through town\, you’ll also have opportunities to earn raffle tickets for merchant prizes!\nEntry Details $40 per team (up to four adults and unlimited number of children) Includes four drink tickets to use at Chuck’s Fine Wines (21+) Win a raffle ticket from participating businesses for each solved clue!
URL:https://downtownchagrinfalls.com/event/chasing-clues-in-chagrin-falls/
LOCATION:Chuck’s Fine Wines\, 23 Bell Street\, Chagrin Falls\, OH\, 44022\, United States
CATEGORIES:Food & Drink,Just Fun
ATTACH;FMTTYPE=image/jpeg:https://downtownchagrinfalls.com/wp-content/uploads/2025/07/Chasing-Clues-2025-1.jpg
ORGANIZER;CN="Connecting for Kids":MAILTO:info@connectingforkids.org
END:VEVENT
BEGIN:VEVENT
DTSTART;TZID=America/New_York:20250802T150000
DTEND;TZID=America/New_York:20250802T170000
DTSTAMP:20260419T152015
CREATED:20250801T133023Z
LAST-MODIFIED:20250814T151601Z
UID:10002495-1754146800-1754154000@downtownchagrinfalls.com
SUMMARY:Weekly Wine Tasting at Chuck's Fine Wines
DESCRIPTION:
URL:https://downtownchagrinfalls.com/event/weekly-wine-tasting-at-chucks-fine-wines/2025-08-02/
LOCATION:Chuck’s Fine Wines\, 23 Bell Street\, Chagrin Falls\, OH\, 44022\, United States
CATEGORIES:Food & Drink,Wine Tasting
ATTACH;FMTTYPE=image/jpeg:https://downtownchagrinfalls.com/wp-content/uploads/2025/08/qtq80-FtcBBM.jpeg
END:VEVENT
BEGIN:VEVENT
DTSTART;TZID=America/New_York:20250802T193000
DTEND;TZID=America/New_York:20250802T213000
DTSTAMP:20260419T152015
CREATED:20250708T194035Z
LAST-MODIFIED:20250718T163140Z
UID:10002420-1754163000-1754170200@downtownchagrinfalls.com
SUMMARY:Freaky Friday
DESCRIPTION:Based on the novel Freaky Friday by Mary Rodgers and the Disney films \nGet ready for a rollicking good time with Freaky Friday\, the hilarious and heartwarming musical adaptation of the beloved Disney film. When a magical mishap causes mother and daughter\, Katherine and Ellie\, to swap bodies\, they must navigate the chaos of each other’s lives\, racing against time to find a way back to their own bodies before it’s too late. \nFilled with vibrant songs and dynamic choreography\, this musical explores the trials and triumphs of family relationships and the power of empathy and understanding. With catchy tunes and a touching storyline\, Freaky Friday is sure to entertain audiences of all ages. \nThis lively production\, bursting with humor and heart\, celebrates the bond between parent and child in a fresh and modern way. Don’t miss the chance to experience the joy and laughter of Freaky Friday\, a show that will leave you singing and smiling long after the final curtain. \n\n\n\n\nStarring\nEllie Blake — JACE MALY\nKatherine Blake — HALLE ST. JOHN\nMike — JOHN PAUL WHITMAN\nFletcher Blake — SHANE JOHNSON\nGrandma Helene — TONI SOBER\nGrandpa Gordon — MARK HILAN\nAdam / Fish Vendor — JACK WAGAR\nGretchen — ELYSE WHITMAN\nHannah — RACHEL MARZULLO\nSavannah — JESSIE POLLAK\nParker/Wells / Catering Waiter — MEREDITH WAKEFIELD\nTorrey — AMY MANGO\nDanielle — ROBIN MANGO\nLouis / Catering Waiter — HENRY SENRA\nPastor Bruno / Mr. Blumen / Wells’s Dad — JOSH LINERODE\nSenor O’Brien / Officer Sitz / Catering Waiter — EV BRODSKY\nDr. Ehrin / Gretchen’s Mom — HAYLEY WHITMAN\nMrs. Luckenbill / Adam’s Mom / Mrs. Time — CARSYN AVEGNO\nMs. Meyer / Officer Kowalski / Savannah’s Mom — BRENDA WILLIS\nLaurel / Savannah Clique / Catering Waiter — ESMEE BAKER
URL:https://downtownchagrinfalls.com/event/freaky-friday-copy/2025-08-02/
LOCATION:Chagrin Valley Little Theatre\, 40 River Street\, Chagrin Falls\, OH\, 44022\, United States
CATEGORIES:Theater
ATTACH;FMTTYPE=image/jpeg:https://downtownchagrinfalls.com/wp-content/uploads/2025/07/Freaky-Friday-2025.jpg
ORGANIZER;CN="Chagrin Valley Little Theatre":MAILTO:cvlt@cvlt.org
END:VEVENT
BEGIN:VEVENT
DTSTART;TZID=America/New_York:20250802T213000
DTEND;TZID=America/New_York:20250802T213000
DTSTAMP:20260419T152015
CREATED:20250801T150605Z
LAST-MODIFIED:20250801T150605Z
UID:10002504-1754170200-1754170200@downtownchagrinfalls.com
SUMMARY:At the Greenville: Reality Check
DESCRIPTION:We are the oldest tavern in the Chagrin Valley dating back to the late 1800’s. People from all walks of life can come to meet\, kick back and enjoy the warm and unique atmosphere. \nWe’ve got great local bands who perform live most weekends\, cold beers\, a full bar with your favorite liquors and spirits along with the famous chip wall which is always stocked for when you’re in the mood to snack. \nWe also have 6 big screen TV’s to catch all your favorite Cleveland sports teams\, a pool table\, Golden Tee® and Keno®!
URL:https://downtownchagrinfalls.com/event/at-the-greenville-reality-check/
LOCATION:Greenville Inn\, 7125 Pine Street\, Bainbridge\, OH\, 44022\, United States
CATEGORIES:Live Music
ATTACH;FMTTYPE=image/jpeg:https://downtownchagrinfalls.com/wp-content/uploads/2025/07/Greenville-Inn-Logo-2025.jpg
END:VEVENT
BEGIN:VEVENT
DTSTART;TZID=America/New_York:20250803T090000
DTEND;TZID=America/New_York:20250803T120000
DTSTAMP:20260419T152015
CREATED:20250718T155544Z
LAST-MODIFIED:20250718T155806Z
UID:10002472-1754211600-1754222400@downtownchagrinfalls.com
SUMMARY:North Union Farmers Market Chagrin Falls
DESCRIPTION:Located in the beautiful village of Chagrin Falls\, this market is filled with Northeast Ohio’s finest farmers.  Enjoy shopping for fresh produce on a lazy Sunday morning! \n \nChagrin Falls Market is located on at Bandstand Triangle Park from 9-12 every Sunday. You will find farms and food producers with fresh produce\, meats\, dairy\, baked goods and more. \nThe Chagrin Falls Market will remain open during bridge construction!
URL:https://downtownchagrinfalls.com/event/north-union-farmers-market-chagrin-falls/2025-08-03/
LOCATION:Chagrin Falls\, Chagrin Falls\, OH\, 44022\, United States
CATEGORIES:Farmers Market
ATTACH;FMTTYPE=image/jpeg:https://downtownchagrinfalls.com/wp-content/uploads/2025/07/Untitled-design-1.jpg
END:VEVENT
BEGIN:VEVENT
DTSTART;TZID=America/New_York:20250803T140000
DTEND;TZID=America/New_York:20250803T160000
DTSTAMP:20260419T152015
CREATED:20250708T194035Z
LAST-MODIFIED:20250718T163140Z
UID:10002421-1754229600-1754236800@downtownchagrinfalls.com
SUMMARY:Freaky Friday
DESCRIPTION:Based on the novel Freaky Friday by Mary Rodgers and the Disney films \nGet ready for a rollicking good time with Freaky Friday\, the hilarious and heartwarming musical adaptation of the beloved Disney film. When a magical mishap causes mother and daughter\, Katherine and Ellie\, to swap bodies\, they must navigate the chaos of each other’s lives\, racing against time to find a way back to their own bodies before it’s too late. \nFilled with vibrant songs and dynamic choreography\, this musical explores the trials and triumphs of family relationships and the power of empathy and understanding. With catchy tunes and a touching storyline\, Freaky Friday is sure to entertain audiences of all ages. \nThis lively production\, bursting with humor and heart\, celebrates the bond between parent and child in a fresh and modern way. Don’t miss the chance to experience the joy and laughter of Freaky Friday\, a show that will leave you singing and smiling long after the final curtain. \n\n\n\n\nStarring\nEllie Blake — JACE MALY\nKatherine Blake — HALLE ST. JOHN\nMike — JOHN PAUL WHITMAN\nFletcher Blake — SHANE JOHNSON\nGrandma Helene — TONI SOBER\nGrandpa Gordon — MARK HILAN\nAdam / Fish Vendor — JACK WAGAR\nGretchen — ELYSE WHITMAN\nHannah — RACHEL MARZULLO\nSavannah — JESSIE POLLAK\nParker/Wells / Catering Waiter — MEREDITH WAKEFIELD\nTorrey — AMY MANGO\nDanielle — ROBIN MANGO\nLouis / Catering Waiter — HENRY SENRA\nPastor Bruno / Mr. Blumen / Wells’s Dad — JOSH LINERODE\nSenor O’Brien / Officer Sitz / Catering Waiter — EV BRODSKY\nDr. Ehrin / Gretchen’s Mom — HAYLEY WHITMAN\nMrs. Luckenbill / Adam’s Mom / Mrs. Time — CARSYN AVEGNO\nMs. Meyer / Officer Kowalski / Savannah’s Mom — BRENDA WILLIS\nLaurel / Savannah Clique / Catering Waiter — ESMEE BAKER
URL:https://downtownchagrinfalls.com/event/freaky-friday-copy/2025-08-03/
LOCATION:Chagrin Valley Little Theatre\, 40 River Street\, Chagrin Falls\, OH\, 44022\, United States
CATEGORIES:Theater
ATTACH;FMTTYPE=image/jpeg:https://downtownchagrinfalls.com/wp-content/uploads/2025/07/Freaky-Friday-2025.jpg
ORGANIZER;CN="Chagrin Valley Little Theatre":MAILTO:cvlt@cvlt.org
END:VEVENT
END:VCALENDAR