BEGIN:VCALENDAR
VERSION:2.0
PRODID:-//Downtown Chagrin Falls - ECPv6.15.13.1//NONSGML v1.0//EN
CALSCALE:GREGORIAN
METHOD:PUBLISH
X-WR-CALNAME:Downtown Chagrin Falls
X-ORIGINAL-URL:https://downtownchagrinfalls.com
X-WR-CALDESC:Events for Downtown Chagrin Falls
REFRESH-INTERVAL;VALUE=DURATION:PT1H
X-Robots-Tag:noindex
X-PUBLISHED-TTL:PT1H
BEGIN:VTIMEZONE
TZID:America/New_York
BEGIN:DAYLIGHT
TZOFFSETFROM:-0500
TZOFFSETTO:-0400
TZNAME:EDT
DTSTART:20240310T070000
END:DAYLIGHT
BEGIN:STANDARD
TZOFFSETFROM:-0400
TZOFFSETTO:-0500
TZNAME:EST
DTSTART:20241103T060000
END:STANDARD
BEGIN:DAYLIGHT
TZOFFSETFROM:-0500
TZOFFSETTO:-0400
TZNAME:EDT
DTSTART:20250309T070000
END:DAYLIGHT
BEGIN:STANDARD
TZOFFSETFROM:-0400
TZOFFSETTO:-0500
TZNAME:EST
DTSTART:20251102T060000
END:STANDARD
BEGIN:DAYLIGHT
TZOFFSETFROM:-0500
TZOFFSETTO:-0400
TZNAME:EDT
DTSTART:20260308T070000
END:DAYLIGHT
BEGIN:STANDARD
TZOFFSETFROM:-0400
TZOFFSETTO:-0500
TZNAME:EST
DTSTART:20261101T060000
END:STANDARD
END:VTIMEZONE
BEGIN:VEVENT
DTSTART;TZID=America/New_York:20250709T170000
DTEND;TZID=America/New_York:20250709T173000
DTSTAMP:20260420T000734
CREATED:20250708T190016Z
LAST-MODIFIED:20250708T190016Z
UID:10002409-1752080400-1752082200@downtownchagrinfalls.com
SUMMARY:Sage & Honey Ribbon Cutting Ceremony
DESCRIPTION:📚 Sage & Honey Grand Opening & Ribbon Cutting ✂️Join the Chagrin Valley Chamber of Commerce in celebrating the grand opening of Sage & Honey at their new location in the heart of downtown Chagrin Falls! \n📅 Wednesday\, July 9🕝 Time 5:00pm📍 10 E. Washington St\, Chagrin Falls\, OH 44022 \nKindly RSVP to:\ninfo.drivemktg@gmail.com \nStep into 2\,500 square feet of books\, brews\, and beauty! Sage & Honey is more than a bookstore; it’s a cozy\, creative community space where literature meets lifestyle. \n✨ Be part of the ribbon cutting\, meet owners Michelle and Kat\, tour the beautifully renovated space\, and get a first look at everything Sage & Honey has to offer. \n🍵 What you?ll find at Sage & Honey: \n\n\nA full café menu\, including handcrafted crepes and artisan tea service \n\n\nThoughtfully curated books and unique gifts \n\n\nFun features like Blind Date with a Book \n\n\nA calendar of book clubs and community events \n\n\nCozy corners perfect for relaxing or reading \n\n\nThe ability to rent the space for private gatherings or creative sessions \n\n\n📖 Whether you?re popping in for a cup of tea\, shopping for the perfect gift\, or joining a local book club\, Sage & Honey is your new home away from home. \n✅ This event is open to Chamber members\, community partners\, and the public. All are welcome! \nCome meet the Sage & Honey team and help us give them a warm Chagrin Valley Chamber welcome!
URL:https://downtownchagrinfalls.com/event/sage-honey-ribbon-cutting-ceremony/
LOCATION:Chagrin Falls\, Chagrin Falls\, OH\, 44022\, United States
CATEGORIES:Shopping
ATTACH;FMTTYPE=image/jpeg:https://downtownchagrinfalls.com/wp-content/uploads/2025/07/EventPhotoMini_IMG_2915-1-e1747789628704.jpg
END:VEVENT
BEGIN:VEVENT
DTSTART;TZID=America/New_York:20250710T180000
DTEND;TZID=America/New_York:20250710T200000
DTSTAMP:20260420T000734
CREATED:20250708T190521Z
LAST-MODIFIED:20250708T190548Z
UID:10002410-1752170400-1752177600@downtownchagrinfalls.com
SUMMARY:CVCC Simple Summer Nights Concert Series: Still Standing
DESCRIPTION:The CVCC Simple Summer Nights Concert Series provides family fun entertainment right in the Village of Chagrin Falls!\nGet a bite to eat before or after the concert\, or get take out and enjoy while you listen and dance to the amazing sounds of Still Standing!
URL:https://downtownchagrinfalls.com/event/cvcc-summer-nights-concert-series-still-standing/
LOCATION:Riverside Park\, 78 Main Street\, Chagrin Falls\, OH\, 44022
CATEGORIES:Live Music
ATTACH;FMTTYPE=image/jpeg:https://downtownchagrinfalls.com/wp-content/uploads/2025/07/Yacht-Club-image-3.jpg
END:VEVENT
BEGIN:VEVENT
DTSTART;TZID=America/New_York:20250711T170000
DTEND;TZID=America/New_York:20250711T200000
DTSTAMP:20260420T000734
CREATED:20250708T195940Z
LAST-MODIFIED:20250708T203439Z
UID:10002431-1752253200-1752264000@downtownchagrinfalls.com
SUMMARY:4th Annual Emerging Young Artists Exhibition Opening Reception
DESCRIPTION:Join us for the opening of Valley Art Center’s 4th Annual Emerging Young Artists Exhibition\, a celebration of creativity\, innovation\, and the powerful voices of artists ages 16–22 from across Northeast Ohio. This juried exhibition features nearly 50 selected works in a range of media\, showcasing the diverse talents and perspectives of the region’s next generation of visual artists.\n​\nThe evening begins with a Sensory-Friendly Quiet Hour from 5:00–6:00 PM\, offering a low-stimulation environment for guests who prefer a calmer experience. From 6:00–8:00 PM\, the gallery will be open to all\, with an Award Ceremony at 7:00 PM recognizing this year’s prize winners\, including the newly introduced Judy Bennett Award for Young Creative Excellence and the Best in Show Solo Exhibition Award. Enjoy light refreshments\, drinks\, and community conversation as we celebrate these emerging talents in a welcoming and inclusive space.Event Details\nValley Art Center\, Chagrin Falls\nFriday\, July 11\, 2025\n5:00–6:00 PM – Sensory-Friendly Quiet Hour\n6:00–8:00 PM – Public Reception\n7:00 PM – Award Ceremony\n​\nLight food and drinks provided\nFree and open to all!\n\n\n\n\n\n\n\n\n\n\n\n\n\n\nCongratulations to the accepted artists:\nRay Askew\, Melissa Bollen\, Hazel Breyer\, Brooke Bracey\, Amir Catney\, Gillian Canacci\, Layla Davis\, Joselyn Duncan\, Ingrid Fernandes\, Skylar Fleming\, Emily Fontana\, Emma Gatzulis\, Keegan Gehri\, Brandon Gleisinger\, Vivienne González\, Lovena Grillot\, Ethan Grossberg\, Theo Hawk\, Maura Ingraham\, Nina Jaeger\, Jon Jackson\, Nina Jaeger\, Frankie LeBlanc\, Alisa Leskov\, Katharine Lobas\, Audrey Magdics\, Nicholas Monastra\, Regina Marzullo\, Elyse Orosa\, Kathleen O’Hara\, Elyana Plotkin\, Natasha Rehlender\, Claire Rubin\, Anna Belle Shapiro\, Kailey Stec\, Rachel Stamper\, Lilly Stefano\, Sage Zargari\, Carla Wagner\, Aaliyah Woodbridge\, Lucas Yang\, Caleb Zelch
URL:https://downtownchagrinfalls.com/event/4th-annual-emerging-young-artists-exhibition-opening-reception/
LOCATION:Valley Art Center\, 155 Bell Street\, Chagrin Falls\, OH\, 44022\, United States
CATEGORIES:Art Exhibit Opening
ATTACH;FMTTYPE=image/png:https://downtownchagrinfalls.com/wp-content/uploads/2025/07/Young-Artists-Thumb-1.png
END:VEVENT
BEGIN:VEVENT
DTSTART;TZID=America/New_York:20250712T090000
DTEND;TZID=America/New_York:20250712T100000
DTSTAMP:20260420T000734
CREATED:20250708T195549Z
LAST-MODIFIED:20250718T165021Z
UID:10002427-1752310800-1752314400@downtownchagrinfalls.com
SUMMARY:Yoga by the Falls
DESCRIPTION:Yoga is for everybody! \nIt’s that time again. Chagrin Yoga presents our 15th annual…Yoga By The Falls! \n \nJoin us for a Slow Flow yoga session in beautiful Triangle Park. It doesn’t matter whether you have been doing yoga forever or it’s your first time…all are welcome. \nBring your yoga mat and experience yoga with our talented teachers. It’s free. \nIt’s fun!
URL:https://downtownchagrinfalls.com/event/yoga-by-the-falls/2025-07-12/
LOCATION:Triangle Park\, Chagrin Falls\, OH\, 44022\, United States
CATEGORIES:Fitness
ATTACH;FMTTYPE=image/jpeg:https://downtownchagrinfalls.com/wp-content/uploads/2025/07/qtq80-sAfUP9.jpeg
END:VEVENT
BEGIN:VEVENT
DTSTART;TZID=America/New_York:20250712T090000
DTEND;TZID=America/New_York:20250712T120000
DTSTAMP:20260420T000734
CREATED:20250718T155044Z
LAST-MODIFIED:20250718T155044Z
UID:10002449-1752310800-1752321600@downtownchagrinfalls.com
SUMMARY:Geauga Fresh Farmers Market
DESCRIPTION:It’s our 21st season!  We are ready to showcase our areas finest farmers\, bakers\, makers & artisans to YOU!  Depending on the month\, we celebrate the bounty of our harvests.  Our calendars are getting full with Blueberry Day\, Kid’s Market\, Tomato Day\, Corn Day & Fall Harvest Day!  Stop by for a longstanding community market\, we look forward to serving you.\n\nStarted in 2002 the Geauga Fresh Farmers’ Market is producer-only farmers’ market operating year round in Geauga County. The market is board run\, which includes community members & vendors.  We strive to provide you with fresh\, local and real products made or grown by people you can actually talk to.\n\n \nThe purpose of the Geauga Fresh Market is to provide local farmers with a means to sell their produce or value added products directly to consumers\, and to afford consumers the opportunity to buy fresh\, locally grown food. A market that allows farmers to sell directly to consumers will help to support a farm economy in Geauga County. Increasing the profitability of local farms will enable more farms to continue to operate rather than to be lost to development. By promoting the preservation of farmland in Geauga County\, the rural character of the county will remain for all to enjoy. \n \nBy bringing the freshest Geauga County produce and locally made products to the consumer on a weekly basis the Market will encourage customers to value and understand the benefits of supporting our local agricultural economy. The market aims at educating consumers by reconnecting them with their food and where it comes from\, by providing them with higher quality\, more variety and a sense of seasonality. \n \n2025 Geauga Fresh Farmers’ Market Board:\nBryan Briggs\, BB Farms (Vice President)\nKelli Hanley Potts\, Cleveland Field Kitchen\nTiffany O’Neill\, Bainbridge Blooms (Secretary)\nMichael Pizmoht\, Sherwin Williams (Treasurer)\nJacque Thompson\, Wildroots Within (President)\nKarin Wright\, Wright Family Farms\n \nMarket Manager:\nTiffany Mushrush Mentzer\, Harvest Bell Farm\n \nVolunteer Village Representative:\nMayor Bill Koons\, South Russell Village Rep.
URL:https://downtownchagrinfalls.com/event/geauga-fresh-farmers-market/2025-07-12/
LOCATION:5205 Chillicothe Road\, South Russell\, OH\, 5205 Chillicothe Road\, South Russell\, OH\, 44022\, United States
CATEGORIES:Farmers Market
ATTACH;FMTTYPE=image/webp:https://downtownchagrinfalls.com/wp-content/uploads/2023/09/Geauga_Fresh_Logo_2022_1200x.webp
ORGANIZER;CN="Geauga Fresh Farmers Market":MAILTO:geaugaffm@gmail.com
END:VEVENT
BEGIN:VEVENT
DTSTART;TZID=America/New_York:20250713T090000
DTEND;TZID=America/New_York:20250713T120000
DTSTAMP:20260420T000734
CREATED:20250718T155544Z
LAST-MODIFIED:20250718T155806Z
UID:10002469-1752397200-1752408000@downtownchagrinfalls.com
SUMMARY:North Union Farmers Market Chagrin Falls
DESCRIPTION:Located in the beautiful village of Chagrin Falls\, this market is filled with Northeast Ohio’s finest farmers.  Enjoy shopping for fresh produce on a lazy Sunday morning! \n \nChagrin Falls Market is located on at Bandstand Triangle Park from 9-12 every Sunday. You will find farms and food producers with fresh produce\, meats\, dairy\, baked goods and more. \nThe Chagrin Falls Market will remain open during bridge construction!
URL:https://downtownchagrinfalls.com/event/north-union-farmers-market-chagrin-falls/2025-07-13/
LOCATION:Chagrin Falls\, Chagrin Falls\, OH\, 44022\, United States
CATEGORIES:Farmers Market
ATTACH;FMTTYPE=image/jpeg:https://downtownchagrinfalls.com/wp-content/uploads/2025/07/Untitled-design-1.jpg
END:VEVENT
BEGIN:VEVENT
DTSTART;TZID=America/New_York:20250713T130000
DTEND;TZID=America/New_York:20250713T150000
DTSTAMP:20260420T000734
CREATED:20250708T205903Z
LAST-MODIFIED:20250708T205903Z
UID:10002438-1752411600-1752418800@downtownchagrinfalls.com
SUMMARY:Fireside Book Shop: Jeannie Schultz Book Signing
DESCRIPTION:Jeannie Schultz\, author of the book As the Stage Turned: A Front Row Theatre Memoir\, will sign books in the shop on Sunday\, July 13th from 1-3 pm.
URL:https://downtownchagrinfalls.com/event/fireside-book-shop-jeannie-schultz-book-signing/
LOCATION:Fireside Books\, 29 North Franklin Street\, Chagrin Falls\, OH\, 44022\, United States
CATEGORIES:Book signing
ATTACH;FMTTYPE=image/png:https://downtownchagrinfalls.com/wp-content/uploads/2025/07/JeannieSchultzposter-1.png
END:VEVENT
END:VCALENDAR