BEGIN:VCALENDAR
VERSION:2.0
PRODID:-//Downtown Chagrin Falls - ECPv6.15.13.1//NONSGML v1.0//EN
CALSCALE:GREGORIAN
METHOD:PUBLISH
X-WR-CALNAME:Downtown Chagrin Falls
X-ORIGINAL-URL:https://downtownchagrinfalls.com
X-WR-CALDESC:Events for Downtown Chagrin Falls
REFRESH-INTERVAL;VALUE=DURATION:PT1H
X-Robots-Tag:noindex
X-PUBLISHED-TTL:PT1H
BEGIN:VTIMEZONE
TZID:America/New_York
BEGIN:DAYLIGHT
TZOFFSETFROM:-0500
TZOFFSETTO:-0400
TZNAME:EDT
DTSTART:20230312T070000
END:DAYLIGHT
BEGIN:STANDARD
TZOFFSETFROM:-0400
TZOFFSETTO:-0500
TZNAME:EST
DTSTART:20231105T060000
END:STANDARD
BEGIN:DAYLIGHT
TZOFFSETFROM:-0500
TZOFFSETTO:-0400
TZNAME:EDT
DTSTART:20240310T070000
END:DAYLIGHT
BEGIN:STANDARD
TZOFFSETFROM:-0400
TZOFFSETTO:-0500
TZNAME:EST
DTSTART:20241103T060000
END:STANDARD
BEGIN:DAYLIGHT
TZOFFSETFROM:-0500
TZOFFSETTO:-0400
TZNAME:EDT
DTSTART:20250309T070000
END:DAYLIGHT
BEGIN:STANDARD
TZOFFSETFROM:-0400
TZOFFSETTO:-0500
TZNAME:EST
DTSTART:20251102T060000
END:STANDARD
END:VTIMEZONE
BEGIN:VEVENT
DTSTART;TZID=America/New_York:20240425T193000
DTEND;TZID=America/New_York:20240425T213000
DTSTAMP:20260422T055010
CREATED:20230928T003305Z
LAST-MODIFIED:20230928T003305Z
UID:10001314-1714073400-1714080600@downtownchagrinfalls.com
SUMMARY:Apollo's Fire: Bach's Easter Oratorio
DESCRIPTION:A rare chance to hear J.S. Bach’s dramatic Easter masterpiece! Jeannette Sorrell leads soloists\, choir\, three trumpets\, and a festive orchestra. Alongside the Easter Oratorio\, we present Bach’s exuberant Easter Cantata\, BWV 66 – including a moving dialogue between Hope and Fear\, as well as a thrilling trumpet solo. \nFeatured Artists:\nAndréa Walker\,soprano \nAryeh Nussbaum Cohen\,countertenor \nHaitham Haidar\,tenor \nEdward Vogel\,baritone \nFor more information contact\, jkonow@fedchurch.org or call 440.247.6490 x 120.
URL:https://downtownchagrinfalls.com/event/apollos-fire-bachs-easter-oratorio/
LOCATION:Federated Church\, 76 Bell Street\, Chagrin Falls\, OH\, 44022\, United States
CATEGORIES:Live Music
ATTACH;FMTTYPE=image/png:https://downtownchagrinfalls.com/wp-content/uploads/2023/09/Untitled-design-38.png
END:VEVENT
END:VCALENDAR