BEGIN:VCALENDAR
VERSION:2.0
PRODID:-//Downtown Chagrin Falls - ECPv6.15.13.1//NONSGML v1.0//EN
CALSCALE:GREGORIAN
METHOD:PUBLISH
X-ORIGINAL-URL:https://downtownchagrinfalls.com
X-WR-CALDESC:Events for Downtown Chagrin Falls
REFRESH-INTERVAL;VALUE=DURATION:PT1H
X-Robots-Tag:noindex
X-PUBLISHED-TTL:PT1H
BEGIN:VTIMEZONE
TZID:America/New_York
BEGIN:DAYLIGHT
TZOFFSETFROM:-0500
TZOFFSETTO:-0400
TZNAME:EDT
DTSTART:20220313T070000
END:DAYLIGHT
BEGIN:STANDARD
TZOFFSETFROM:-0400
TZOFFSETTO:-0500
TZNAME:EST
DTSTART:20221106T060000
END:STANDARD
BEGIN:DAYLIGHT
TZOFFSETFROM:-0500
TZOFFSETTO:-0400
TZNAME:EDT
DTSTART:20230312T070000
END:DAYLIGHT
BEGIN:STANDARD
TZOFFSETFROM:-0400
TZOFFSETTO:-0500
TZNAME:EST
DTSTART:20231105T060000
END:STANDARD
BEGIN:DAYLIGHT
TZOFFSETFROM:-0500
TZOFFSETTO:-0400
TZNAME:EDT
DTSTART:20240310T070000
END:DAYLIGHT
BEGIN:STANDARD
TZOFFSETFROM:-0400
TZOFFSETTO:-0500
TZNAME:EST
DTSTART:20241103T060000
END:STANDARD
END:VTIMEZONE
BEGIN:VEVENT
DTSTART;TZID=America/New_York:20231023T180000
DTEND;TZID=America/New_York:20231023T190000
DTSTAMP:20260419T203746
CREATED:20230928T022841Z
LAST-MODIFIED:20230928T022841Z
UID:10001336-1698084000-1698087600@downtownchagrinfalls.com
SUMMARY:Spooky Stories Shadow Theater
DESCRIPTION:Spooky stories brought to life using the magic of puppetry.
URL:https://downtownchagrinfalls.com/event/spooky-stories-shadow-theater/
LOCATION:Chagrin Falls Public Library\, 100 East Orange Street\, Chagrin Falls\, OH\, 44022\, United States
CATEGORIES:Children
ATTACH;FMTTYPE=image/png:https://downtownchagrinfalls.com/wp-content/uploads/2022/09/Branch_Chagrin_Falls1.png
END:VEVENT
BEGIN:VEVENT
DTSTART;TZID=America/New_York:20231024T140000
DTEND;TZID=America/New_York:20231024T150000
DTSTAMP:20260419T203746
CREATED:20230928T022707Z
LAST-MODIFIED:20230928T022707Z
UID:10001334-1698156000-1698159600@downtownchagrinfalls.com
SUMMARY:Tuesday Afternoon Book Discussion Group
DESCRIPTION:9/26 River of the Gods;\n10/24 Hello Beautiful;\n11/28 Remarkably Bright Creatures\n\n\n\n\n\n\n\nSeptember 26th: River of the Gods: genius\, courage and betrayal in the search for the source of the Nile\, by Candice Millard \n-Tells the dramatic story of two 19th-century British explorers who spent years trekking through East Africa\, enduring injury and illness in a search for the source of the Nile. \nOctober 24th:  Hello Beautiful\, by Ann Napolitano \n-An exquisite homage to Louisa May Alcott’s timeless classic\, Little Women\, Hello Beautiful is a profoundly moving portrait of what is possible when we choose to love someone not in spite of who they are\, but because of it. \nNovember 28th:  Remarkably Bright Creatures\, by Shelby Van Pelt \nFor fans of A Man Called Ove\, a luminous debut novel about a widow’s unlikely friendship with a giant Pacific octopus reluctantly residing at the local aquarium-and the truths she finally uncovers about her son’s disappearance 30 years ago. \nIf you have any questions\, please call the Chagrin Falls Branch at (440)247-3556. \n\n\n\n\n\n\nTAGS: | Book Discussion |
URL:https://downtownchagrinfalls.com/event/tuesday-afternoon-book-discussion-group/2023-10-24/
LOCATION:Chagrin Falls Public Library\, 100 East Orange Street\, Chagrin Falls\, OH\, 44022\, United States
CATEGORIES:Book Club
ATTACH;FMTTYPE=image/png:https://downtownchagrinfalls.com/wp-content/uploads/2022/09/Branch_Chagrin_Falls1.png
END:VEVENT
BEGIN:VEVENT
DTSTART;TZID=America/New_York:20231024T180000
DTEND;TZID=America/New_York:20231024T193000
DTSTAMP:20260419T203746
CREATED:20230928T024509Z
LAST-MODIFIED:20230928T024509Z
UID:10001343-1698170400-1698175800@downtownchagrinfalls.com
SUMMARY:High End Chardonnary Wine
DESCRIPTION:Grab a glass and celebrate all of the delicious qualities of Chardonnay! \nFrom France to the Russian River Valley of California\, join us in the Tasting Room at Heinen’s Chagrin Falls to taste a curated collection of Chardonnay that may just change the way you think about this ubiquitous grape varietal. \n$35 per person | Questions? Please contact Heinen’s Chagrin Falls at 440-424-5108.
URL:https://downtownchagrinfalls.com/event/high-end-chardonnary-wine/
LOCATION:Heinen’s\, 20 Shopping Plaza\, Chagrin Falls\, OH\, 44022\, United States
CATEGORIES:Food & Drink,Wine Tasting
ATTACH;FMTTYPE=image/jpeg:https://downtownchagrinfalls.com/wp-content/uploads/2023/09/https___cdn.evbuc_.com_images_587213209_185203036389_1_original.jpeg
END:VEVENT
BEGIN:VEVENT
DTSTART;TZID=America/New_York:20231025T090000
DTEND;TZID=America/New_York:20231025T103000
DTSTAMP:20260419T203746
CREATED:20231018T210233Z
LAST-MODIFIED:20231018T210233Z
UID:10001409-1698224400-1698229800@downtownchagrinfalls.com
SUMMARY:Bird Walk
DESCRIPTION:A great opportunity for birders of all skill levels to enjoy the fields and forests along the Chagrin River. Led by Marty Calabrese. Email northchagrinnc@clevelandmetroparks.com with questions. No registration required. \n\nTerrain: natural surface and gravel\, 1.5 miles\, South Chagrin Reservation Jackson Field\nDriving Directions\n440-473-3370\nSend Email
URL:https://downtownchagrinfalls.com/event/bird-walk-2/
LOCATION:Jackson Field\, South Chagrin Reservation
CATEGORIES:Nature,Outdoor
ATTACH;FMTTYPE=image/jpeg:https://downtownchagrinfalls.com/wp-content/uploads/2023/10/female-cardinal-in-meadow.jpg
END:VEVENT
BEGIN:VEVENT
DTSTART;TZID=America/New_York:20231025T170000
DTEND;TZID=America/New_York:20231025T200000
DTSTAMP:20260419T203746
CREATED:20231018T200152Z
LAST-MODIFIED:20231018T200152Z
UID:10001402-1698253200-1698264000@downtownchagrinfalls.com
SUMMARY:Meet The Makers
DESCRIPTION:Meet The Makers \nAnnie Becker: Founder of “Spare Parts” Annie creates one-of-a-kind sculptures out of exactly that – spare parts \nJulie Everett: Candle-maker extraordinaire and founder of Chagrin Falls Candle Company \nPlease join us at FIG in celebrating these amazing local artisans and enjoy refreshments with friends!
URL:https://downtownchagrinfalls.com/event/meet-the-makers/
LOCATION:FIG Chagrin\, 23 S. Franklin Street\, Chagrin Falls\, OH\, 44022\, United States
CATEGORIES:Art,Food & Drink
ATTACH;FMTTYPE=image/png:https://downtownchagrinfalls.com/wp-content/uploads/2023/10/Untitled-design-55.png
END:VEVENT
BEGIN:VEVENT
DTSTART;TZID=America/New_York:20231025T190000
DTEND;TZID=America/New_York:20231025T200000
DTSTAMP:20260419T203746
CREATED:20230928T022434Z
LAST-MODIFIED:20230928T022434Z
UID:10001333-1698260400-1698264000@downtownchagrinfalls.com
SUMMARY:AARP Fraud Watch Basics
DESCRIPTION:How can you protect yourself from fraud? AARP presents an insider’s look at fraud. \n\n\n\n\n\n\nHave you ever been approached with a fraudulent offer or been a victim of identity theft? These days\, scammers are sophisticated. And separating the real from the phony can be tough—especially when emotions are running high. Join us for a free event where we’ll take a look into the latest scams\, how to avoid them and what to do if you’ve been targeted. \nWe’ll explore: \n• Common scams\, and how to spot and avoid them \n• Tactics scammers use to target individuals \n• What to do if you’re asked for personal information \n• Resources to help protect yourself and your family \nRegistration is required. Please follow this link to register with AARP: http://aarp.cvent.com/OHevents
URL:https://downtownchagrinfalls.com/event/aarp-fraud-watch-basics/
LOCATION:Chagrin Falls Public Library\, 100 East Orange Street\, Chagrin Falls\, OH\, 44022\, United States
CATEGORIES:Speaker
ATTACH;FMTTYPE=image/png:https://downtownchagrinfalls.com/wp-content/uploads/2022/09/Branch_Chagrin_Falls1.png
END:VEVENT
BEGIN:VEVENT
DTSTART;TZID=America/New_York:20231025T190000
DTEND;TZID=America/New_York:20231025T220000
DTSTAMP:20260419T203746
CREATED:20231012T003403Z
LAST-MODIFIED:20231012T003403Z
UID:10001389-1698260400-1698271200@downtownchagrinfalls.com
SUMMARY:Tiger Prep: Fireside Chat
DESCRIPTION:Welcome to the 2023- 2024 School year with Tiger Prep! We are so excited to announce our first event of the year! Our awesome Fireside Chat!\nThis will be a great way to get to know Us and ask some of your Big questions about your concerns about your Tiger and their learning issues!\nCome enjoy Food\, Warm Drinks\, and Great Support!
URL:https://downtownchagrinfalls.com/event/tiger-prep-fireside-chat/
LOCATION:Fohring Meadows\, 16780 Savage Road\, Bainbridge\, OH\, 44022\, United States
CATEGORIES:Community,Support
ATTACH;FMTTYPE=image/jpeg:https://downtownchagrinfalls.com/wp-content/uploads/2023/10/387742353_345312487892055_6463545483013525085_n.jpg
END:VEVENT
BEGIN:VEVENT
DTSTART;TZID=America/New_York:20231025T193000
DTEND;TZID=America/New_York:20231025T193000
DTSTAMP:20260419T203746
CREATED:20231012T003817Z
LAST-MODIFIED:20231012T003817Z
UID:10001390-1698262200-1698262200@downtownchagrinfalls.com
SUMMARY:Hamlet Winter Concert Series: Scimitars Swing Band
DESCRIPTION:
URL:https://downtownchagrinfalls.com/event/hamlet-winter-concert-series-scimitars-swing-band/
LOCATION:Hamlet Atrium\, 200 Hamlet Hills Drive\, Chagrin Falls\, OH\, 44022\, United States
CATEGORIES:Live Music
ATTACH;FMTTYPE=image/png:https://downtownchagrinfalls.com/wp-content/uploads/2023/10/Untitled-design-51.png
END:VEVENT
BEGIN:VEVENT
DTSTART;TZID=America/New_York:20231026T140000
DTEND;TZID=America/New_York:20231026T150000
DTSTAMP:20260419T203746
CREATED:20231012T005445Z
LAST-MODIFIED:20231012T005531Z
UID:10001397-1698328800-1698332400@downtownchagrinfalls.com
SUMMARY:Chair Yoga at the Library
DESCRIPTION:Three more October sessions of therapeutic and gentle yoga at the Chagrin Falls Library. Limited spaces left in this lovely\, sunny room on Thursdays at 2pm throughout October.\n\n\nKnow someone who might like to breathe and move a bit? They can register online to reserve one of the remaining chairs. Designed for those who don’t have access to studio or private instruction and would like to begin.
URL:https://downtownchagrinfalls.com/event/11472/2023-10-26/
LOCATION:Chagrin Falls Public Library\, 100 East Orange Street\, Chagrin Falls\, OH\, 44022\, United States
CATEGORIES:Fitness,Wellness
ATTACH;FMTTYPE=image/jpeg:https://downtownchagrinfalls.com/wp-content/uploads/2023/10/shutterstock_1696881814-scaled.jpg
END:VEVENT
BEGIN:VEVENT
DTSTART;TZID=America/New_York:20231026T160000
DTEND;TZID=America/New_York:20231026T180000
DTSTAMP:20260419T203746
CREATED:20230927T194950Z
LAST-MODIFIED:20231005T005642Z
UID:10001243-1698336000-1698343200@downtownchagrinfalls.com
SUMMARY:Trick or Treat Boo-tique
DESCRIPTION:Come out for a safe – not scary – outdoor trick-or-treat event in downtown Chagrin Falls. Candy – Halloween Music – Activities Come show us your costumes!
URL:https://downtownchagrinfalls.com/event/trick-or-treat-boo-tique/
LOCATION:Chagrin Falls\, Chagrin Falls\, OH\, 44022\, United States
CATEGORIES:Children,Holiday,Just Fun
ATTACH;FMTTYPE=image/png:https://downtownchagrinfalls.com/wp-content/uploads/2023/09/Untitled-design-50.png
END:VEVENT
BEGIN:VEVENT
DTSTART;TZID=America/New_York:20231026T180000
DTEND;TZID=America/New_York:20231026T210000
DTSTAMP:20260419T203746
CREATED:20231018T210929Z
LAST-MODIFIED:20231018T210943Z
UID:10001410-1698343200-1698354000@downtownchagrinfalls.com
SUMMARY:Backpacking Basics
DESCRIPTION:Directions: Meet in Look About Lodge\nAges: 12 & over (Minors between the ages of 12-17 MUST have a registered and participating adult)  \nFee: $15 per person (All guests MUST register)\nTerrain/Distance: Classroom setting\nOur knowledgeable staff will cover important topics such as tents\, backpacks\, water treatment\, and outdoor ethics during this relaxing classroom session. Classes will begin promptly\, so plan to arrive early.\nBackpacking Basics is an in-depth 3-hour class that explores all avenues of backpacking to help prepare you for your next backpacking trip.  Please bring a completed waiver and review the equipment list. Classes will begin promptly\, so plan to arrive early. \nGeneral Information:\nBy registering\, you acknowledge that you have read and understand the cancellation policy. \nGeneral Essential Eligibility Requirements that all participants must meet. A participant…. \n\n…must meet minimum age and pre-trip meeting requirements for each individual program.\n…must meet program fee requirements for each individual program.\n…must be able to remain adequately hydrated\, fed\, and properly dressed in order to avoid environmental injuries such as hypothermia\, heat-related illnesses\, sunburn\, and frostbite.\n…must refrain from use of alcohol and tobacco before or during outdoor recreation activities and any illegal drugs throughout the duration of a program.\n…must be able\, either alone or with the aid of a personal care attendant\, or through arrangements outlined on the Request for Administration of Medication Form or an Individual Medication Plan to manage\, administer and protect any prescription medications currently prescribed to him or her. All medications\, including over-the-counter medications shall be listed as required on the Medical Information portion of the registration materials.\n…must be able\, either alone\, with the aid of an augmentative communication device\, or a personal care attendant to follow directions and communicate needs.\n …must not exceed manufacturers’ maximum recommended weight limit for equipment being used.\n…must be able to manage personal mobility either alone\, with a reasonable amount of assistance\, with the aid of a personal care attendant\, or with adaptive equipment.\n …must be able to independently wear and maintain wearing all safety equipment correctly.\n…must be able\, either alone or with the aid of a personal care attendant or adaptive equipment to travel at least 1 mile on varying terrain as well as be able to carry their own gear on backpacking trips.\n…must be able to\, for backcountry programs only\, travel in a physically demanding\, remote backcountry environment for the uninterrupted period of the trip length\, which can range from one to ten days with varying temperatures and environmental conditions including but not limited to\, rain snow\, hail\, sun\, and wind. The remoteness is such that cell signal may be unavailable\, and it may require at minimum an hour\, but perhaps in excess of 2 days travel to reach the nearest road and advanced medical care; participant assumes all costs associated with rescue.
URL:https://downtownchagrinfalls.com/event/backpacking-basics/
LOCATION:Look About Lodge\, 37374 Miles Road\, Bentleyville\, OH\, 44022\, United States
CATEGORIES:Nature,Outdoor,sports
ATTACH;FMTTYPE=image/jpeg:https://downtownchagrinfalls.com/wp-content/uploads/2023/10/380883263_699224222240523_2932606238332954844_n.jpg
END:VEVENT
BEGIN:VEVENT
DTSTART;TZID=America/New_York:20231026T183000
DTEND;TZID=America/New_York:20231026T200000
DTSTAMP:20260419T203746
CREATED:20231012T002806Z
LAST-MODIFIED:20231012T002806Z
UID:10001387-1698345000-1698350400@downtownchagrinfalls.com
SUMMARY:Get To Know Give Chagrin Valley!
DESCRIPTION:Join the board of GIVE! Chagrin Valley Women’s League at Village Martini & Wine Bar for a casual\, informational happy hour.\nLearn about the mission of GIVE! Chagrin Valley Women’s League\, our upcoming volunteer opportunities\, and the community organizations we support throughout the year.\n6:30pm – mingle with current and prospective GIVE! members\n7:00pm – learn about Bainbridge Area Food for Friends\nPlease RSVP here: https://bit.ly/gettoknowgive\n\nReady to join or renew now? https://bit.ly/GIVEmembership2324
URL:https://downtownchagrinfalls.com/event/get-to-know-give-chagrin-valley/
LOCATION:Chagrin Falls\, Chagrin Falls\, OH\, 44022\, United States
CATEGORIES:Community,Happy Hour
ATTACH;FMTTYPE=image/jpeg:https://downtownchagrinfalls.com/wp-content/uploads/2023/10/Give-Chagrin-Valley.jpeg
END:VEVENT
BEGIN:VEVENT
DTSTART;TZID=America/New_York:20231026T190000
DTEND;TZID=America/New_York:20231026T190000
DTSTAMP:20260419T203746
CREATED:20231026T195005Z
LAST-MODIFIED:20231026T195005Z
UID:10001425-1698346800-1698346800@downtownchagrinfalls.com
SUMMARY:The Lightning Thief
DESCRIPTION:
URL:https://downtownchagrinfalls.com/event/the-lightning-thief/2023-10-26/
LOCATION:Performing Arts Center\, 400 E. Washington Street\, Chagrin Falls\, OH\, 44022\, United States
CATEGORIES:Theater
ATTACH;FMTTYPE=image/jpeg:https://downtownchagrinfalls.com/wp-content/uploads/2023/10/TLT_Profile_CircleCrop.jpg
END:VEVENT
BEGIN:VEVENT
DTSTART;TZID=America/New_York:20231027T100000
DTEND;TZID=America/New_York:20231027T110000
DTSTAMP:20260419T203746
CREATED:20231018T211756Z
LAST-MODIFIED:20231018T211756Z
UID:10001411-1698400800-1698404400@downtownchagrinfalls.com
SUMMARY:Littles at the Lodge
DESCRIPTION:Explore your parks with baby in tow! Meet at Look About Lodge for a story and some hands-on nature before taking baby outside for some fresh air. Email northchagrinnc@clevelandmetroparks.com with questions. No registration required. \n\nTerrain: natural surface trails\, may be muddy\, 0.5 mile\n2 years & under w/ adult\nSouth Chagrin Reservation\nLook About Lodge\nDriving Directions\n440-473-3370
URL:https://downtownchagrinfalls.com/event/littles-at-the-lodge/
LOCATION:Look About Lodge\, 37374 Miles Road\, Bentleyville\, OH\, 44022\, United States
CATEGORIES:Children,Nature,Outdoor
ATTACH;FMTTYPE=image/jpeg:https://downtownchagrinfalls.com/wp-content/uploads/2023/10/381247387_699243598905252_4635783529211300413_n.jpg
END:VEVENT
BEGIN:VEVENT
DTSTART;TZID=America/New_York:20231027T170000
DTEND;TZID=America/New_York:20231027T180000
DTSTAMP:20260419T203746
CREATED:20231018T195432Z
LAST-MODIFIED:20231018T195432Z
UID:10001401-1698426000-1698429600@downtownchagrinfalls.com
SUMMARY:Laurels of Chagrin Falls: Trunk or Treat
DESCRIPTION:Please call or text Lorri at 330-546-4069 to let us know how many kids will be coming to trick or treat!
URL:https://downtownchagrinfalls.com/event/laurels-of-chagrin-falls-trunk-or-treat/
LOCATION:Laurels of Chagrin Falls\, 150 Cleveland Street\, Chagrin Falls\, OH\, 44022\, United States
CATEGORIES:Children,Community
ATTACH;FMTTYPE=image/png:https://downtownchagrinfalls.com/wp-content/uploads/2023/10/Untitled-design-54.png
END:VEVENT
BEGIN:VEVENT
DTSTART;TZID=America/New_York:20231027T183000
DTEND;TZID=America/New_York:20231027T200000
DTSTAMP:20260419T203746
CREATED:20231005T004410Z
LAST-MODIFIED:20231005T004410Z
UID:10001380-1698431400-1698436800@downtownchagrinfalls.com
SUMMARY:Boo-Ti Yoga with Morgan Holeski
DESCRIPTION:Our annual Boo-ti Glow class is back again! Join Molly and Morgan for this 60 minute Buti Yoga class on Friday\, October 27th. Come spiral\, shake\, and sweat it out to our spooky playlist under the glow of the blacklights. Doors open at 6pm to get all your glow accessories on\, class starts at 6:30pm with drinks and snacks to follow for some Buti community building! Glow sticks\, paint\, temporary tattoos\, and other little fun extras provided. White and neon clothing suggested for the best glow experience (and pictures!) All genders welcome! \nFREE FOR MONTHLY MEMBERS\n$25 for class packages or non-members \nReserve your spot ASAP as we usually fill up for this special event!
URL:https://downtownchagrinfalls.com/event/boo-ti-yoga-with-morgan-holeski/
LOCATION:Chagrin Yoga\, 524 E Washington Street\, Chagrin Falls\, OH\, 44022\, United States
CATEGORIES:Fitness,Food & Drink,Workshop
ATTACH;FMTTYPE=image/jpeg:https://downtownchagrinfalls.com/wp-content/uploads/2023/10/Buti-glow-chagrin-Yoga.jpeg
END:VEVENT
BEGIN:VEVENT
DTSTART;TZID=America/New_York:20231027T213000
DTEND;TZID=America/New_York:20231028T000000
DTSTAMP:20260419T203746
CREATED:20230928T020449Z
LAST-MODIFIED:20230928T020449Z
UID:10001330-1698442200-1698451200@downtownchagrinfalls.com
SUMMARY:Greenville Inn: Faith & Whiskey
DESCRIPTION:
URL:https://downtownchagrinfalls.com/event/greenville-inn-faith-whiskey/
LOCATION:Greenville Inn\, 7125 Pine Street\, Bainbridge\, OH\, 44022\, United States
CATEGORIES:Live Music
ATTACH;FMTTYPE=image/webp:https://downtownchagrinfalls.com/wp-content/uploads/2023/09/faithandwhiskey.webp
END:VEVENT
BEGIN:VEVENT
DTSTART;TZID=America/New_York:20231028T123000
DTEND;TZID=America/New_York:20231028T133000
DTSTAMP:20260419T203746
CREATED:20231005T005302Z
LAST-MODIFIED:20231005T005302Z
UID:10001383-1698496200-1698499800@downtownchagrinfalls.com
SUMMARY:The Energy Behind Dog Training 4 Part Series (Human Only Event) with Johanna Teresi
DESCRIPTION:Join Johanna for one or more of a four part series:\n\nSeptember 9th 2023 Part 1: Love the Good and How to Transform the Bad into Good\nSeptember 30th 2023 Part 2: Learn How to Follow the Energy to Help your Dog Listen to You\n\nRemaining sessions:\n\nOctober 21st 2023 Part 3: How to Regain your Calm when your Dog is not so Calm\nOctober 28th 2023 Part 4: The Emotions of your Dog. How to be empathetic and understand how your dog feels. This Empathy increases compassion\, love and connection with your dog\n\nDo you have a dog that listens to others and not to you?  Do you find that these others have a certain energy that your dog follows?  What is this energy?  How do you channel it?  Why do some dogs listen better to some people and not to others?  How can you get your dog to consistently listen to you?\nIf you have a dog that already listens well to you\, come and explore the possibility of increasing the love between you and your dog. \nJoin our guest speaker Johanna Teresi for this workshop held in our Sage studio \n$30 day of class or $25 early bird \nIf you’d like to find out more please visit: www.Ohio4LeggedScholars.com \nSuccess Stories of Happy Clients:\nhttps://youtu.be/eP5xypBS1Vk \, https://youtu.be/kenFoQl-hRo
URL:https://downtownchagrinfalls.com/event/the-energy-behind-dog-training-4-part-series-human-only-event-with-johanna-teresi/2023-10-28/
LOCATION:Chagrin Yoga\, 524 E Washington Street\, Chagrin Falls\, OH\, 44022\, United States
CATEGORIES:Pets,Workshop
ATTACH;FMTTYPE=image/jpeg:https://downtownchagrinfalls.com/wp-content/uploads/2023/10/Dog-training-chagri-Yoga.jpeg
END:VEVENT
BEGIN:VEVENT
DTSTART;TZID=America/New_York:20231028T130000
DTEND;TZID=America/New_York:20231028T150000
DTSTAMP:20260419T203746
CREATED:20230928T005123Z
LAST-MODIFIED:20230928T005123Z
UID:10001318-1698498000-1698505200@downtownchagrinfalls.com
SUMMARY:Author Signing: John Bernatovicz
DESCRIPTION:John Bernatovicz\, author of  HR Like a Boss\, will sign books on October 28th from 1-3 pm. \nABOUT THE BOOK: “HR Like a Boss” offers HR professionals all the tools they need to help employees feel more connected to their organization and ensure the organization’s success. Written by a creative entrepreneur who has devoted his career to the HR community\, this book combines real-life stories of HR professionals who embody the characteristics of a ” boss” — meaning a skilled business leader– with actionable insights for making an impact on their people\, organization\, and community. \nABOUT THE AUTHOR: John Bernatovicz began his professional career at ADP. Over the last 20 years\, he has started or been an owner in six ventures. He currently is the president and founder of Willory\, a staffing and consulting firm focused on HR and payroll. The firm helps clients find top talent for HR and payroll direct hire and temporary roles along with providing HR and payroll advisory and HR technology consulting services. John is a keynote speaker who delivers the message about the positive business impact that HR can have on employees\, businesses\, and communities.
URL:https://downtownchagrinfalls.com/event/author-signing-john-bernatovicz/
LOCATION:Fireside Books\, 29 North Franklin Street\, Chagrin Falls\, OH\, 44022\, United States
CATEGORIES:Book signing
ATTACH;FMTTYPE=image/jpeg:https://downtownchagrinfalls.com/wp-content/uploads/2023/09/JB2023.jpeg
END:VEVENT
BEGIN:VEVENT
DTSTART;TZID=America/New_York:20231028T130000
DTEND;TZID=America/New_York:20231028T170000
DTSTAMP:20260419T203746
CREATED:20231018T193241Z
LAST-MODIFIED:20231018T193241Z
UID:10001399-1698498000-1698512400@downtownchagrinfalls.com
SUMMARY:Halloween Costume Contest & Cocktail Party
DESCRIPTION:Chagrin Falls | Main Street\, Chagrin Falls\, Ohio 44022\nCHECK IN : Pub Frato\nCostume Contest Winner Announced that Evening at TBA \nGet ready for a spooky fun afternoon out. Walk around to the different bars and restaurants in Chagrin Falls and enjoy the specialty menu from each location. Sample either a spooky cocktail at each location. All ticket holders are eligible to win the $250 Grand Prize for Best Halloween Costume. \nCheck in is at Pub Frato as well so you’ll start there and end there. At check in\, we will take your picture and post it for all to see. The staff from all locations and Taste CLE will pick the winner and post right here in the event page. \nIt’s only $30 and that includes your 8 drinks\, passport\, specials and entrance to the costume contest. Price does go up day of the event. They are gonna go fast. \nTICKET PRICE & WHAT’S INCLUDED\n$30 Early Bird (First 100 People)\n$35 Regular Rate (Through to Oct 26th)\n$40 Late Registration (Oct 27th to Oct 28th) \nWHAT YOU GET\n8 Samples of Drinks. Either Beer\, Wine or Seasonal Drink (Value $30+)\nCoupons to Local Retailers (Value $20+)\nSouvenir (Value $5) \nLOCATIONS\nPub Frato –\nM Italian – Blood orange margarita – tequila\, triple sec\, blood orange puree\, minute maid limeaid\nM Bevy – Witches Brew – Vodka\, Raspberry liquor\, simple syrup\, and lime\nYours Truly Chagrin Falls Kitchen & Bar – Pumpkin Roll – Bourbon Cream\, buffalo trace\, pumpkin puree\, and vanilla\nBell & Flower – Boo-Z- Latee – Peanut Butter Whiskey\, Nitor espresso cold brew\, oat milk\nSushi Junkie – Halloween Cider – Rum\, Apple pucker\, apple cider\nETalian – Halloween Punch – Rum\, Cranberry juice\, apple juice and sprite\nHeinens – Whole Hog Pumpkin Ale \nRETAILER COUPONS\nCipok Shoe Co – 20% off one regularly priced item\nFireside Bookshop – 10% off one item\nThe Glass Asylum – 20% off a single glassblowing workshop item\nArra Hair Salon – 20% off any service of $100 or more\nThe Spice and Tea Exchange – 15% off any consumable item\nBlush Boutique – 20% off one item \nSo start planning your costume and let’s get ready for a fun afternoon.
URL:https://downtownchagrinfalls.com/event/halloween-costume-contest-cocktail-party/
LOCATION:Chagrin Falls\, Chagrin Falls\, OH\, 44022\, United States
CATEGORIES:Food & Drink,Just Fun
ATTACH;FMTTYPE=image/png:https://downtownchagrinfalls.com/wp-content/uploads/2023/10/Untitled-design-59.png
END:VEVENT
BEGIN:VEVENT
DTSTART;TZID=America/New_York:20231028T213000
DTEND;TZID=America/New_York:20231029T000000
DTSTAMP:20260419T203746
CREATED:20230928T020607Z
LAST-MODIFIED:20230928T020607Z
UID:10001331-1698528600-1698537600@downtownchagrinfalls.com
SUMMARY:Greenville Inn: Miles Road Band
DESCRIPTION:
URL:https://downtownchagrinfalls.com/event/greenville-inn-miles-road-band/
LOCATION:Greenville Inn\, 7125 Pine Street\, Bainbridge\, OH\, 44022\, United States
CATEGORIES:Live Music
ATTACH;FMTTYPE=image/jpeg:https://downtownchagrinfalls.com/wp-content/uploads/2020/01/701996_531299547049611_2525855313655233065_o.jpg
END:VEVENT
BEGIN:VEVENT
DTSTART;TZID=America/New_York:20231029T120000
DTEND;TZID=America/New_York:20231029T160000
DTSTAMP:20260419T203746
CREATED:20231026T194631Z
LAST-MODIFIED:20231026T194631Z
UID:10001424-1698580800-1698595200@downtownchagrinfalls.com
SUMMARY:Sanity: Tarot Cards\, Astrology Readings & Polish Changes
DESCRIPTION:Halloween is near and what better way to Celebrate than Tarot cards\, astrology readings and polish changes! Join us Sunday October 29th from 12-4pm with @paintcleveland for a not so spooky polish change and @dwaynedunlevy offering tarot card and astrology readings. We also will be having some fun Halloween  inspired drinks throughout the day! Tag your shopping buddy\, we hope to see you there.
URL:https://downtownchagrinfalls.com/event/sanity-tarot-cards-astrology-readings-polish-changes/
LOCATION:Sanity\, 8 E. Washington Street\, Chagrin Falls\, OH\, 44022\, United States
CATEGORIES:Just Fun,Shopping
ATTACH;FMTTYPE=image/jpeg:https://downtownchagrinfalls.com/wp-content/uploads/2023/10/Sanity-halloween.jpeg
END:VEVENT
BEGIN:VEVENT
DTSTART;TZID=America/New_York:20231029T163000
DTEND;TZID=America/New_York:20231029T183000
DTSTAMP:20260419T203746
CREATED:20231019T002135Z
LAST-MODIFIED:20231019T002135Z
UID:10001414-1698597000-1698604200@downtownchagrinfalls.com
SUMMARY:Bentleyville Boo-ville Fall Festival
DESCRIPTION:Snacks & Refreshments: Apples\, Cider\, Donut Holes Toasting marshmallow at the firepit!~~ “Spooky Trail rides” Don’t forget your costumes!
URL:https://downtownchagrinfalls.com/event/bentleyville-boo-ville-fall-festival/
LOCATION:River View Park\, 36020 Solon Rd\, Bentleyville\, OH\, 44022\, United States
CATEGORIES:Children,Community,Festival,Outdoor
ATTACH;FMTTYPE=image/jpeg:https://downtownchagrinfalls.com/wp-content/uploads/2023/10/Booville.jpg
END:VEVENT
END:VCALENDAR