BEGIN:VCALENDAR
VERSION:2.0
PRODID:-//Downtown Chagrin Falls - ECPv6.15.13.1//NONSGML v1.0//EN
CALSCALE:GREGORIAN
METHOD:PUBLISH
X-WR-CALNAME:Downtown Chagrin Falls
X-ORIGINAL-URL:https://downtownchagrinfalls.com
X-WR-CALDESC:Events for Downtown Chagrin Falls
REFRESH-INTERVAL;VALUE=DURATION:PT1H
X-Robots-Tag:noindex
X-PUBLISHED-TTL:PT1H
BEGIN:VTIMEZONE
TZID:America/New_York
BEGIN:DAYLIGHT
TZOFFSETFROM:-0500
TZOFFSETTO:-0400
TZNAME:EDT
DTSTART:20210314T070000
END:DAYLIGHT
BEGIN:STANDARD
TZOFFSETFROM:-0400
TZOFFSETTO:-0500
TZNAME:EST
DTSTART:20211107T060000
END:STANDARD
BEGIN:DAYLIGHT
TZOFFSETFROM:-0500
TZOFFSETTO:-0400
TZNAME:EDT
DTSTART:20220313T070000
END:DAYLIGHT
BEGIN:STANDARD
TZOFFSETFROM:-0400
TZOFFSETTO:-0500
TZNAME:EST
DTSTART:20221106T060000
END:STANDARD
BEGIN:DAYLIGHT
TZOFFSETFROM:-0500
TZOFFSETTO:-0400
TZNAME:EDT
DTSTART:20230312T070000
END:DAYLIGHT
BEGIN:STANDARD
TZOFFSETFROM:-0400
TZOFFSETTO:-0500
TZNAME:EST
DTSTART:20231105T060000
END:STANDARD
BEGIN:DAYLIGHT
TZOFFSETFROM:-0500
TZOFFSETTO:-0400
TZNAME:EDT
DTSTART:20240310T070000
END:DAYLIGHT
BEGIN:STANDARD
TZOFFSETFROM:-0400
TZOFFSETTO:-0500
TZNAME:EST
DTSTART:20241103T060000
END:STANDARD
END:VTIMEZONE
BEGIN:VEVENT
DTSTART;VALUE=DATE:20221126
DTEND;VALUE=DATE:20230130
DTSTAMP:20260423T172654
CREATED:20221118T154021Z
LAST-MODIFIED:20221118T154021Z
UID:10001231-1669428000-1674957599@downtownchagrinfalls.com
SUMMARY:The Joy of Toys
DESCRIPTION:The Chagrin Falls Historical Society & Museum’s new exhibit “The Joy of Toys: 1890 & Beyond” opens November 26th and will run through January 28th. The holidays are a wonderful time for toys! Take a walk down memory lane and maybe see some of your childhood favorites. This is a family friendly exhibit! It will be fun for the whole family. This exhibit is open to the public during our updated winter hours but you can also make an appointment if you cannot visit during our hours. Admission to the museum is free but donations are appreciated. \n\n\n\nWinter Hours (11/7/2022 through 3/13/2023): \nThursday 2-5pm\nFriday 11am-5pm\nSaturday 11am-3pm\nOr by appointment
URL:https://downtownchagrinfalls.com/event/the-joy-of-toys/
LOCATION:Chagrin History Center\, 87 E. Washington Street\, Chagrin Falls\, OH\, 44022\, United States
CATEGORIES:Ongoing Exhibits
ATTACH;FMTTYPE=image/png:https://downtownchagrinfalls.com/wp-content/uploads/2022/11/Thank-You-Facebook-Post-19.png
ORGANIZER;CN="Chagrin Falls Historical Society":MAILTO:info@chagrinhistory.org
END:VEVENT
BEGIN:VEVENT
DTSTART;TZID=America/New_York:20221212T190000
DTEND;TZID=America/New_York:20221212T190000
DTSTAMP:20260423T172654
CREATED:20221104T165515Z
LAST-MODIFIED:20221104T172223Z
UID:10001169-1670871600-1670871600@downtownchagrinfalls.com
SUMMARY:Jazz Monday: TBA
DESCRIPTION:
URL:https://downtownchagrinfalls.com/event/jazz-monday-tba/
LOCATION:Paris Room\, 7 N. Franklin Street (entrance around back)\, Chagrin Falls\, OH\, 44022\, United States
CATEGORIES:Live Music
ATTACH;FMTTYPE=image/webp:https://downtownchagrinfalls.com/wp-content/uploads/2022/11/Jazz-Monday.webp
END:VEVENT
BEGIN:VEVENT
DTSTART;TZID=America/New_York:20221213T180000
DTEND;TZID=America/New_York:20221213T193000
DTSTAMP:20260423T172654
CREATED:20221118T024406Z
LAST-MODIFIED:20221118T024406Z
UID:10001205-1670954400-1670959800@downtownchagrinfalls.com
SUMMARY:Culinary Fights Cancer Cooking Class with Chef Chris Hodgson - MUST REGISTER
DESCRIPTION:Register through our website culinaryfightscancer.com. Cancer patients and a family/friend are invited to join us and Chef Chris Hodgson Tuesday\, Dec 13th from 6-7:30pm for our free of charge cooking class. It is hosted by The Sleepy Rooster and the theme is English Holiday!
URL:https://downtownchagrinfalls.com/event/culinary-fights-cancer-cooking-class-with-chef-chris-hodgson-must-register/
LOCATION:The Sleepy Rooster\, 5210 Chillicothe Road\, South Russell\, OH\, 44022\, United States
CATEGORIES:Food & Drink
ATTACH;FMTTYPE=image/png:https://downtownchagrinfalls.com/wp-content/uploads/2022/11/Thank-You-Facebook-Post-5.png
END:VEVENT
BEGIN:VEVENT
DTSTART;TZID=America/New_York:20221214T183000
DTEND;TZID=America/New_York:20221214T203000
DTSTAMP:20260423T172654
CREATED:20221118T155006Z
LAST-MODIFIED:20221118T155006Z
UID:10001233-1671042600-1671049800@downtownchagrinfalls.com
SUMMARY:45th Anniversary of The Gathering
DESCRIPTION:Join the Chagrin Falls Historical Society & Museum as we commemorate the 45th Anniversary of The Gathering\, the 1977 holiday classic which was filmed in Chagrin Falls starred Ed Asner and Maureen Stapleton. This made- for-tv movie was about a dying executive who arranges a final Christmas reunion with his estranged wife and adult children. \nOn Wednesday\, December 14th at 6:30pm\, join us in our Bo Burr Community Room to watch the film\, and a DVD of the 30th anniversary reunion in Chagrin Falls from 2007. There will also be an opportunity to share your memories of the movie being filmed here. Refreshments will be provided\, this is a free event but donations are appreciated. RSVP to director@chagrinhistory.org or 440.247.4695.
URL:https://downtownchagrinfalls.com/event/45th-anniversary-of-the-gathering/
LOCATION:Chagrin History Center\, 87 E. Washington Street\, Chagrin Falls\, OH\, 44022\, United States
CATEGORIES:Film,Food & Drink,Holiday
ATTACH;FMTTYPE=image/png:https://downtownchagrinfalls.com/wp-content/uploads/2022/11/Thank-You-Facebook-Post-22.png
ORGANIZER;CN="Chagrin Falls Historical Society":MAILTO:info@chagrinhistory.org
END:VEVENT
BEGIN:VEVENT
DTSTART;TZID=America/New_York:20221216T173000
DTEND;TZID=America/New_York:20221216T200000
DTSTAMP:20260423T172654
CREATED:20221118T131305Z
LAST-MODIFIED:20221118T131305Z
UID:10001224-1671211800-1671220800@downtownchagrinfalls.com
SUMMARY:Live Music with David Sterner
DESCRIPTION:Start the weekend off right with a relaxing evening full of great music\, food and drink! \nJoin us in the tasting room at Heinen’s Chagrin Falls and enjoy the relaxing sounds of jazz performed by local saxophonist\, David Sterner. \nWhile you listen\, treat yourself to gourmet bites from our restaurant-style kitchen and sip on our selection of wine and beer on tap! \nNo entrance fee required. Food and beverage may be purchased separately.
URL:https://downtownchagrinfalls.com/event/live-music-with-david-sterner/
LOCATION:Heinen’s\, 20 Shopping Plaza\, Chagrin Falls\, OH\, 44022\, United States
CATEGORIES:Live Music
ATTACH;FMTTYPE=image/jpeg:https://downtownchagrinfalls.com/wp-content/uploads/2019/10/heinens-tasting-room.jpg
END:VEVENT
BEGIN:VEVENT
DTSTART;TZID=America/New_York:20221216T190000
DTEND;TZID=America/New_York:20221216T210000
DTSTAMP:20260423T172654
CREATED:20221118T032755Z
LAST-MODIFIED:20221118T032755Z
UID:10001216-1671217200-1671224400@downtownchagrinfalls.com
SUMMARY:GIVE's Annual Santa Crawl
DESCRIPTION:Join us for GIVE’s annual Santa Crawl:\n– 7 to 8:30pm-ish @ 17 River Grille\n– 8:30-9:30pm-ish @ Bell & Flower\n– 9:30pm @ Pub Frato\n– Late night stop at the Greenville for live music\nDress in your very merriest holiday outfit or your ugliest holiday sweater. Friends and spouses welcome\, or make it a girl’s night out with your favorite sisters from GIVE.\n\n$10 donation per person at the door. All proceeds benefit Hope for Kids Geauga. http://hopeforkidsgeauga.org/\n\nMany thanks to the Santa Crawl Committee Chairs for coordinating once of our most popular events of the year
URL:https://downtownchagrinfalls.com/event/gives-annual-santa-crawl/
LOCATION:Chagrin Falls\, Chagrin Falls\, OH\, 44022\, United States
CATEGORIES:Food & Drink,Holiday
ATTACH;FMTTYPE=image/png:https://downtownchagrinfalls.com/wp-content/uploads/2022/11/Thank-You-Facebook-Post-12.png
END:VEVENT
BEGIN:VEVENT
DTSTART;TZID=America/New_York:20221216T193000
DTEND;TZID=America/New_York:20221216T193000
DTSTAMP:20260423T172654
CREATED:20221104T165706Z
LAST-MODIFIED:20221104T171947Z
UID:10001180-1671219000-1671219000@downtownchagrinfalls.com
SUMMARY:Elf The Musical
DESCRIPTION:Your family will love this musical adaptation of the hit Christmas movie of the same name. “Elf” is the story of Buddy\, a human raised by Santa’s elves at the North Pole. When he travels to New York City to seek his real father\, he discovers that his childlike and joyous nature doesn’t always fit in.
URL:https://downtownchagrinfalls.com/event/elf-the-musical-11/
LOCATION:Chagrin Valley Little Theatre\, 40 River Street\, Chagrin Falls\, OH\, 44022\, United States
CATEGORIES:Theater
ATTACH;FMTTYPE=image/png:https://downtownchagrinfalls.com/wp-content/uploads/2022/11/Elf340.png
ORGANIZER;CN="Chagrin Valley Little Theatre":MAILTO:cvlt@cvlt.org
END:VEVENT
BEGIN:VEVENT
DTSTART;TZID=America/New_York:20221217T100000
DTEND;TZID=America/New_York:20221217T130000
DTSTAMP:20260423T172654
CREATED:20221118T014642Z
LAST-MODIFIED:20221118T014642Z
UID:10001195-1671271200-1671282000@downtownchagrinfalls.com
SUMMARY:Geauga Fresh Indoor Farmers Market
DESCRIPTION:It’s our 20th Anniversary! We are excited to celebrate the history & future of the market this season. Be sure to stay connected\, so you can see what will be happening this season. It’s going to be a celebration throughout the whole season to remember!\nStarted in 2002 the Geauga Fresh Farmers’ Market is producer-only farmers’ market operating year round in Geauga County. We strive to provide you with fresh\, local and real products made or grown by people you can actually talk to.\nThe purpose of the Geauga Fresh Market is to provide local farmers with a means to sell their produce or value added products directly to consumers\, and to afford consumers the opportunity to buy fresh\, locally grown food. A market that allows farmers to sell directly to consumers will help to support a farm economy in Geauga County. Increasing the profitability of local farms will enable more farms to continue to operate rather than to be lost to development. By promoting the preservation of farmland in Geauga County\, the rural character of the county will remain for all to enjoy.\nBy bringing the freshest Geauga County produce and locally made products to the consumer on a weekly basis the Market will encourage customers to value and understand the benefits of supporting our local agricultural economy. The market aims at educating consumers by reconnecting them with their food and where it comes from\, by providing them with higher quality\, more variety and a sense of seasonality.\nWinter Market\nEvery other Saturday 10 AM – 1 PM\nBi-weekly beginning on November 5\, 2022\n2022 dates: 11/5\, 11/19\, 12/3 & 12/17\n2023 dates: 1/14\, 1/28\, 2/11\, 2/25\, 3/11 & 3/25\nInside Lowe’s Greenhouse\n16540 Chillicothe Rd\nChagrin Falls\, OH 44023
URL:https://downtownchagrinfalls.com/event/geauga-fresh-indoor-farmers-market/2022-12-17/
LOCATION:Lowe’s Greenhouse\, 16540 Chillicothe Road\, Bainbridge\, OH\, 44023\, United States
CATEGORIES:Farmers Market
ATTACH;FMTTYPE=image/jpeg:https://downtownchagrinfalls.com/wp-content/uploads/2022/11/315836534_562379919223742_1721302036665716663_n.jpeg
ORGANIZER;CN="Geauga Fresh Farmers Market":MAILTO:geaugaffm@gmail.com
END:VEVENT
BEGIN:VEVENT
DTSTART;TZID=America/New_York:20221217T110000
DTEND;TZID=America/New_York:20221217T140000
DTSTAMP:20260423T172654
CREATED:20221118T032052Z
LAST-MODIFIED:20221118T032052Z
UID:10001215-1671274800-1671285600@downtownchagrinfalls.com
SUMMARY:Deck the Falls
DESCRIPTION:Join GIVE! to celebrate the holiday season in Triangle Park. Enjoy visits with Santa in the Gazebo\, photo ops in the sleigh\, a balloon artist\, DJ & music\, games\, cookies\, hot cocoa\, a scavenger hunt and much more family fun!
URL:https://downtownchagrinfalls.com/event/deck-the-falls/2022-12-17/
LOCATION:Triangle Park\, Chagrin Falls\, OH\, 44022\, United States
CATEGORIES:Children,Holiday,Outdoor
ATTACH;FMTTYPE=image/png:https://downtownchagrinfalls.com/wp-content/uploads/2022/11/Thank-You-Facebook-Post-11.png
END:VEVENT
BEGIN:VEVENT
DTSTART;TZID=America/New_York:20221217T140000
DTEND;TZID=America/New_York:20221217T140000
DTSTAMP:20260423T172655
CREATED:20221104T165707Z
LAST-MODIFIED:20221104T171807Z
UID:10001181-1671285600-1671285600@downtownchagrinfalls.com
SUMMARY:Elf The Musical
DESCRIPTION:Your family will love this musical adaptation of the hit Christmas movie of the same name. “Elf” is the story of Buddy\, a human raised by Santa’s elves at the North Pole. When he travels to New York City to seek his real father\, he discovers that his childlike and joyous nature doesn’t always fit in.
URL:https://downtownchagrinfalls.com/event/elf-the-musical-12/
LOCATION:Chagrin Valley Little Theatre\, 40 River Street\, Chagrin Falls\, OH\, 44022\, United States
CATEGORIES:Holiday,Theater
ATTACH;FMTTYPE=image/png:https://downtownchagrinfalls.com/wp-content/uploads/2022/11/Elf340.png
ORGANIZER;CN="Chagrin Valley Little Theatre":MAILTO:cvlt@cvlt.org
END:VEVENT
BEGIN:VEVENT
DTSTART;TZID=America/New_York:20221218T170000
DTEND;TZID=America/New_York:20221218T180000
DTSTAMP:20260423T172655
CREATED:20221118T034653Z
LAST-MODIFIED:20221118T034653Z
UID:10001218-1671382800-1671386400@downtownchagrinfalls.com
SUMMARY:Illuminate the Falls
DESCRIPTION:Join us for the lighting of the menorah!  Food\, fire show\, entertainment and celebration.
URL:https://downtownchagrinfalls.com/event/illuminate-the-falls/
LOCATION:Riverside Park\, 78 Main Street\, Chagrin Falls\, OH\, 44022
CATEGORIES:Community,Holiday,Outdoor
ATTACH;FMTTYPE=image/png:https://downtownchagrinfalls.com/wp-content/uploads/2022/11/Thank-You-Facebook-Post-14.png
END:VEVENT
END:VCALENDAR