BEGIN:VCALENDAR
VERSION:2.0
PRODID:-//Downtown Chagrin Falls - ECPv6.15.13.1//NONSGML v1.0//EN
CALSCALE:GREGORIAN
METHOD:PUBLISH
X-WR-CALNAME:Downtown Chagrin Falls
X-ORIGINAL-URL:https://downtownchagrinfalls.com
X-WR-CALDESC:Events for Downtown Chagrin Falls
REFRESH-INTERVAL;VALUE=DURATION:PT1H
X-Robots-Tag:noindex
X-PUBLISHED-TTL:PT1H
BEGIN:VTIMEZONE
TZID:America/New_York
BEGIN:DAYLIGHT
TZOFFSETFROM:-0500
TZOFFSETTO:-0400
TZNAME:EDT
DTSTART:20210314T070000
END:DAYLIGHT
BEGIN:STANDARD
TZOFFSETFROM:-0400
TZOFFSETTO:-0500
TZNAME:EST
DTSTART:20211107T060000
END:STANDARD
BEGIN:DAYLIGHT
TZOFFSETFROM:-0500
TZOFFSETTO:-0400
TZNAME:EDT
DTSTART:20220313T070000
END:DAYLIGHT
BEGIN:STANDARD
TZOFFSETFROM:-0400
TZOFFSETTO:-0500
TZNAME:EST
DTSTART:20221106T060000
END:STANDARD
BEGIN:DAYLIGHT
TZOFFSETFROM:-0500
TZOFFSETTO:-0400
TZNAME:EDT
DTSTART:20230312T070000
END:DAYLIGHT
BEGIN:STANDARD
TZOFFSETFROM:-0400
TZOFFSETTO:-0500
TZNAME:EST
DTSTART:20231105T060000
END:STANDARD
BEGIN:DAYLIGHT
TZOFFSETFROM:-0500
TZOFFSETTO:-0400
TZNAME:EDT
DTSTART:20240310T070000
END:DAYLIGHT
BEGIN:STANDARD
TZOFFSETFROM:-0400
TZOFFSETTO:-0500
TZNAME:EST
DTSTART:20241103T060000
END:STANDARD
END:VTIMEZONE
BEGIN:VEVENT
DTSTART;VALUE=DATE:20221126
DTEND;VALUE=DATE:20230130
DTSTAMP:20260423T172710
CREATED:20221118T154021Z
LAST-MODIFIED:20221118T154021Z
UID:10001231-1669428000-1674957599@downtownchagrinfalls.com
SUMMARY:The Joy of Toys
DESCRIPTION:The Chagrin Falls Historical Society & Museum’s new exhibit “The Joy of Toys: 1890 & Beyond” opens November 26th and will run through January 28th. The holidays are a wonderful time for toys! Take a walk down memory lane and maybe see some of your childhood favorites. This is a family friendly exhibit! It will be fun for the whole family. This exhibit is open to the public during our updated winter hours but you can also make an appointment if you cannot visit during our hours. Admission to the museum is free but donations are appreciated. \n\n\n\nWinter Hours (11/7/2022 through 3/13/2023): \nThursday 2-5pm\nFriday 11am-5pm\nSaturday 11am-3pm\nOr by appointment
URL:https://downtownchagrinfalls.com/event/the-joy-of-toys/
LOCATION:Chagrin History Center\, 87 E. Washington Street\, Chagrin Falls\, OH\, 44022\, United States
CATEGORIES:Ongoing Exhibits
ATTACH;FMTTYPE=image/png:https://downtownchagrinfalls.com/wp-content/uploads/2022/11/Thank-You-Facebook-Post-19.png
ORGANIZER;CN="Chagrin Falls Historical Society":MAILTO:info@chagrinhistory.org
END:VEVENT
BEGIN:VEVENT
DTSTART;TZID=America/New_York:20221205T190000
DTEND;TZID=America/New_York:20221205T190000
DTSTAMP:20260423T172710
CREATED:20221104T165514Z
LAST-MODIFIED:20221104T172649Z
UID:10001168-1670266800-1670266800@downtownchagrinfalls.com
SUMMARY:Jazz Monday: Barbara Rosene and Rock Wehrmann BLU Jazz
DESCRIPTION:
URL:https://downtownchagrinfalls.com/event/jazz-monday-barbara-rosene-and-rock-wehrmann-blu-jazz/
LOCATION:Paris Room\, 7 N. Franklin Street (entrance around back)\, Chagrin Falls\, OH\, 44022\, United States
CATEGORIES:Live Music
ATTACH;FMTTYPE=image/webp:https://downtownchagrinfalls.com/wp-content/uploads/2022/11/Jazz-Monday.webp
END:VEVENT
BEGIN:VEVENT
DTSTART;TZID=America/New_York:20221208T140000
DTEND;TZID=America/New_York:20221208T163000
DTSTAMP:20260423T172710
CREATED:20221118T152455Z
LAST-MODIFIED:20221118T152455Z
UID:10001228-1670508000-1670517000@downtownchagrinfalls.com
SUMMARY:DEEP WOODS HIKE
DESCRIPTION:Join Naturalist Natalie Schroder on a medium paced hike through the deep woods of South Chagrin. We will enjoy the sights and sounds of the early winter season as we journey along the hilltops. Email northchagrinnc@clevelandmetroparks.com with questions. No registration required.
URL:https://downtownchagrinfalls.com/event/deep-woods-hike/
LOCATION:Henry Church Rock Picnic Area
CATEGORIES:Fitness,Nature,Outdoor
ATTACH;FMTTYPE=image/jpeg:https://downtownchagrinfalls.com/wp-content/uploads/2022/11/Winter-Hike.jpg
END:VEVENT
BEGIN:VEVENT
DTSTART;TZID=America/New_York:20221208T190000
DTEND;TZID=America/New_York:20221208T210000
DTSTAMP:20260423T172710
CREATED:20221118T012745Z
LAST-MODIFIED:20221118T024647Z
UID:10001188-1670526000-1670533200@downtownchagrinfalls.com
SUMMARY:A Midsummer Night's Dream
DESCRIPTION:William Shakespeare’s hilarious classic. Join us for this hilarious romp in the woods of Athens complete with faeries\, lovers\, magic\, and mischief. \nPerformed in the Chagrin Fall High School Black Box Theatre. \nCast & Crew: \nAssistant Stage Manager. . . .\nSANIYAH MANNINGHAM \nTheseus/Oberon ………  RO ZABIK \nHippolyta/Titania……….   KELLEN WILLIAMS \nPuck/Philostrate……….  REAGAN KACMAR \nEgeus/Starvling….\nNORAH VAN VALKENBURGH \nHermia………………………MAYLON JOHNSON \nHelena…………………… DIAMOND MCCLENDON \nLysander…………………PAIGE WEIR \nDemetrius……………… ELENA RODENBORN \nBottom……………………TAYLOR ATWARA \nFlute/Thisby…………… CAMERON CUSTER \nQuince/Peaseblossom……SAM FANGER \nSnug/Cobweb………MIRIAM LAUGHLIN \nSnout/Mustardseed…. TY WYVILLE \nMoth…………………….   B PAXSON \nCobblefern/Swing…….  ATLAS NIELSEN \nMoonwort/Swing …….  KATE QUINN
URL:https://downtownchagrinfalls.com/event/a-midsummer-nights-dream/2022-12-08/
LOCATION:Chagrin Falls High School\, 400 E. Washington Street\, Chagrin Falls\, OH\, 44022\, United States
CATEGORIES:Theater
ATTACH;FMTTYPE=image/png:https://downtownchagrinfalls.com/wp-content/uploads/2022/11/Thank-You-Facebook-Post-6.png
END:VEVENT
BEGIN:VEVENT
DTSTART;TZID=America/New_York:20221209T173000
DTEND;TZID=America/New_York:20221209T200000
DTSTAMP:20260423T172710
CREATED:20221118T131104Z
LAST-MODIFIED:20221118T131104Z
UID:10001223-1670607000-1670616000@downtownchagrinfalls.com
SUMMARY:Live Music with Justo Saborit
DESCRIPTION:Start the weekend off right with a relaxing evening full of great music\, food and drink! \nJoin us in the tasting room at Heinen’s Chagrin Falls and enjoy Latin tunes performed by local musician\, Justo Saborit. \nWhile you listen\, treat yourself to gourmet bites from our restaurant-style kitchen and sip on our selection of wine and beer on tap! \nNo entrance fee required. Food and beverage may be purchased separately.
URL:https://downtownchagrinfalls.com/event/live-music-with-justo-saborit/
LOCATION:Heinen’s\, 20 Shopping Plaza\, Chagrin Falls\, OH\, 44022\, United States
CATEGORIES:Live Music
ATTACH;FMTTYPE=image/jpeg:https://downtownchagrinfalls.com/wp-content/uploads/2019/10/heinens-tasting-room.jpg
END:VEVENT
BEGIN:VEVENT
DTSTART;TZID=America/New_York:20221209T190000
DTEND;TZID=America/New_York:20221209T210000
DTSTAMP:20260423T172710
CREATED:20221118T012745Z
LAST-MODIFIED:20221118T024647Z
UID:10001189-1670612400-1670619600@downtownchagrinfalls.com
SUMMARY:A Midsummer Night's Dream
DESCRIPTION:William Shakespeare’s hilarious classic. Join us for this hilarious romp in the woods of Athens complete with faeries\, lovers\, magic\, and mischief. \nPerformed in the Chagrin Fall High School Black Box Theatre. \nCast & Crew: \nAssistant Stage Manager. . . .\nSANIYAH MANNINGHAM \nTheseus/Oberon ………  RO ZABIK \nHippolyta/Titania……….   KELLEN WILLIAMS \nPuck/Philostrate……….  REAGAN KACMAR \nEgeus/Starvling….\nNORAH VAN VALKENBURGH \nHermia………………………MAYLON JOHNSON \nHelena…………………… DIAMOND MCCLENDON \nLysander…………………PAIGE WEIR \nDemetrius……………… ELENA RODENBORN \nBottom……………………TAYLOR ATWARA \nFlute/Thisby…………… CAMERON CUSTER \nQuince/Peaseblossom……SAM FANGER \nSnug/Cobweb………MIRIAM LAUGHLIN \nSnout/Mustardseed…. TY WYVILLE \nMoth…………………….   B PAXSON \nCobblefern/Swing…….  ATLAS NIELSEN \nMoonwort/Swing …….  KATE QUINN
URL:https://downtownchagrinfalls.com/event/a-midsummer-nights-dream/2022-12-09/
LOCATION:Chagrin Falls High School\, 400 E. Washington Street\, Chagrin Falls\, OH\, 44022\, United States
CATEGORIES:Theater
ATTACH;FMTTYPE=image/png:https://downtownchagrinfalls.com/wp-content/uploads/2022/11/Thank-You-Facebook-Post-6.png
END:VEVENT
BEGIN:VEVENT
DTSTART;TZID=America/New_York:20221209T193000
DTEND;TZID=America/New_York:20221209T193000
DTSTAMP:20260423T172710
CREATED:20221104T165640Z
LAST-MODIFIED:20221104T172806Z
UID:10001178-1670614200-1670614200@downtownchagrinfalls.com
SUMMARY:Elf The Musical
DESCRIPTION:Your family will love this musical adaptation of the hit Christmas movie of the same name. “Elf” is the story of Buddy\, a human raised by Santa’s elves at the North Pole. When he travels to New York City to seek his real father\, he discovers that his childlike and joyous nature doesn’t always fit in.
URL:https://downtownchagrinfalls.com/event/elf-the-musical-9/
LOCATION:Chagrin Valley Little Theatre\, 40 River Street\, Chagrin Falls\, OH\, 44022\, United States
CATEGORIES:Theater
ATTACH;FMTTYPE=image/png:https://downtownchagrinfalls.com/wp-content/uploads/2022/11/Elf340.png
ORGANIZER;CN="Chagrin Valley Little Theatre":MAILTO:cvlt@cvlt.org
END:VEVENT
BEGIN:VEVENT
DTSTART;TZID=America/New_York:20221210T083000
DTEND;TZID=America/New_York:20221210T220000
DTSTAMP:20260423T172710
CREATED:20221118T010243Z
LAST-MODIFIED:20221118T030323Z
UID:10001185-1670661000-1670709600@downtownchagrinfalls.com
SUMMARY:Breakfast with Santa
DESCRIPTION:Hosted by the Chagrin Falls High School Baseball team! Come join the baseball team elves for all-you-can-eat pancakes\, SANTA\, and amazing games\, crafts\, and prizes!\n2 Seatings this year!\n8:30 am & 10:30 am\nKids under 2 are free!\nGet your photo with Santa and have a fun family morning\, a yummy breakfast – and help the baseball team in the process!\nGet your tickets on ticket spicket!!!\nOnline Ticket Sales Go To:\n8:30 am – https://tinyurl.com/BWS830\n10:30 am – https://tinyurl.com/BWS1030am
URL:https://downtownchagrinfalls.com/event/breakfast-with-santa/
LOCATION:Chagrin Falls Middle School\, 400 E. Washington Street\, Chagrin Falls\, OH\, 44022\, United States
CATEGORIES:Children,Food & Drink,Fundraiser
ATTACH;FMTTYPE=image/png:https://downtownchagrinfalls.com/wp-content/uploads/2022/11/Thank-You-Facebook-Post-9-1.png
END:VEVENT
BEGIN:VEVENT
DTSTART;TZID=America/New_York:20221210T103000
DTEND;TZID=America/New_York:20221210T120000
DTSTAMP:20260423T172710
CREATED:20221118T010408Z
LAST-MODIFIED:20221118T030245Z
UID:10001186-1670668200-1670673600@downtownchagrinfalls.com
SUMMARY:Breakfast with Santa
DESCRIPTION:Hosted by the Chagrin Falls High School Baseball team! Come join the baseball team elves for all-you-can-eat pancakes\, SANTA\, and amazing games\, crafts\, and prizes!\n2 Seatings this year!\n8:30 am & 10:30 am\nKids under 2 are free!\nGet your photo with Santa and have a fun family morning\, a yummy breakfast – and help the baseball team in the process!\nGet your tickets on ticket spicket!!!\nOnline Ticket Sales Go To:\n8:30 am – https://tinyurl.com/BWS830\n10:30 am – https://tinyurl.com/BWS1030am
URL:https://downtownchagrinfalls.com/event/breakfast-with-santa-2/
LOCATION:Chagrin Falls Middle School\, 400 E. Washington Street\, Chagrin Falls\, OH\, 44022\, United States
CATEGORIES:Children,Food & Drink,Fundraiser
ATTACH;FMTTYPE=image/png:https://downtownchagrinfalls.com/wp-content/uploads/2022/11/Thank-You-Facebook-Post-9.png
END:VEVENT
BEGIN:VEVENT
DTSTART;TZID=America/New_York:20221210T110000
DTEND;TZID=America/New_York:20221210T140000
DTSTAMP:20260423T172710
CREATED:20221118T032052Z
LAST-MODIFIED:20221118T032052Z
UID:10001214-1670670000-1670680800@downtownchagrinfalls.com
SUMMARY:Deck the Falls
DESCRIPTION:Join GIVE! to celebrate the holiday season in Triangle Park. Enjoy visits with Santa in the Gazebo\, photo ops in the sleigh\, a balloon artist\, DJ & music\, games\, cookies\, hot cocoa\, a scavenger hunt and much more family fun!
URL:https://downtownchagrinfalls.com/event/deck-the-falls/2022-12-10/
LOCATION:Triangle Park\, Chagrin Falls\, OH\, 44022\, United States
CATEGORIES:Children,Holiday,Outdoor
ATTACH;FMTTYPE=image/png:https://downtownchagrinfalls.com/wp-content/uploads/2022/11/Thank-You-Facebook-Post-11.png
END:VEVENT
BEGIN:VEVENT
DTSTART;TZID=America/New_York:20221210T150000
DTEND;TZID=America/New_York:20221210T160000
DTSTAMP:20260423T172710
CREATED:20221118T152848Z
LAST-MODIFIED:20221118T152900Z
UID:10001229-1670684400-1670688000@downtownchagrinfalls.com
SUMMARY:CLEVELAND NATURAL SCIENCE CLUB: PEST CONTROL WITHOUT CHEMICALS
DESCRIPTION:Managing garden pests in your vegetable garden without chemicals may be easier than you think. Join Don Landek of the Master Gardeners of Cuyahoga County and learn how to identify the most common local insect and weed pests based on vegetable family groupings and how to combat them. We will discuss basic control practices in conjunction with natural products that will allow you to grow healthy chemical-free vegetables. Email northchagrinnc@clevelandmetroparks.com with questions. No registration required.
URL:https://downtownchagrinfalls.com/event/cleveland-natural-science-club-pest-control-without-chemicals/
LOCATION:Look About Lodge\, 37374 Miles Road\, Bentleyville\, OH\, 44022\, United States
CATEGORIES:Gardening,Nature,Speaker
ATTACH;FMTTYPE=image/jpeg:https://downtownchagrinfalls.com/wp-content/uploads/2022/11/Look-About-Lodge.jpg
END:VEVENT
BEGIN:VEVENT
DTSTART;TZID=America/New_York:20221210T190000
DTEND;TZID=America/New_York:20221210T210000
DTSTAMP:20260423T172710
CREATED:20221118T012745Z
LAST-MODIFIED:20221118T024647Z
UID:10001190-1670698800-1670706000@downtownchagrinfalls.com
SUMMARY:A Midsummer Night's Dream
DESCRIPTION:William Shakespeare’s hilarious classic. Join us for this hilarious romp in the woods of Athens complete with faeries\, lovers\, magic\, and mischief. \nPerformed in the Chagrin Fall High School Black Box Theatre. \nCast & Crew: \nAssistant Stage Manager. . . .\nSANIYAH MANNINGHAM \nTheseus/Oberon ………  RO ZABIK \nHippolyta/Titania……….   KELLEN WILLIAMS \nPuck/Philostrate……….  REAGAN KACMAR \nEgeus/Starvling….\nNORAH VAN VALKENBURGH \nHermia………………………MAYLON JOHNSON \nHelena…………………… DIAMOND MCCLENDON \nLysander…………………PAIGE WEIR \nDemetrius……………… ELENA RODENBORN \nBottom……………………TAYLOR ATWARA \nFlute/Thisby…………… CAMERON CUSTER \nQuince/Peaseblossom……SAM FANGER \nSnug/Cobweb………MIRIAM LAUGHLIN \nSnout/Mustardseed…. TY WYVILLE \nMoth…………………….   B PAXSON \nCobblefern/Swing…….  ATLAS NIELSEN \nMoonwort/Swing …….  KATE QUINN
URL:https://downtownchagrinfalls.com/event/a-midsummer-nights-dream/2022-12-10/
LOCATION:Chagrin Falls High School\, 400 E. Washington Street\, Chagrin Falls\, OH\, 44022\, United States
CATEGORIES:Theater
ATTACH;FMTTYPE=image/png:https://downtownchagrinfalls.com/wp-content/uploads/2022/11/Thank-You-Facebook-Post-6.png
END:VEVENT
BEGIN:VEVENT
DTSTART;TZID=America/New_York:20221210T193000
DTEND;TZID=America/New_York:20221210T193000
DTSTAMP:20260423T172710
CREATED:20221104T165640Z
LAST-MODIFIED:20221104T172422Z
UID:10001179-1670700600-1670700600@downtownchagrinfalls.com
SUMMARY:Elf The Musical
DESCRIPTION:Your family will love this musical adaptation of the hit Christmas movie of the same name. “Elf” is the story of Buddy\, a human raised by Santa’s elves at the North Pole. When he travels to New York City to seek his real father\, he discovers that his childlike and joyous nature doesn’t always fit in.
URL:https://downtownchagrinfalls.com/event/elf-the-musical-10/
LOCATION:Chagrin Valley Little Theatre\, 40 River Street\, Chagrin Falls\, OH\, 44022\, United States
CATEGORIES:Theater
ATTACH;FMTTYPE=image/png:https://downtownchagrinfalls.com/wp-content/uploads/2022/11/Elf340.png
ORGANIZER;CN="Chagrin Valley Little Theatre":MAILTO:cvlt@cvlt.org
END:VEVENT
BEGIN:VEVENT
DTSTART;TZID=America/New_York:20221211T130000
DTEND;TZID=America/New_York:20221211T160000
DTSTAMP:20260423T172710
CREATED:20221118T042232Z
LAST-MODIFIED:20221118T042232Z
UID:10001222-1670763600-1670774400@downtownchagrinfalls.com
SUMMARY:Complimentary Carriage Rides
DESCRIPTION:Sponsored by Chagrin Falls Shopping Plaza
URL:https://downtownchagrinfalls.com/event/complimentary-carriage-rides/2022-12-11/
LOCATION:Chagrin Falls Shopping Plaza
CATEGORIES:Just Fun,Outdoor
ATTACH;FMTTYPE=image/png:https://downtownchagrinfalls.com/wp-content/uploads/2022/11/Thank-You-Facebook-Post-17.png
END:VEVENT
BEGIN:VEVENT
DTSTART;TZID=America/New_York:20221211T140000
DTEND;TZID=America/New_York:20221211T160000
DTSTAMP:20260423T172710
CREATED:20221118T012745Z
LAST-MODIFIED:20221118T024647Z
UID:10001191-1670767200-1670774400@downtownchagrinfalls.com
SUMMARY:A Midsummer Night's Dream
DESCRIPTION:William Shakespeare’s hilarious classic. Join us for this hilarious romp in the woods of Athens complete with faeries\, lovers\, magic\, and mischief. \nPerformed in the Chagrin Fall High School Black Box Theatre. \nCast & Crew: \nAssistant Stage Manager. . . .\nSANIYAH MANNINGHAM \nTheseus/Oberon ………  RO ZABIK \nHippolyta/Titania……….   KELLEN WILLIAMS \nPuck/Philostrate……….  REAGAN KACMAR \nEgeus/Starvling….\nNORAH VAN VALKENBURGH \nHermia………………………MAYLON JOHNSON \nHelena…………………… DIAMOND MCCLENDON \nLysander…………………PAIGE WEIR \nDemetrius……………… ELENA RODENBORN \nBottom……………………TAYLOR ATWARA \nFlute/Thisby…………… CAMERON CUSTER \nQuince/Peaseblossom……SAM FANGER \nSnug/Cobweb………MIRIAM LAUGHLIN \nSnout/Mustardseed…. TY WYVILLE \nMoth…………………….   B PAXSON \nCobblefern/Swing…….  ATLAS NIELSEN \nMoonwort/Swing …….  KATE QUINN
URL:https://downtownchagrinfalls.com/event/a-midsummer-nights-dream/2022-12-11/
LOCATION:Chagrin Falls High School\, 400 E. Washington Street\, Chagrin Falls\, OH\, 44022\, United States
CATEGORIES:Theater
ATTACH;FMTTYPE=image/png:https://downtownchagrinfalls.com/wp-content/uploads/2022/11/Thank-You-Facebook-Post-6.png
END:VEVENT
END:VCALENDAR