BEGIN:VCALENDAR
VERSION:2.0
PRODID:-//Downtown Chagrin Falls - ECPv6.15.13.1//NONSGML v1.0//EN
CALSCALE:GREGORIAN
METHOD:PUBLISH
X-WR-CALNAME:Downtown Chagrin Falls
X-ORIGINAL-URL:https://downtownchagrinfalls.com
X-WR-CALDESC:Events for Downtown Chagrin Falls
REFRESH-INTERVAL;VALUE=DURATION:PT1H
X-Robots-Tag:noindex
X-PUBLISHED-TTL:PT1H
BEGIN:VTIMEZONE
TZID:America/New_York
BEGIN:DAYLIGHT
TZOFFSETFROM:-0500
TZOFFSETTO:-0400
TZNAME:EDT
DTSTART:20240310T070000
END:DAYLIGHT
BEGIN:STANDARD
TZOFFSETFROM:-0400
TZOFFSETTO:-0500
TZNAME:EST
DTSTART:20241103T060000
END:STANDARD
BEGIN:DAYLIGHT
TZOFFSETFROM:-0500
TZOFFSETTO:-0400
TZNAME:EDT
DTSTART:20250309T070000
END:DAYLIGHT
BEGIN:STANDARD
TZOFFSETFROM:-0400
TZOFFSETTO:-0500
TZNAME:EST
DTSTART:20251102T060000
END:STANDARD
BEGIN:DAYLIGHT
TZOFFSETFROM:-0500
TZOFFSETTO:-0400
TZNAME:EDT
DTSTART:20260308T070000
END:DAYLIGHT
BEGIN:STANDARD
TZOFFSETFROM:-0400
TZOFFSETTO:-0500
TZNAME:EST
DTSTART:20261101T060000
END:STANDARD
END:VTIMEZONE
BEGIN:VEVENT
DTSTART;TZID=America/New_York:20251220T170000
DTEND;TZID=America/New_York:20251220T190000
DTSTAMP:20260420T002654
CREATED:20251113T220922Z
LAST-MODIFIED:20251113T220922Z
UID:10002878-1766250000-1766257200@downtownchagrinfalls.com
SUMMARY:Cleveland Carolers In Chagrin Falls
DESCRIPTION:The Cleveland Carolers will stroll the Village\, bringing classic holiday cheer as you shop for gifts. Enjoy four-part harmony\, festive costumes\, and all the charm that comes with live caroling in the heart of the season.
URL:https://downtownchagrinfalls.com/event/cleveland-carolers-in-chagrin-falls/2025-12-20/
LOCATION:Chagrin Falls\, Chagrin Falls\, OH\, 44022\, United States
CATEGORIES:Holiday
ATTACH;FMTTYPE=image/jpeg:https://downtownchagrinfalls.com/wp-content/uploads/2025/11/Carolers.jpg
END:VEVENT
BEGIN:VEVENT
DTSTART;TZID=America/New_York:20251220T190000
DTEND;TZID=America/New_York:20251220T210000
DTSTAMP:20260420T002654
CREATED:20251009T185140Z
LAST-MODIFIED:20251009T185140Z
UID:10002651-1766257200-1766264400@downtownchagrinfalls.com
SUMMARY:Burning River Brass "Our Kind of Christmas" at Federated Performing Arts Series
DESCRIPTION:BURNING RIVER BRASS presents “Our Kind of Christmas” \n\n\n\n\n\n\n\n\n\n\n\nSaturday\, December 20\, 2025 \n7 PM \nTickets: $30-$50.  Students: $10 \nReception following the program. \n\n\n\n\n\n\n\n\n\n\nThe Burning River Brass returns to Northeast Ohio for a splendid holiday program! A touch of tradition\, a dash of jazz\, and a healthy measure of festive cheer! Burning River Brass presents Christmas concerts with a little something for everyone. As we journey from delightful and time-honored carols from around the world to our very own Big Band Nutcracker\, we’ll have you singing along in no time. It’s the perfect way to get in the holiday spirit!
URL:https://downtownchagrinfalls.com/event/burning-river-brass-our-kind-of-christmas-at-federated-performing-arts-series/
LOCATION:Federated Church\, 76 Bell Street\, Chagrin Falls\, OH\, 44022\, United States
CATEGORIES:Holiday,Live Music
ATTACH;FMTTYPE=image/jpeg:https://downtownchagrinfalls.com/wp-content/uploads/2025/10/Chasing-Clues-2025-53.jpg
END:VEVENT
BEGIN:VEVENT
DTSTART;TZID=America/New_York:20251221T110000
DTEND;TZID=America/New_York:20251221T130000
DTSTAMP:20260420T002654
CREATED:20251121T175710Z
LAST-MODIFIED:20251121T175710Z
UID:10002905-1766314800-1766322000@downtownchagrinfalls.com
SUMMARY:Christmas Ale Brats and Brews Tasting with Great Lakes Brewing Company
DESCRIPTION:Join us in the Beer Department at Heinen’s Chagrin Falls as we sample the classic Christmas Ale from Great Lakes Brewing Company alongside our exclusive Great Lakes Christmas Ale Beer Brats! \nNo entrance fee required. | Questions? Please contact Heinen’s Chagrin Falls at (440) 424-5108.
URL:https://downtownchagrinfalls.com/event/christmas-ale-brats-and-brews-tasting-with-great-lakes-brewing-company/
LOCATION:Heinen’s\, 20 Shopping Plaza\, Chagrin Falls\, OH\, 44022\, United States
CATEGORIES:Beer Tasting,Food & Drink
ATTACH;FMTTYPE=image/png:https://downtownchagrinfalls.com/wp-content/uploads/2025/11/Great-Lakes-Christmas-Ale-Beer-Brats_800x550.png
END:VEVENT
BEGIN:VEVENT
DTSTART;TZID=America/New_York:20251221T120000
DTEND;TZID=America/New_York:20251221T140000
DTSTAMP:20260420T002654
CREATED:20251113T220922Z
LAST-MODIFIED:20251113T220922Z
UID:10002879-1766318400-1766325600@downtownchagrinfalls.com
SUMMARY:Cleveland Carolers In Chagrin Falls
DESCRIPTION:The Cleveland Carolers will stroll the Village\, bringing classic holiday cheer as you shop for gifts. Enjoy four-part harmony\, festive costumes\, and all the charm that comes with live caroling in the heart of the season.
URL:https://downtownchagrinfalls.com/event/cleveland-carolers-in-chagrin-falls/2025-12-21/
LOCATION:Chagrin Falls\, Chagrin Falls\, OH\, 44022\, United States
CATEGORIES:Holiday
ATTACH;FMTTYPE=image/jpeg:https://downtownchagrinfalls.com/wp-content/uploads/2025/11/Carolers.jpg
END:VEVENT
BEGIN:VEVENT
DTSTART;TZID=America/New_York:20251222T140000
DTEND;TZID=America/New_York:20251222T140000
DTSTAMP:20260420T002654
CREATED:20251120T171453Z
LAST-MODIFIED:20251120T171453Z
UID:10002892-1766412000-1766412000@downtownchagrinfalls.com
SUMMARY:Hamlet December Concert Series
DESCRIPTION:‘Tis the season for music\, merriment and joy! Jingle all the way to Hamlet as we share a special concert series throughout the month of December. We hope you’ll join the festivities for one or all of the following musical performances: \nTUESDAY\, DECEMBER 2\nHillcrest Concert Band | 7:00 p.m. \nSATURDAY\, DECEMBER 6\nCleveland Community Concert Band | 2:00 p.m. \nFRIDAY\, DECEMBER 12\nWestern Reserve Chorale | 7:00 p.m. \nSUNDAY\, DECEMBER 14\nForest City Singers | 3:00 p.m. \nMONDAY\, DECEMBER 22\nThe Goldenotes | 2:00 p.m. \nThe Atrium at Hamlet\n200 Hamlet Hills Drive | Chagrin Falls\, OH 44022 \nCall 440-490-4156 to R.S.V.P as space is limited.
URL:https://downtownchagrinfalls.com/event/hamlet-december-concert-series/2025-12-22/
LOCATION:Hamlet Atrium\, 200 Hamlet Hills Drive\, Chagrin Falls\, OH\, 44022\, United States
CATEGORIES:Holiday,Live Music
ATTACH;FMTTYPE=image/jpeg:https://downtownchagrinfalls.com/wp-content/uploads/2025/11/qtq80-pgRwjm.jpeg
END:VEVENT
BEGIN:VEVENT
DTSTART;TZID=America/New_York:20251222T190000
DTEND;TZID=America/New_York:20251222T203000
DTSTAMP:20260420T002654
CREATED:20251114T141015Z
LAST-MODIFIED:20251114T141015Z
UID:10002883-1766430000-1766435400@downtownchagrinfalls.com
SUMMARY:Annual Holiday Wassail Concert
DESCRIPTION:It’s a Chagrin Falls holiday tradition! \nExperience the warmth and joy of the holiday season with the Chagrin Falls Studio Orchestra’s annual Wassail Christmas Concert. Under the masterful direction of maestro Stephen A. Eva\, this beloved community tradition brings together festive music and seasonal cheer here in historic Chagrin Falls. \nBring the whole family to this delightful celebration where the spirit of Christmas comes alive through timeless melodies and sing-along favorites. The intimate setting of the Chagrin Valley Little Theatre provides the perfect backdrop for this magical musical experience with the 40-piece orchestra on stage. \nCreate cherished holiday memories at this family-friendly event that captures the essence of the season!
URL:https://downtownchagrinfalls.com/event/annual-holiday-wassail-concert/2025-12-22/
LOCATION:Chagrin Valley Little Theatre\, 40 River Street\, Chagrin Falls\, OH\, 44022\, United States
CATEGORIES:Holiday,Live Music
ATTACH;FMTTYPE=image/jpeg:https://downtownchagrinfalls.com/wp-content/uploads/2025/11/CFSO-Wassail-Landscape.jpg
END:VEVENT
BEGIN:VEVENT
DTSTART;TZID=America/New_York:20251223T160000
DTEND;TZID=America/New_York:20251223T180000
DTSTAMP:20260420T002654
CREATED:20251121T175854Z
LAST-MODIFIED:20251121T175854Z
UID:10002906-1766505600-1766512800@downtownchagrinfalls.com
SUMMARY:Holiday Wine Tasting
DESCRIPTION:Join us in the Wine Department at Heinen’s Chagrin Falls as we welcome a representative from our partner Southern Glazers Wine & Spirits for a tasting of a variety of delicious wines perfect for pairing with a holiday feast! \nNo entrance fee required. | Questions? Please contact Heinen’s Chagrin Falls at (440) 424-5108.
URL:https://downtownchagrinfalls.com/event/holiday-wine-tasting-2/
LOCATION:Heinen’s\, 20 Shopping Plaza\, Chagrin Falls\, OH\, 44022\, United States
CATEGORIES:Food & Drink,Wine Tasting
ATTACH;FMTTYPE=image/png:https://downtownchagrinfalls.com/wp-content/uploads/2025/11/Holiday-Wine-Showcase_800x550.png
END:VEVENT
BEGIN:VEVENT
DTSTART;TZID=America/New_York:20251223T190000
DTEND;TZID=America/New_York:20251223T203000
DTSTAMP:20260420T002654
CREATED:20251114T141015Z
LAST-MODIFIED:20251114T141015Z
UID:10002884-1766516400-1766521800@downtownchagrinfalls.com
SUMMARY:Annual Holiday Wassail Concert
DESCRIPTION:It’s a Chagrin Falls holiday tradition! \nExperience the warmth and joy of the holiday season with the Chagrin Falls Studio Orchestra’s annual Wassail Christmas Concert. Under the masterful direction of maestro Stephen A. Eva\, this beloved community tradition brings together festive music and seasonal cheer here in historic Chagrin Falls. \nBring the whole family to this delightful celebration where the spirit of Christmas comes alive through timeless melodies and sing-along favorites. The intimate setting of the Chagrin Valley Little Theatre provides the perfect backdrop for this magical musical experience with the 40-piece orchestra on stage. \nCreate cherished holiday memories at this family-friendly event that captures the essence of the season!
URL:https://downtownchagrinfalls.com/event/annual-holiday-wassail-concert/2025-12-23/
LOCATION:Chagrin Valley Little Theatre\, 40 River Street\, Chagrin Falls\, OH\, 44022\, United States
CATEGORIES:Holiday,Live Music
ATTACH;FMTTYPE=image/jpeg:https://downtownchagrinfalls.com/wp-content/uploads/2025/11/CFSO-Wassail-Landscape.jpg
END:VEVENT
END:VCALENDAR