BEGIN:VCALENDAR
VERSION:2.0
PRODID:-//Downtown Chagrin Falls - ECPv6.15.13.1//NONSGML v1.0//EN
CALSCALE:GREGORIAN
METHOD:PUBLISH
X-WR-CALNAME:Downtown Chagrin Falls
X-ORIGINAL-URL:https://downtownchagrinfalls.com
X-WR-CALDESC:Events for Downtown Chagrin Falls
REFRESH-INTERVAL;VALUE=DURATION:PT1H
X-Robots-Tag:noindex
X-PUBLISHED-TTL:PT1H
BEGIN:VTIMEZONE
TZID:America/New_York
BEGIN:DAYLIGHT
TZOFFSETFROM:-0500
TZOFFSETTO:-0400
TZNAME:EDT
DTSTART:20230312T070000
END:DAYLIGHT
BEGIN:STANDARD
TZOFFSETFROM:-0400
TZOFFSETTO:-0500
TZNAME:EST
DTSTART:20231105T060000
END:STANDARD
BEGIN:DAYLIGHT
TZOFFSETFROM:-0500
TZOFFSETTO:-0400
TZNAME:EDT
DTSTART:20240310T070000
END:DAYLIGHT
BEGIN:STANDARD
TZOFFSETFROM:-0400
TZOFFSETTO:-0500
TZNAME:EST
DTSTART:20241103T060000
END:STANDARD
BEGIN:DAYLIGHT
TZOFFSETFROM:-0500
TZOFFSETTO:-0400
TZNAME:EDT
DTSTART:20250309T070000
END:DAYLIGHT
BEGIN:STANDARD
TZOFFSETFROM:-0400
TZOFFSETTO:-0500
TZNAME:EST
DTSTART:20251102T060000
END:STANDARD
BEGIN:DAYLIGHT
TZOFFSETFROM:-0500
TZOFFSETTO:-0400
TZNAME:EDT
DTSTART:20260308T070000
END:DAYLIGHT
BEGIN:STANDARD
TZOFFSETFROM:-0400
TZOFFSETTO:-0500
TZNAME:EST
DTSTART:20261101T060000
END:STANDARD
END:VTIMEZONE
BEGIN:VEVENT
DTSTART;TZID=America/New_York:20241129T080000
DTEND;TZID=America/New_York:20241224T170000
DTSTAMP:20260420T203533
CREATED:20241126T183443Z
LAST-MODIFIED:20241126T195145Z
UID:10002390-1732867200-1735059600@downtownchagrinfalls.com
SUMMARY:Chagrin Falls Window Wonderland Nov. 29 - Dec. 24
DESCRIPTION:The Chagrin Falls Merchants invite you to enjoy their beautiful holiday window displays and cast your vote for your favorite! Vote between Nov. 29 and Dec. 24\, and everyone who participates will be entered to win gift cards from participating merchants. Discover the magic of Chagrin Falls this holiday season! Visit often\, support often\, vote often.
URL:https://downtownchagrinfalls.com/event/chagrin-falls-window-wonderland/
LOCATION:Chagrin Falls\, Chagrin Falls\, OH\, 44022\, United States
CATEGORIES:Holiday
ATTACH;FMTTYPE=image/jpeg:https://downtownchagrinfalls.com/wp-content/uploads/2024/11/CFMA-WIndows-scaled.jpg
END:VEVENT
BEGIN:VEVENT
DTSTART;TZID=America/New_York:20241207T110000
DTEND;TZID=America/New_York:20241207T150000
DTSTAMP:20260420T203533
CREATED:20241126T173130Z
LAST-MODIFIED:20241126T173130Z
UID:10002384-1733569200-1733583600@downtownchagrinfalls.com
SUMMARY:Deck The Falls
DESCRIPTION:Deck the Falls returns to the Village of Chagrin on Saturday December 7th & 14th from 11am – 3pm! \nJoin the Chagrin Valley Jaycees in Triangle Park and Township Hall and enjoy visits with Santa in the bandstand\, balloon artists\, DJ and music\, cookies and hot chocolate. \nSpecial music performances will be in Township Hall on both days.
URL:https://downtownchagrinfalls.com/event/deck-the-falls-2/
LOCATION:Triangle Park\, Chagrin Falls\, OH\, 44022\, United States
CATEGORIES:Holiday
ATTACH;FMTTYPE=image/jpeg:https://downtownchagrinfalls.com/wp-content/uploads/2024/11/467402428_964905902336122_6365378170994164350_n.jpg
ORGANIZER;CN="Chagrin Valley Jaycees":MAILTO:info@cvjc.org
END:VEVENT
BEGIN:VEVENT
DTSTART;TZID=America/New_York:20241207T130000
DTEND;TZID=America/New_York:20241207T150000
DTSTAMP:20260420T203533
CREATED:20241126T175308Z
LAST-MODIFIED:20241126T175308Z
UID:10002387-1733576400-1733583600@downtownchagrinfalls.com
SUMMARY:Chagrin History Holiday Open House
DESCRIPTION:Join us for our annual Holiday Open House on Saturday\, December 7\, 2024 from 1-3pm at Chagrin History Center\, 87 E. Washington St.\nThis year’s theme is “A Vintage Holiday” and we’ll be celebrating the holidays in 1940s style. The Chagrin Falls Historical Society (now Chagrin History Center) was founded in 1949\, and so to close out our year long celebration of our 75th anniversary we will be adding vintage decorations to our exhibit “It Takes A Village: 75 Years of Collecting”. Enjoy touring our exhibit and taking a step back in time!\nEnjoy refreshments\, holiday cheer\, and music!\nGuests are invited to bring a cookie tray or dessert for everyone to enjoy! Please let Maggie know if you will be bringing something by emailing admin@chagrinhistory.org or calling 440.247.4695
URL:https://downtownchagrinfalls.com/event/chagrin-history-holiday-open-house/
LOCATION:Chagrin History Center\, 87 E. Washington Street\, Chagrin Falls\, OH\, 44022\, United States
CATEGORIES:Holiday
ATTACH;FMTTYPE=image/png:https://downtownchagrinfalls.com/wp-content/uploads/2024/11/465999597_959491176216842_8950663534986740856_n.png
ORGANIZER;CN="Chagrin Falls Historical Society":MAILTO:info@chagrinhistory.org
END:VEVENT
BEGIN:VEVENT
DTSTART;TZID=America/New_York:20241208T130000
DTEND;TZID=America/New_York:20241208T160000
DTSTAMP:20260420T203533
CREATED:20241126T174146Z
LAST-MODIFIED:20241127T143531Z
UID:10002386-1733662800-1733673600@downtownchagrinfalls.com
SUMMARY:Complimentary Carriage Rides
DESCRIPTION:Horse carriage rides will be available in downtown Chagrin Falls on Saturday\, December 8\, and again on Sunday\, December 15\, from 1:00 PM to 4:00 PM. This experience is offered free of charge (driver tips accepted) compliments of the Chagrin Falls Shopping Plaza.  It is a wonderful way to embrace the holiday spirit\, especially following some local shopping in town and just before a special holiday meal at one of our many restaurants.
URL:https://downtownchagrinfalls.com/event/complimentary-carriage-rides-2/2024-12-08/
LOCATION:Chagrin Falls Shopping Plaza
CATEGORIES:Holiday
ATTACH;FMTTYPE=image/jpeg:https://downtownchagrinfalls.com/wp-content/uploads/2019/11/Carriages2011-300x199.jpg
END:VEVENT
BEGIN:VEVENT
DTSTART;TZID=America/New_York:20241214T110000
DTEND;TZID=America/New_York:20241214T150000
DTSTAMP:20260420T203533
CREATED:20241126T173218Z
LAST-MODIFIED:20241126T173218Z
UID:10002385-1734174000-1734188400@downtownchagrinfalls.com
SUMMARY:Deck The Falls
DESCRIPTION:Deck the Falls returns to the Village of Chagrin on Saturday December 7th & 14th from 11am – 3pm! \nJoin the Chagrin Valley Jaycees in Triangle Park and Township Hall and enjoy visits with Santa in the bandstand\, balloon artists\, DJ and music\, cookies and hot chocolate. \nSpecial music performances will be in Township Hall on both days.
URL:https://downtownchagrinfalls.com/event/deck-the-falls-3/
LOCATION:Triangle Park\, Chagrin Falls\, OH\, 44022\, United States
CATEGORIES:Holiday
ATTACH;FMTTYPE=image/jpeg:https://downtownchagrinfalls.com/wp-content/uploads/2024/11/467402428_964905902336122_6365378170994164350_n.jpg
ORGANIZER;CN="Chagrin Valley Jaycees":MAILTO:info@cvjc.org
END:VEVENT
BEGIN:VEVENT
DTSTART;TZID=America/New_York:20241215T130000
DTEND;TZID=America/New_York:20241215T160000
DTSTAMP:20260420T203533
CREATED:20241126T174146Z
LAST-MODIFIED:20241127T143531Z
UID:10002395-1734267600-1734278400@downtownchagrinfalls.com
SUMMARY:Complimentary Carriage Rides
DESCRIPTION:Horse carriage rides will be available in downtown Chagrin Falls on Saturday\, December 8\, and again on Sunday\, December 15\, from 1:00 PM to 4:00 PM. This experience is offered free of charge (driver tips accepted) compliments of the Chagrin Falls Shopping Plaza.  It is a wonderful way to embrace the holiday spirit\, especially following some local shopping in town and just before a special holiday meal at one of our many restaurants.
URL:https://downtownchagrinfalls.com/event/complimentary-carriage-rides-2/2024-12-15/
LOCATION:Chagrin Falls Shopping Plaza
CATEGORIES:Holiday
ATTACH;FMTTYPE=image/jpeg:https://downtownchagrinfalls.com/wp-content/uploads/2019/11/Carriages2011-300x199.jpg
END:VEVENT
BEGIN:VEVENT
DTSTART;TZID=America/New_York:20241215T160000
DTEND;TZID=America/New_York:20241215T170000
DTSTAMP:20260420T203533
CREATED:20241126T180034Z
LAST-MODIFIED:20241126T180034Z
UID:10002388-1734278400-1734282000@downtownchagrinfalls.com
SUMMARY:Encore Chorale Free Holiday Concert
DESCRIPTION:The Encore Chorale invites you to a free concert at 4 p.m. Dec. 15 at the Federated Church\, 76 Bell St. in Chagrin Falls. \nThe 20-member group will perform traditional holiday songs including Mozart’s “Dona Nobis Pacem\,” “Winter Bells” by Mykola Leontovych\, “Fly” by Aryian Norman\, “Deck the Halls Rag” arranged by Molly Ijames and a musical interpretation of Robert Frost’s poem\, “Stopping by Woods on a Snowy Evening.” \nChorale members are from the Chagrin Valley\, as well as Portage and Lake counties. Founded in 2007\, the group includes adults age 55 and older who meet weekly for a 15-week semester\, which culminates in a performance concert. \nThe mission is to create meaningful arts experiences supporting lifelong learning\, wellness and fun. \nTickets are free\, but required for the event available through Eventbrite.
URL:https://downtownchagrinfalls.com/event/encore-chorale-free-holiday-concert/
LOCATION:Federated Church\, 76 Bell Street\, Chagrin Falls\, OH\, 44022\, United States
CATEGORIES:Holiday
ATTACH;FMTTYPE=image/jpeg:https://downtownchagrinfalls.com/wp-content/uploads/2024/11/https___cdn.evbuc_.com_images_884929633_674689143043_1_original.jpeg
END:VEVENT
BEGIN:VEVENT
DTSTART;TZID=America/New_York:20241219T180000
DTEND;TZID=America/New_York:20241219T200000
DTSTAMP:20260420T203533
CREATED:20241127T143303Z
LAST-MODIFIED:20241127T143303Z
UID:10002394-1734631200-1734638400@downtownchagrinfalls.com
SUMMARY:Jingle and Mingle - Last Minute Shopping Event
DESCRIPTION:Join us for last minute shopping deals around town – hot cocoa and caroling along the way
URL:https://downtownchagrinfalls.com/event/jingle-and-mingle-last-minute-shopping-event/
LOCATION:Chagrin Falls\, Chagrin Falls\, OH\, 44022\, United States
CATEGORIES:Holiday
ATTACH;FMTTYPE=image/jpeg:https://downtownchagrinfalls.com/wp-content/uploads/2024/11/SHOPPING-EVENT.jpg
END:VEVENT
BEGIN:VEVENT
DTSTART;TZID=America/New_York:20241221T110000
DTEND;TZID=America/New_York:20241221T140000
DTSTAMP:20260420T203533
CREATED:20241127T141449Z
LAST-MODIFIED:20241127T141510Z
UID:10002393-1734778800-1734789600@downtownchagrinfalls.com
SUMMARY:Santa Claus in Who-ville
DESCRIPTION:Santa will be in the Triangle Park bandstand for photos and you never know “who” you might bump into as The Grinch\, Buddy and Jovie from Elf and some other fun surprises shop around the streets of the village.
URL:https://downtownchagrinfalls.com/event/santa-claus-in-who-ville/
LOCATION:Chagrin Falls\, Chagrin Falls\, OH\, 44022\, United States
CATEGORIES:Holiday
ATTACH;FMTTYPE=image/jpeg:https://downtownchagrinfalls.com/wp-content/uploads/2024/11/Grinch-at-Popocron-Shop.jpeg
END:VEVENT
BEGIN:VEVENT
DTSTART;TZID=America/New_York:20241222T160000
DTEND;TZID=America/New_York:20241222T180000
DTSTAMP:20260420T203533
CREATED:20241126T180255Z
LAST-MODIFIED:20241126T180255Z
UID:10002389-1734883200-1734890400@downtownchagrinfalls.com
SUMMARY:The King's Brass: Christmas Celebration
DESCRIPTION:*SEATING IS ASSIGNED: Please list your requested seats in the memo line at purchase (ex. Main Right\, D1 – 4).  Available seats can be viewed by clicking here.  Call 440-247-6490 x 120 for assistance. \nThe long-awaited return of the King’s Brass to the Federated Church is here! \nThis special Christmas Celebration concert will present many of your favorite Christmas classics with a contemporary flair.  Tim Zimmerman and the King’s Brass features three trumpets\, three trombones\, a tuba\, percussion and keyboards. These instruments blend together to create a time of innovative worship that will be enjoyed by all generations. \nSecular and sacred music critics alike applaud their concerts as “superb in every way” and “innovative and well played.” “Truly\, an unforgettable experience!”. \nThe King’s Brass\, formed over four decades ago in Detroit\, is compromised of professional musicians from across the country\, who desire to use the instruments they love to lead others in praise and worship. Based out of Fort Wayne\, Indiana\, the group plays over 150 concerts per year from coast to coast as well as international destinations. This year\, The King’s Brass celebrates its 46th Anniversary Season. \nMusicians:\nTim Zimmerman\, trumpet and Director\nKyle Davidson\, trombone\nJacob Fulkerson\, tuba\nDasom Kwon\, piano\nColton Morris\, percussion\nNate Petersen\, bass trombone\nTony Sanders\, trumpet\nJoey Schnoebelen\, trumpet\nKolbe Schnoebelen\, trombone
URL:https://downtownchagrinfalls.com/event/the-kings-brass-christmas-celebration/
LOCATION:Federated Church\, 76 Bell Street\, Chagrin Falls\, OH\, 44022\, United States
CATEGORIES:Holiday
ATTACH;FMTTYPE=image/jpeg:https://downtownchagrinfalls.com/wp-content/uploads/2024/11/dbaa1b37f75f45c0a756b1ef015c1417.jpg
END:VEVENT
BEGIN:VEVENT
DTSTART;TZID=America/New_York:20241229T163000
DTEND;TZID=America/New_York:20241229T173000
DTSTAMP:20260420T203533
CREATED:20241126T195517Z
LAST-MODIFIED:20241126T195517Z
UID:10002391-1735489800-1735493400@downtownchagrinfalls.com
SUMMARY:Menorah at the Falls
DESCRIPTION:Join us on Sunday\, December 29th at 4:30 PM for the annual grand Chanukah celebration in the heart of Chagrin Falls. \nThe 9-foot tall Menorah will be lit in Riverside Park – accompanied by live music! \nFollowing the lighting\, the party continues across the street in Township Hall\, with fun for the whole family. \nEnjoy live music\, hot drinks\, latkes\, donuts and other refreshments\, as well as children’s crafts\, activities\, and a balloon artist. \nMusic begins: 4:30 PM Menorah Lighting: 5:00 PM \nThere is no charge to attend. Pre-registration is requested.
URL:https://downtownchagrinfalls.com/event/menorah-at-the-falls-2/
LOCATION:Riverside Park\, 78 Main Street\, Chagrin Falls\, OH\, 44022
CATEGORIES:Holiday
ATTACH;FMTTYPE=image/png:https://downtownchagrinfalls.com/wp-content/uploads/2024/11/MenorahattheFallssquare.png
END:VEVENT
BEGIN:VEVENT
DTSTART;TZID=America/New_York:20241231T223000
DTEND;TZID=America/New_York:20250101T000000
DTSTAMP:20260420T203533
CREATED:20241126T195920Z
LAST-MODIFIED:20241126T195920Z
UID:10002392-1735684200-1735689600@downtownchagrinfalls.com
SUMMARY:New Year's Eve Popcorn Ball Drop
DESCRIPTION:Join us as we ring in 2020 the only way Chagrin Falls knows how… by dropping a HUGE popcorn ball!!\n10:30-11:45 PMCookies and CocoaChagrin Falls Township Hall\, 83 N. Main St.Chagrin Fall\, Ohio 44022Popcorn Ball Drop @ The Triangle to Follow
URL:https://downtownchagrinfalls.com/event/new-years-eve-popcorn-ball-drop/
LOCATION:Triangle Park\, Chagrin Falls\, OH\, 44022\, United States
CATEGORIES:Holiday
ATTACH;FMTTYPE=image/jpeg:https://downtownchagrinfalls.com/wp-content/uploads/2024/11/Popcorn-Ball-Drop-Image.jpg
END:VEVENT
END:VCALENDAR