BEGIN:VCALENDAR
VERSION:2.0
PRODID:-//Downtown Chagrin Falls - ECPv6.15.13.1//NONSGML v1.0//EN
CALSCALE:GREGORIAN
METHOD:PUBLISH
X-WR-CALNAME:Downtown Chagrin Falls
X-ORIGINAL-URL:https://downtownchagrinfalls.com
X-WR-CALDESC:Events for Downtown Chagrin Falls
REFRESH-INTERVAL;VALUE=DURATION:PT1H
X-Robots-Tag:noindex
X-PUBLISHED-TTL:PT1H
BEGIN:VTIMEZONE
TZID:America/New_York
BEGIN:DAYLIGHT
TZOFFSETFROM:-0500
TZOFFSETTO:-0400
TZNAME:EDT
DTSTART:20210314T070000
END:DAYLIGHT
BEGIN:STANDARD
TZOFFSETFROM:-0400
TZOFFSETTO:-0500
TZNAME:EST
DTSTART:20211107T060000
END:STANDARD
BEGIN:DAYLIGHT
TZOFFSETFROM:-0500
TZOFFSETTO:-0400
TZNAME:EDT
DTSTART:20220313T070000
END:DAYLIGHT
BEGIN:STANDARD
TZOFFSETFROM:-0400
TZOFFSETTO:-0500
TZNAME:EST
DTSTART:20221106T060000
END:STANDARD
BEGIN:DAYLIGHT
TZOFFSETFROM:-0500
TZOFFSETTO:-0400
TZNAME:EDT
DTSTART:20230312T070000
END:DAYLIGHT
BEGIN:STANDARD
TZOFFSETFROM:-0400
TZOFFSETTO:-0500
TZNAME:EST
DTSTART:20231105T060000
END:STANDARD
END:VTIMEZONE
BEGIN:VEVENT
DTSTART;TZID=America/New_York:20221104T213000
DTEND;TZID=America/New_York:20221104T213000
DTSTAMP:20260419T192903
CREATED:20221104T165454Z
LAST-MODIFIED:20221104T180227Z
UID:10001155-1667597400-1667597400@downtownchagrinfalls.com
SUMMARY:Live Music: Cleveland Rock Band
DESCRIPTION:Eclectic rock classics from any genre and any decade. Setlist that transcends age groups and doesn’t neglect the dance floor
URL:https://downtownchagrinfalls.com/event/live-music-cleveland-rock-band/
LOCATION:Greenville Inn\, 7125 Pine Street\, Bainbridge\, OH\, 44022\, United States
CATEGORIES:Live Music
ATTACH;FMTTYPE=image/jpeg:https://downtownchagrinfalls.com/wp-content/uploads/2022/11/cle-rock-bar.jpeg
END:VEVENT
BEGIN:VEVENT
DTSTART;TZID=America/New_York:20221105T213000
DTEND;TZID=America/New_York:20221105T213000
DTSTAMP:20260419T192904
CREATED:20221104T165455Z
LAST-MODIFIED:20221104T180110Z
UID:10001156-1667683800-1667683800@downtownchagrinfalls.com
SUMMARY:Live Music: Cocktail Johnny
DESCRIPTION:High energy dance / rock cover band playiing variety from past & present.
URL:https://downtownchagrinfalls.com/event/live-music-cocktail-johnny/
LOCATION:Greenville Inn\, 7125 Pine Street\, Bainbridge\, OH\, 44022\, United States
CATEGORIES:Live Music
ATTACH;FMTTYPE=image/jpeg:https://downtownchagrinfalls.com/wp-content/uploads/2022/11/cocktail-johnny.jpeg
END:VEVENT
BEGIN:VEVENT
DTSTART;TZID=America/New_York:20221107T190000
DTEND;TZID=America/New_York:20221107T190000
DTSTAMP:20260419T192904
CREATED:20221104T165503Z
LAST-MODIFIED:20221104T180018Z
UID:10001164-1667847600-1667847600@downtownchagrinfalls.com
SUMMARY:Jazz Monday: Sweet Willy and the Solid Cat
DESCRIPTION:
URL:https://downtownchagrinfalls.com/event/jazz-monday-sweet-willy-and-the-solid-cat/
LOCATION:Paris Room\, 7 N. Franklin Street (entrance around back)\, Chagrin Falls\, OH\, 44022\, United States
CATEGORIES:Live Music
ATTACH;FMTTYPE=image/webp:https://downtownchagrinfalls.com/wp-content/uploads/2022/11/Jazz-Monday.webp
END:VEVENT
BEGIN:VEVENT
DTSTART;TZID=America/New_York:20221111T213000
DTEND;TZID=America/New_York:20221111T213000
DTSTAMP:20260419T192904
CREATED:20221104T165455Z
LAST-MODIFIED:20221104T175857Z
UID:10001157-1668202200-1668202200@downtownchagrinfalls.com
SUMMARY:Live Music: The Retractors
DESCRIPTION:rock band comprised of health care workers which are also fabulous musicians. They will have you up and dancing
URL:https://downtownchagrinfalls.com/event/live-music-the-retractors/
LOCATION:Greenville Inn\, 7125 Pine Street\, Bainbridge\, OH\, 44022\, United States
CATEGORIES:Live Music
ATTACH;FMTTYPE=image/jpeg:https://downtownchagrinfalls.com/wp-content/uploads/2022/09/retractors.jpeg
END:VEVENT
BEGIN:VEVENT
DTSTART;TZID=America/New_York:20221112T213000
DTEND;TZID=America/New_York:20221112T213000
DTSTAMP:20260419T192904
CREATED:20221104T165456Z
LAST-MODIFIED:20221104T175654Z
UID:10001158-1668288600-1668288600@downtownchagrinfalls.com
SUMMARY:Live Music: Abby Normal & The Detroit Lean
DESCRIPTION:7 piece band complete with horn section covering almost every genre of music with there unique twist.
URL:https://downtownchagrinfalls.com/event/live-music-abby-normal-the-detroit-lean/
LOCATION:Greenville Inn\, 7125 Pine Street\, Bainbridge\, OH\, 44022\, United States
CATEGORIES:Live Music
ATTACH;FMTTYPE=image/jpeg:https://downtownchagrinfalls.com/wp-content/uploads/2022/11/abby-normal-1024x765-1.jpeg
END:VEVENT
BEGIN:VEVENT
DTSTART;TZID=America/New_York:20221114T190000
DTEND;TZID=America/New_York:20221114T190000
DTSTAMP:20260419T192904
CREATED:20221104T165512Z
LAST-MODIFIED:20221104T175538Z
UID:10001165-1668452400-1668452400@downtownchagrinfalls.com
SUMMARY:Jazz Monday: Just Jazz Trio
DESCRIPTION:
URL:https://downtownchagrinfalls.com/event/jazz-monday-just-jazz-trio/
LOCATION:Paris Room\, 7 N. Franklin Street (entrance around back)\, Chagrin Falls\, OH\, 44022\, United States
CATEGORIES:Live Music
ATTACH;FMTTYPE=image/webp:https://downtownchagrinfalls.com/wp-content/uploads/2022/11/Jazz-Monday.webp
END:VEVENT
BEGIN:VEVENT
DTSTART;TZID=America/New_York:20221118T170000
DTEND;TZID=America/New_York:20221118T220000
DTSTAMP:20260419T192904
CREATED:20221118T173013Z
LAST-MODIFIED:20221118T173013Z
UID:10001239-1668790800-1668808800@downtownchagrinfalls.com
SUMMARY:One Year Anniversary Celebration at Pub Frato
DESCRIPTION:BIG CELEBRATION THIS WEEKEND! \nCome out and celebrate with Pub Frato Chagrin Falls ONE YEAR Anniversary \nRibbon Cutting w/ the Chamber at 5pm \nLIVE MUSIC starts at 8pm \nFirst tapping of our very own Frate Train Kolsch on draft\, FREE cake\, Enter to win a $50 gift card and a Growler of our own Frate Train Kolsch \nSee you all this weekend! CHEERS
URL:https://downtownchagrinfalls.com/event/one-year-anniversary-celebration-at-pub-frato/
LOCATION:Pub Frato\, 25 Pleasant Drive\, Chagrin Falls\, OH\, 44022\, United States
CATEGORIES:Food & Drink,Live Music
ATTACH;FMTTYPE=image/png:https://downtownchagrinfalls.com/wp-content/uploads/2022/11/Thank-You-Facebook-Post-25.png
END:VEVENT
BEGIN:VEVENT
DTSTART;TZID=America/New_York:20221118T193000
DTEND;TZID=America/New_York:20221118T193000
DTSTAMP:20260419T192904
CREATED:20221104T165633Z
LAST-MODIFIED:20221104T175354Z
UID:10001170-1668799800-1668799800@downtownchagrinfalls.com
SUMMARY:Elf The Musical
DESCRIPTION:Your family will love this musical adaptation of the hit Christmas movie of the same name. “Elf” is the story of Buddy\, a human raised by Santa’s elves at the North Pole. When he travels to New York City to seek his real father\, he discovers that his childlike and joyous nature doesn’t always fit in.
URL:https://downtownchagrinfalls.com/event/elf-the-musical/
LOCATION:Chagrin Valley Little Theatre\, 40 River Street\, Chagrin Falls\, OH\, 44022\, United States
CATEGORIES:Theater
ATTACH;FMTTYPE=image/png:https://downtownchagrinfalls.com/wp-content/uploads/2022/11/Elf340.png
ORGANIZER;CN="Chagrin Valley Little Theatre":MAILTO:cvlt@cvlt.org
END:VEVENT
BEGIN:VEVENT
DTSTART;TZID=America/New_York:20221118T213000
DTEND;TZID=America/New_York:20221118T213000
DTSTAMP:20260419T192904
CREATED:20221104T165456Z
LAST-MODIFIED:20221104T175222Z
UID:10001159-1668807000-1668807000@downtownchagrinfalls.com
SUMMARY:Live Music: Big Zipper
DESCRIPTION:Great rock classic covers along with Steve’s very own hit FUNKY POODLE
URL:https://downtownchagrinfalls.com/event/live-music-big-zipper/
LOCATION:Greenville Inn\, 7125 Pine Street\, Bainbridge\, OH\, 44022\, United States
CATEGORIES:Live Music
ATTACH;FMTTYPE=image/webp:https://downtownchagrinfalls.com/wp-content/uploads/2022/11/big-zipper.webp
END:VEVENT
BEGIN:VEVENT
DTSTART;TZID=America/New_York:20221119T100000
DTEND;TZID=America/New_York:20221119T130000
DTSTAMP:20260419T192904
CREATED:20221118T014642Z
LAST-MODIFIED:20221118T014642Z
UID:10001193-1668852000-1668862800@downtownchagrinfalls.com
SUMMARY:Geauga Fresh Indoor Farmers Market
DESCRIPTION:It’s our 20th Anniversary! We are excited to celebrate the history & future of the market this season. Be sure to stay connected\, so you can see what will be happening this season. It’s going to be a celebration throughout the whole season to remember!\nStarted in 2002 the Geauga Fresh Farmers’ Market is producer-only farmers’ market operating year round in Geauga County. We strive to provide you with fresh\, local and real products made or grown by people you can actually talk to.\nThe purpose of the Geauga Fresh Market is to provide local farmers with a means to sell their produce or value added products directly to consumers\, and to afford consumers the opportunity to buy fresh\, locally grown food. A market that allows farmers to sell directly to consumers will help to support a farm economy in Geauga County. Increasing the profitability of local farms will enable more farms to continue to operate rather than to be lost to development. By promoting the preservation of farmland in Geauga County\, the rural character of the county will remain for all to enjoy.\nBy bringing the freshest Geauga County produce and locally made products to the consumer on a weekly basis the Market will encourage customers to value and understand the benefits of supporting our local agricultural economy. The market aims at educating consumers by reconnecting them with their food and where it comes from\, by providing them with higher quality\, more variety and a sense of seasonality.\nWinter Market\nEvery other Saturday 10 AM – 1 PM\nBi-weekly beginning on November 5\, 2022\n2022 dates: 11/5\, 11/19\, 12/3 & 12/17\n2023 dates: 1/14\, 1/28\, 2/11\, 2/25\, 3/11 & 3/25\nInside Lowe’s Greenhouse\n16540 Chillicothe Rd\nChagrin Falls\, OH 44023
URL:https://downtownchagrinfalls.com/event/geauga-fresh-indoor-farmers-market/2022-11-19/
LOCATION:Lowe’s Greenhouse\, 16540 Chillicothe Road\, Bainbridge\, OH\, 44023\, United States
CATEGORIES:Farmers Market
ATTACH;FMTTYPE=image/jpeg:https://downtownchagrinfalls.com/wp-content/uploads/2022/11/315836534_562379919223742_1721302036665716663_n.jpeg
ORGANIZER;CN="Geauga Fresh Farmers Market":MAILTO:geaugaffm@gmail.com
END:VEVENT
BEGIN:VEVENT
DTSTART;TZID=America/New_York:20221119T100000
DTEND;TZID=America/New_York:20221119T180000
DTSTAMP:20260419T192904
CREATED:20221118T171558Z
LAST-MODIFIED:20221118T171558Z
UID:10001236-1668852000-1668880800@downtownchagrinfalls.com
SUMMARY:Heather Moore Trunk Show
DESCRIPTION:Stop in for our Heather Moore Trunk Show this weekend. Shop for a personalized piece\, or pick up a little something extra from the grab and go selections. So many NEW items added to the collection. \nHedges Designs \n13 N. Franklin ST Chagrin Falls
URL:https://downtownchagrinfalls.com/event/heather-moore-trunk-show/
LOCATION:Hedges\, 13 N Franklin St\,\, Chagrin Falls\, OH\, 44022\, United States
CATEGORIES:Shopping
ATTACH;FMTTYPE=image/jpeg:https://downtownchagrinfalls.com/wp-content/uploads/2022/11/Truck-Show-HM.jpeg
END:VEVENT
BEGIN:VEVENT
DTSTART;TZID=America/New_York:20221119T110000
DTEND;TZID=America/New_York:20221119T140000
DTSTAMP:20260419T192904
CREATED:20221118T023820Z
LAST-MODIFIED:20221118T023820Z
UID:10001204-1668855600-1668866400@downtownchagrinfalls.com
SUMMARY:Remnants and House Global Fashion Pop-Up
DESCRIPTION:Community supporting community\, small businesses supporting small businesses and women supporting women…..\n\n\nRemnants is thrilled to announce our continued collaboration with @houseathudson\n\n\nRemnants & House\nGlobal Fashion Pop Up\nMeet the Maker\nSaturday 11-2pm
URL:https://downtownchagrinfalls.com/event/remnants-and-house-global-fashion-pop-up/
LOCATION:Remnants Bag Company\, 7 N. Franklin Street\, Chagrin Falls\, OH\, 44022\, United States
CATEGORIES:Shopping
ATTACH;FMTTYPE=image/png:https://downtownchagrinfalls.com/wp-content/uploads/2022/11/Thank-You-Facebook-Post-4.png
END:VEVENT
BEGIN:VEVENT
DTSTART;TZID=America/New_York:20221119T193000
DTEND;TZID=America/New_York:20221119T193000
DTSTAMP:20260419T192904
CREATED:20221104T165634Z
LAST-MODIFIED:20221104T175107Z
UID:10001171-1668886200-1668886200@downtownchagrinfalls.com
SUMMARY:Elf The Musical
DESCRIPTION:Your family will love this musical adaptation of the hit Christmas movie of the same name. “Elf” is the story of Buddy\, a human raised by Santa’s elves at the North Pole. When he travels to New York City to seek his real father\, he discovers that his childlike and joyous nature doesn’t always fit in.
URL:https://downtownchagrinfalls.com/event/elf-the-musical-2/
LOCATION:Chagrin Valley Little Theatre\, 40 River Street\, Chagrin Falls\, OH\, 44022\, United States
CATEGORIES:Theater
ATTACH;FMTTYPE=image/png:https://downtownchagrinfalls.com/wp-content/uploads/2022/11/Elf340.png
ORGANIZER;CN="Chagrin Valley Little Theatre":MAILTO:cvlt@cvlt.org
END:VEVENT
BEGIN:VEVENT
DTSTART;TZID=America/New_York:20221119T213000
DTEND;TZID=America/New_York:20221119T213000
DTSTAMP:20260419T192904
CREATED:20221104T165501Z
LAST-MODIFIED:20221104T174808Z
UID:10001160-1668893400-1668893400@downtownchagrinfalls.com
SUMMARY:Live Music: Ace Molar
DESCRIPTION:Fronted by local news celebrity Todd Meany\, these guys play all of your favorite hits no matter which decade you enjoy.
URL:https://downtownchagrinfalls.com/event/live-music-ace-molar/
LOCATION:Greenville Inn\, 7125 Pine Street\, Bainbridge\, OH\, 44022\, United States
CATEGORIES:Live Music
ATTACH;FMTTYPE=image/jpeg:https://downtownchagrinfalls.com/wp-content/uploads/2019/09/AceMolar_Rock_Hall-800x400.jpg
END:VEVENT
BEGIN:VEVENT
DTSTART;TZID=America/New_York:20221120T130000
DTEND;TZID=America/New_York:20221120T150000
DTSTAMP:20260419T192904
CREATED:20221118T015707Z
LAST-MODIFIED:20221118T015707Z
UID:10001196-1668949200-1668956400@downtownchagrinfalls.com
SUMMARY:Book Signing: John Kropf
DESCRIPTION:John Kropf\, author of Color Capital of the World: Growing Up with the Legacy of a Crayon Company\, will be signing his book on November 20th from 1-3 pm. \nABOUT THE BOOK\nThis is the story of the crayon. Following the Civil War\, three entrepreneurial families took their innovative ideas for school chalk from the kitchen stove and transformed them into the American Crayon Company. Color Capital of the World tells this story through the eyes of one of the founding family’s descendants\, tracing the cycle of build\, boom\, and bust. Readers will come away feeling a greater appreciation of the human story behind the crayon and the Ohio town that produced more crayons and paints than anywhere in the world. \nABOUT THE AUTHOR\nJOHN KROPF is the author of Unknown Sands: Journeys Around the World’s Most Isolated Country\, which Publishers Weekly praised as a fascinating narrative bound to hook adventurers. His writing has appeared in The Baltimore Sun\, Florida Sun-Sentinel\, The Washington Post\, and elsewhere. Kropf was born in Sandusky and raised in Erie County\, Ohio. He is an attorney in the Washington\, DC\, area.
URL:https://downtownchagrinfalls.com/event/book-signing-john-kropf/
LOCATION:Fireside Books\, 29 North Franklin Street\, Chagrin Falls\, OH\, 44022\, United States
CATEGORIES:Book signing
ATTACH;FMTTYPE=image/jpeg:https://downtownchagrinfalls.com/wp-content/uploads/2022/11/22Kropf-141medrescropm-1.jpeg
END:VEVENT
BEGIN:VEVENT
DTSTART;TZID=America/New_York:20221121T180000
DTEND;TZID=America/New_York:20221121T180000
DTSTAMP:20260419T192904
CREATED:20221118T025644Z
LAST-MODIFIED:20221118T025644Z
UID:10001207-1669053600-1669053600@downtownchagrinfalls.com
SUMMARY:Make and Take Workshop: Thanksgiving Centerpiece
DESCRIPTION:Join Lowe’s Greenhouse in collaboration with Sapphire Creek Winery for a Make and Take Workshop on creating your own centerpiece to brighten your Thanksgiving table or a friend’s day!\nThis event starts at 6pm and guests will receive $20 off their purchase of $100+ in our gift shop! Our extended hours are reserved for class attendees only allowing for an exclusive shopping experience.\nWe provide the supplies\, you leave with a fabulous floral design and (hopefully) lots of gift shop finds. Need something to get your creative juices flowing? Sapphire Creek Winery is supplying the wine!\nThis is a perfect plan for the Monday night before Thanksgiving. Grabs some friends and we’ll see you then
URL:https://downtownchagrinfalls.com/event/make-and-take-workshop-thanksgiving-centerpiece/
LOCATION:Lowe’s Greenhouse\, 16540 Chillicothe Road\, Bainbridge\, OH\, 44023\, United States
CATEGORIES:Crafts,Food & Drink,Holiday
ATTACH;FMTTYPE=image/png:https://downtownchagrinfalls.com/wp-content/uploads/2022/11/Thank-You-Facebook-Post-8.png
END:VEVENT
BEGIN:VEVENT
DTSTART;TZID=America/New_York:20221121T190000
DTEND;TZID=America/New_York:20221121T190000
DTSTAMP:20260419T192904
CREATED:20221104T165513Z
LAST-MODIFIED:20221104T174658Z
UID:10001166-1669057200-1669057200@downtownchagrinfalls.com
SUMMARY:Jazz Monday: Cabaret-style Jazz Susan McGinnis and Friends
DESCRIPTION:
URL:https://downtownchagrinfalls.com/event/jazz-monday-cabaret-style-jazz-susan-mcginnis-and-friends/
LOCATION:Paris Room\, 7 N. Franklin Street (entrance around back)\, Chagrin Falls\, OH\, 44022\, United States
CATEGORIES:Live Music
ATTACH;FMTTYPE=image/webp:https://downtownchagrinfalls.com/wp-content/uploads/2022/11/Jazz-Monday.webp
END:VEVENT
BEGIN:VEVENT
DTSTART;TZID=America/New_York:20221122T183000
DTEND;TZID=America/New_York:20221122T200000
DTSTAMP:20260419T192904
CREATED:20221118T172150Z
LAST-MODIFIED:20221118T172150Z
UID:10001237-1669141800-1669147200@downtownchagrinfalls.com
SUMMARY:Blossom's Annual Thanksgiving Centerpiece Workshop
DESCRIPTION:Join us for Blossom’s Annual Thanksgiving Centerpiece Workshop! \nWe’ll be creating a festive fall Blossom style arrangement. \nAll supplies and flowers are included in the ticket price. \nLight refreshments will be provided. \nBYOB allowed/encouraged!
URL:https://downtownchagrinfalls.com/event/blossoms-annual-thanksgiving-centerpiece-workshop/
LOCATION:Blossom Cleveland\, 37 West Orange Street\, Chagrin Falls\, 44022\, United States
CATEGORIES:Crafts,Workshop
ATTACH;FMTTYPE=image/png:https://downtownchagrinfalls.com/wp-content/uploads/2022/11/Blossom-Clevel.png
END:VEVENT
BEGIN:VEVENT
DTSTART;TZID=America/New_York:20221123T090000
DTEND;TZID=America/New_York:20221123T100000
DTSTAMP:20260419T192904
CREATED:20221118T031304Z
LAST-MODIFIED:20221118T031304Z
UID:10001208-1669194000-1669197600@downtownchagrinfalls.com
SUMMARY:Thanksgiving Art Open Studio
DESCRIPTION:Please join us as we explore art materials and thankfulness with a children’s Thanksgiving Workshop! \n\n\n𝗧𝗵𝗮𝗻𝗸𝘀𝗴𝗶𝘃𝗶𝗻𝗴 𝗔𝗿𝘁 𝗢𝗽𝗲𝗻 𝗦𝘁𝘂𝗱𝗶𝗼\n| 𝗪𝗲𝗱𝗻𝗲𝘀𝗱𝗮𝘆\, 𝟭𝟭/𝟮𝟯 𝗼𝗿 𝗦𝗮𝘁𝘂𝗿𝗱𝗮𝘆\, 𝟭𝟭/𝟮𝟲 | 𝟵-𝟭𝟬:𝟬𝟬 𝗔𝗴𝗲𝘀 𝟱-𝟳 𝗝𝗲𝘀𝘀𝗶𝗰𝗮 𝗚𝗼𝗴𝗴𝗶𝗻𝘀 |\n\n\n\nWe will have the option to create a thanksgiving themed art piece while also having time to explore our individual creativity and self-expression through art. This class will also highlight social skills and togetherness as we work to make friends while making art! We will have a wide variety of multi-sensory art materials available to enjoy!
URL:https://downtownchagrinfalls.com/event/thanksgiving-art-open-studio/2022-11-23/
LOCATION:Valley Art Center\, 155 Bell Street\, Chagrin Falls\, OH\, 44022\, United States
CATEGORIES:Art,Children
ATTACH;FMTTYPE=image/png:https://downtownchagrinfalls.com/wp-content/uploads/2022/11/Thank-You-Facebook-Post-10.png
END:VEVENT
BEGIN:VEVENT
DTSTART;TZID=America/New_York:20221123T090000
DTEND;TZID=America/New_York:20221123T103000
DTSTAMP:20260419T192904
CREATED:20221118T151015Z
LAST-MODIFIED:20221118T151015Z
UID:10001226-1669194000-1669199400@downtownchagrinfalls.com
SUMMARY:Bird Walk
DESCRIPTION:A great opportunity for birders of all skill levels to enjoy the fields and forests along the Chagrin River. Led by Marty Calabrese. Email northchagrinnc@clevelandmetroparks.com with questions. No registration required
URL:https://downtownchagrinfalls.com/event/bird-walk/
LOCATION:Jackson Field\, South Chagrin Reservation
CATEGORIES:Fitness,Outdoor
ATTACH;FMTTYPE=image/jpeg:https://downtownchagrinfalls.com/wp-content/uploads/2022/11/0519_oriole.jpeg
END:VEVENT
BEGIN:VEVENT
DTSTART;TZID=America/New_York:20221123T101500
DTEND;TZID=America/New_York:20221123T111500
DTSTAMP:20260419T192904
CREATED:20221118T031533Z
LAST-MODIFIED:20221118T031533Z
UID:10001212-1669198500-1669202100@downtownchagrinfalls.com
SUMMARY:Thanksgiving Art Open Studio
DESCRIPTION:Please join us as we explore art materials and thankfulness with a children’s Thanksgiving Workshop! \n\n\n𝗧𝗵𝗮𝗻𝗸𝘀𝗴𝗶𝘃𝗶𝗻𝗴 𝗔𝗿𝘁 𝗢𝗽𝗲𝗻 𝗦𝘁𝘂𝗱𝗶𝗼\n| 𝗪𝗲𝗱𝗻𝗲𝘀𝗱𝗮𝘆\, 𝟭𝟭/𝟮𝟯 𝗼𝗿 𝗦𝗮𝘁𝘂𝗿𝗱𝗮𝘆\, 𝟭𝟭/𝟮𝟲 | 𝟭𝟬:𝟭𝟱-𝟭𝟭:𝟭𝟱 𝗔𝗴𝗲𝘀 𝟴-𝟭𝟬𝗝𝗲𝘀𝘀𝗶𝗰𝗮 𝗚𝗼𝗴𝗴𝗶𝗻𝘀 |\n\n\n\nWe will have the option to create a thanksgiving themed art piece while also having time to explore our individual creativity and self-expression through art. This class will also highlight social skills and togetherness as we work to make friends while making art! We will have a wide variety of multi-sensory art materials available to enjoy!
URL:https://downtownchagrinfalls.com/event/thanksgiving-art-open-studio-2/2022-11-23/
LOCATION:Valley Art Center\, 155 Bell Street\, Chagrin Falls\, OH\, 44022\, United States
CATEGORIES:Art,Children
ATTACH;FMTTYPE=image/png:https://downtownchagrinfalls.com/wp-content/uploads/2022/11/Thank-You-Facebook-Post-10.png
END:VEVENT
BEGIN:VEVENT
DTSTART;TZID=America/New_York:20221123T213000
DTEND;TZID=America/New_York:20221123T213000
DTSTAMP:20260419T192904
CREATED:20221104T165502Z
LAST-MODIFIED:20221104T174545Z
UID:10001161-1669239000-1669239000@downtownchagrinfalls.com
SUMMARY:Live Music: Where's Jimmy
DESCRIPTION:
URL:https://downtownchagrinfalls.com/event/live-music-wheres-jimmy/
LOCATION:Greenville Inn\, 7125 Pine Street\, Bainbridge\, OH\, 44022\, United States
CATEGORIES:Live Music
ATTACH;FMTTYPE=image/jpeg:https://downtownchagrinfalls.com/wp-content/uploads/2022/10/287763883_444529234343799_7275298043596671178_n.jpeg
END:VEVENT
BEGIN:VEVENT
DTSTART;TZID=America/New_York:20221124T090000
DTEND;TZID=America/New_York:20221124T110000
DTSTAMP:20260419T192904
CREATED:20221118T005733Z
LAST-MODIFIED:20221118T005733Z
UID:10001184-1669280400-1669287600@downtownchagrinfalls.com
SUMMARY:2022 Chagrin Boosters 5K Turkey Trot
DESCRIPTION:CALLING all Turkeys: TIME to RUN!\n\n2022 Chagrin Boosters 5K Turkey Trot\nThursday\, November 24\, 2022 @ Chagrin Falls High School 400 E Washington St Chagrin Falls\, OH US 44022 @ 9:00 AM\nRegistration ends November 21\, 2022
URL:https://downtownchagrinfalls.com/event/2022-chagrin-boosters-5k-turkey-trot/
LOCATION:Chagrin Falls High School\, 400 E. Washington Street\, Chagrin Falls\, OH\, 44022\, United States
CATEGORIES:Fitness,Fundraiser,Outdoor
ATTACH;FMTTYPE=image/jpeg:https://downtownchagrinfalls.com/wp-content/uploads/2022/11/raceBanner-gBhuwGhe-bFvKTE.jpeg
ORGANIZER;CN="Chagrin Falls Booster Club":MAILTO:nfo@cfboosterclub.org
END:VEVENT
BEGIN:VEVENT
DTSTART;TZID=America/New_York:20221125T163000
DTEND;TZID=America/New_York:20221125T180000
DTSTAMP:20260419T192904
CREATED:20221118T022414Z
LAST-MODIFIED:20221118T022414Z
UID:10001201-1669393800-1669399200@downtownchagrinfalls.com
SUMMARY:BHHS Professional Realty Christmas Tree Lighting Open House
DESCRIPTION:Please join us to say hello and have some light hors d’oeuvres before the Chagrin Falls Parade and Christmas Tree Lighting festivities start in Triangle Park at 6pm.
URL:https://downtownchagrinfalls.com/event/bhhs-professional-realty-christmas-tree-lighting-open-house/
LOCATION:Berkshire Hathaway Home Services\, 25 S. Franklin Street\, Chagrin Falls\, OH\, 44022\, United States
CATEGORIES:Holiday,Open House
ATTACH;FMTTYPE=image/jpeg:https://downtownchagrinfalls.com/wp-content/uploads/2022/11/315898142_10225100370790937_3013051774563361827_n.jpeg
END:VEVENT
BEGIN:VEVENT
DTSTART;TZID=America/New_York:20221125T180000
DTEND;TZID=America/New_York:20221125T190000
DTSTAMP:20260419T192904
CREATED:20221118T033132Z
LAST-MODIFIED:20221118T033132Z
UID:10001217-1669399200-1669402800@downtownchagrinfalls.com
SUMMARY:Santa's Parade
DESCRIPTION:
URL:https://downtownchagrinfalls.com/event/santas-parade/
LOCATION:Chagrin Falls\, Chagrin Falls\, OH\, 44022\, United States
CATEGORIES:Children,Community,Holiday,Just Fun,Outdoor
ATTACH;FMTTYPE=image/png:https://downtownchagrinfalls.com/wp-content/uploads/2022/11/Thank-You-Facebook-Post-13.png
ORGANIZER;CN="Chagrin Valley Jaycees":MAILTO:info@cvjc.org
END:VEVENT
BEGIN:VEVENT
DTSTART;TZID=America/New_York:20221125T183000
DTEND;TZID=America/New_York:20221125T200000
DTSTAMP:20260419T192904
CREATED:20221118T172514Z
LAST-MODIFIED:20221118T172514Z
UID:10001238-1669401000-1669406400@downtownchagrinfalls.com
SUMMARY:Holiday Art Gift Shoppe on Main  - Opening for Season
DESCRIPTION:Chagrin Arts presents Holiday Arts Gift shoppe on Main \nOpen following the Chagrin Falls Tree Lighting Ceremony until December 23rd \nHoliday Hours \nM\, W\, F 12p-4p
URL:https://downtownchagrinfalls.com/event/holiday-art-gift-shoppe-on-main-opening-for-season/
LOCATION:Chagrin Arts\, 88 N. Main Street\, Chagrin Falls\, OH\, 44022\, United States
CATEGORIES:Shopping
ATTACH;FMTTYPE=image/png:https://downtownchagrinfalls.com/wp-content/uploads/2022/11/Thank-You-Facebook-Post-24.png
END:VEVENT
BEGIN:VEVENT
DTSTART;TZID=America/New_York:20221125T183000
DTEND;TZID=America/New_York:20221125T203000
DTSTAMP:20260419T192904
CREATED:20221118T022906Z
LAST-MODIFIED:20221118T022906Z
UID:10001202-1669401000-1669408200@downtownchagrinfalls.com
SUMMARY:United Methodist Tree Lighting Open House
DESCRIPTION:Warm up during the Tree Lighting ceremony!  Hot chocolate\, snacks and restrooms at Harris Fellowship Hall.
URL:https://downtownchagrinfalls.com/event/united-methodist-tree-lighting-open-house/
LOCATION:United Methodist Church of Chagrin Falls\, 20 S. Franklin Street\, Chagrin Falls\, OH\, 44022\, United States
CATEGORIES:Holiday,Open House
ATTACH;FMTTYPE=image/png:https://downtownchagrinfalls.com/wp-content/uploads/2022/11/Thank-You-Facebook-Post-2.png
END:VEVENT
BEGIN:VEVENT
DTSTART;TZID=America/New_York:20221125T190000
DTEND;TZID=America/New_York:20221125T203000
DTSTAMP:20260419T192904
CREATED:20221118T013929Z
LAST-MODIFIED:20221118T040332Z
UID:10001192-1669402800-1669408200@downtownchagrinfalls.com
SUMMARY:The Lighting of the Greens
DESCRIPTION:The traditional Lighting of the Greens will be happening this year! Join us as we kick off the Holiday season!\nSanta’s parade starts promptly at 6pm\nThe lighting of the Greens will be at 7pm\nPlease keep an eye on the CV Jaycees’ Facebook page for more details.\nWe hope to see you there!
URL:https://downtownchagrinfalls.com/event/tree-lighting-ceremony/
LOCATION:Triangle Park\, Chagrin Falls\, OH\, 44022\, United States
CATEGORIES:Community,Holiday,Outdoor
ATTACH;FMTTYPE=image/png:https://downtownchagrinfalls.com/wp-content/uploads/2022/11/Thank-You-Facebook-Post-15.png
ORGANIZER;CN="Chagrin Valley Jaycees":MAILTO:info@cvjc.org
END:VEVENT
BEGIN:VEVENT
DTSTART;TZID=America/New_York:20221125T193000
DTEND;TZID=America/New_York:20221125T193000
DTSTAMP:20260419T192904
CREATED:20221104T165634Z
LAST-MODIFIED:20221104T174412Z
UID:10001172-1669404600-1669404600@downtownchagrinfalls.com
SUMMARY:Elf The Musical
DESCRIPTION:Your family will love this musical adaptation of the hit Christmas movie of the same name. “Elf” is the story of Buddy\, a human raised by Santa’s elves at the North Pole. When he travels to New York City to seek his real father\, he discovers that his childlike and joyous nature doesn’t always fit in.
URL:https://downtownchagrinfalls.com/event/elf-the-musical-3/
LOCATION:Chagrin Valley Little Theatre\, 40 River Street\, Chagrin Falls\, OH\, 44022\, United States
CATEGORIES:Theater
ATTACH;FMTTYPE=image/png:https://downtownchagrinfalls.com/wp-content/uploads/2022/11/Elf340.png
ORGANIZER;CN="Chagrin Valley Little Theatre":MAILTO:cvlt@cvlt.org
END:VEVENT
BEGIN:VEVENT
DTSTART;TZID=America/New_York:20221125T213000
DTEND;TZID=America/New_York:20221125T213000
DTSTAMP:20260419T192904
CREATED:20221104T165502Z
LAST-MODIFIED:20221104T174943Z
UID:10001162-1669411800-1669411800@downtownchagrinfalls.com
SUMMARY:Live Music: Stages
DESCRIPTION:Rock Cover Band
URL:https://downtownchagrinfalls.com/event/live-music-stages/
LOCATION:Greenville Inn\, 7125 Pine Street\, Bainbridge\, OH\, 44022\, United States
CATEGORIES:Live Music
ATTACH;FMTTYPE=image/jpeg:https://downtownchagrinfalls.com/wp-content/uploads/2022/11/StageS-663x1024-1.jpeg
END:VEVENT
END:VCALENDAR