BEGIN:VCALENDAR
VERSION:2.0
PRODID:-//Downtown Chagrin Falls - ECPv6.15.13.1//NONSGML v1.0//EN
CALSCALE:GREGORIAN
METHOD:PUBLISH
X-ORIGINAL-URL:https://downtownchagrinfalls.com
X-WR-CALDESC:Events for Downtown Chagrin Falls
REFRESH-INTERVAL;VALUE=DURATION:PT1H
X-Robots-Tag:noindex
X-PUBLISHED-TTL:PT1H
BEGIN:VTIMEZONE
TZID:America/New_York
BEGIN:DAYLIGHT
TZOFFSETFROM:-0500
TZOFFSETTO:-0400
TZNAME:EDT
DTSTART:20240310T070000
END:DAYLIGHT
BEGIN:STANDARD
TZOFFSETFROM:-0400
TZOFFSETTO:-0500
TZNAME:EST
DTSTART:20241103T060000
END:STANDARD
BEGIN:DAYLIGHT
TZOFFSETFROM:-0500
TZOFFSETTO:-0400
TZNAME:EDT
DTSTART:20250309T070000
END:DAYLIGHT
BEGIN:STANDARD
TZOFFSETFROM:-0400
TZOFFSETTO:-0500
TZNAME:EST
DTSTART:20251102T060000
END:STANDARD
BEGIN:DAYLIGHT
TZOFFSETFROM:-0500
TZOFFSETTO:-0400
TZNAME:EDT
DTSTART:20260308T070000
END:DAYLIGHT
BEGIN:STANDARD
TZOFFSETFROM:-0400
TZOFFSETTO:-0500
TZNAME:EST
DTSTART:20261101T060000
END:STANDARD
END:VTIMEZONE
BEGIN:VEVENT
DTSTART;TZID=America/New_York:20251223T160000
DTEND;TZID=America/New_York:20251223T180000
DTSTAMP:20260420T022301
CREATED:20251121T175854Z
LAST-MODIFIED:20251121T175854Z
UID:10002906-1766505600-1766512800@downtownchagrinfalls.com
SUMMARY:Holiday Wine Tasting
DESCRIPTION:Join us in the Wine Department at Heinen’s Chagrin Falls as we welcome a representative from our partner Southern Glazers Wine & Spirits for a tasting of a variety of delicious wines perfect for pairing with a holiday feast! \nNo entrance fee required. | Questions? Please contact Heinen’s Chagrin Falls at (440) 424-5108.
URL:https://downtownchagrinfalls.com/event/holiday-wine-tasting-2/
LOCATION:Heinen’s\, 20 Shopping Plaza\, Chagrin Falls\, OH\, 44022\, United States
CATEGORIES:Food & Drink,Wine Tasting
ATTACH;FMTTYPE=image/png:https://downtownchagrinfalls.com/wp-content/uploads/2025/11/Holiday-Wine-Showcase_800x550.png
END:VEVENT
BEGIN:VEVENT
DTSTART;TZID=America/New_York:20251223T190000
DTEND;TZID=America/New_York:20251223T203000
DTSTAMP:20260420T022301
CREATED:20251114T141015Z
LAST-MODIFIED:20251114T141015Z
UID:10002884-1766516400-1766521800@downtownchagrinfalls.com
SUMMARY:Annual Holiday Wassail Concert
DESCRIPTION:It’s a Chagrin Falls holiday tradition! \nExperience the warmth and joy of the holiday season with the Chagrin Falls Studio Orchestra’s annual Wassail Christmas Concert. Under the masterful direction of maestro Stephen A. Eva\, this beloved community tradition brings together festive music and seasonal cheer here in historic Chagrin Falls. \nBring the whole family to this delightful celebration where the spirit of Christmas comes alive through timeless melodies and sing-along favorites. The intimate setting of the Chagrin Valley Little Theatre provides the perfect backdrop for this magical musical experience with the 40-piece orchestra on stage. \nCreate cherished holiday memories at this family-friendly event that captures the essence of the season!
URL:https://downtownchagrinfalls.com/event/annual-holiday-wassail-concert/2025-12-23/
LOCATION:Chagrin Valley Little Theatre\, 40 River Street\, Chagrin Falls\, OH\, 44022\, United States
CATEGORIES:Holiday,Live Music
ATTACH;FMTTYPE=image/jpeg:https://downtownchagrinfalls.com/wp-content/uploads/2025/11/CFSO-Wassail-Landscape.jpg
END:VEVENT
END:VCALENDAR