BEGIN:VCALENDAR
VERSION:2.0
PRODID:-//Downtown Chagrin Falls - ECPv6.15.13.1//NONSGML v1.0//EN
CALSCALE:GREGORIAN
METHOD:PUBLISH
X-ORIGINAL-URL:https://downtownchagrinfalls.com
X-WR-CALDESC:Events for Downtown Chagrin Falls
REFRESH-INTERVAL;VALUE=DURATION:PT1H
X-Robots-Tag:noindex
X-PUBLISHED-TTL:PT1H
BEGIN:VTIMEZONE
TZID:America/New_York
BEGIN:DAYLIGHT
TZOFFSETFROM:-0500
TZOFFSETTO:-0400
TZNAME:EDT
DTSTART:20220313T070000
END:DAYLIGHT
BEGIN:STANDARD
TZOFFSETFROM:-0400
TZOFFSETTO:-0500
TZNAME:EST
DTSTART:20221106T060000
END:STANDARD
BEGIN:DAYLIGHT
TZOFFSETFROM:-0500
TZOFFSETTO:-0400
TZNAME:EDT
DTSTART:20230312T070000
END:DAYLIGHT
BEGIN:STANDARD
TZOFFSETFROM:-0400
TZOFFSETTO:-0500
TZNAME:EST
DTSTART:20231105T060000
END:STANDARD
BEGIN:DAYLIGHT
TZOFFSETFROM:-0500
TZOFFSETTO:-0400
TZNAME:EDT
DTSTART:20240310T070000
END:DAYLIGHT
BEGIN:STANDARD
TZOFFSETFROM:-0400
TZOFFSETTO:-0500
TZNAME:EST
DTSTART:20241103T060000
END:STANDARD
END:VTIMEZONE
BEGIN:VEVENT
DTSTART;TZID=America/New_York:20231119T110000
DTEND;TZID=America/New_York:20231120T170000
DTSTAMP:20260419T131957
CREATED:20231018T201314Z
LAST-MODIFIED:20231018T201314Z
UID:10001405-1700391600-1700499600@downtownchagrinfalls.com
SUMMARY:Holiday Market at Chagrin Valley Farms
DESCRIPTION:Chagrin Valley Farms is excited to invite you to join us November 18th and 19th from 11am to 5pm for our First Annual INDOOR Holiday Market!\nWe will have vendors\, a bake sale\, food trucks\, live music\, a kids corner (games and crafts!)\, a hot chocolate bar\, pony rides\, raffles\, and horse drawn carriage rides!\nWe have something for all\, so bring the family and come have a ball!\n FREE entry! \n Tickets available for purchase for activities and pony/carriage rides!\nWe are also doing a can drive so that we are able to donate to a local food bank before the holidays!
URL:https://downtownchagrinfalls.com/event/holiday-market-at-chagrin-valley-farms/2023-11-19/
LOCATION:Chagrin Valley Farms\, 9250 Washington Street\, Chagrin Falls\, OH\, 44022\, United States
CATEGORIES:Crafts,Fundraiser,Holiday,Market
ATTACH;FMTTYPE=image/png:https://downtownchagrinfalls.com/wp-content/uploads/2023/10/Untitled-design-57.png
END:VEVENT
BEGIN:VEVENT
DTSTART;TZID=America/New_York:20231118T110000
DTEND;TZID=America/New_York:20231119T170000
DTSTAMP:20260419T131957
CREATED:20231018T201314Z
LAST-MODIFIED:20231018T201314Z
UID:10001404-1700305200-1700413200@downtownchagrinfalls.com
SUMMARY:Holiday Market at Chagrin Valley Farms
DESCRIPTION:Chagrin Valley Farms is excited to invite you to join us November 18th and 19th from 11am to 5pm for our First Annual INDOOR Holiday Market!\nWe will have vendors\, a bake sale\, food trucks\, live music\, a kids corner (games and crafts!)\, a hot chocolate bar\, pony rides\, raffles\, and horse drawn carriage rides!\nWe have something for all\, so bring the family and come have a ball!\n FREE entry! \n Tickets available for purchase for activities and pony/carriage rides!\nWe are also doing a can drive so that we are able to donate to a local food bank before the holidays!
URL:https://downtownchagrinfalls.com/event/holiday-market-at-chagrin-valley-farms/2023-11-18/
LOCATION:Chagrin Valley Farms\, 9250 Washington Street\, Chagrin Falls\, OH\, 44022\, United States
CATEGORIES:Crafts,Fundraiser,Holiday,Market
ATTACH;FMTTYPE=image/png:https://downtownchagrinfalls.com/wp-content/uploads/2023/10/Untitled-design-57.png
END:VEVENT
END:VCALENDAR