BEGIN:VCALENDAR
VERSION:2.0
PRODID:-//Downtown Chagrin Falls - ECPv6.15.13.1//NONSGML v1.0//EN
CALSCALE:GREGORIAN
METHOD:PUBLISH
X-ORIGINAL-URL:https://downtownchagrinfalls.com
X-WR-CALDESC:Events for Downtown Chagrin Falls
REFRESH-INTERVAL;VALUE=DURATION:PT1H
X-Robots-Tag:noindex
X-PUBLISHED-TTL:PT1H
BEGIN:VTIMEZONE
TZID:America/New_York
BEGIN:DAYLIGHT
TZOFFSETFROM:-0500
TZOFFSETTO:-0400
TZNAME:EDT
DTSTART:20240310T070000
END:DAYLIGHT
BEGIN:STANDARD
TZOFFSETFROM:-0400
TZOFFSETTO:-0500
TZNAME:EST
DTSTART:20241103T060000
END:STANDARD
BEGIN:DAYLIGHT
TZOFFSETFROM:-0500
TZOFFSETTO:-0400
TZNAME:EDT
DTSTART:20250309T070000
END:DAYLIGHT
BEGIN:STANDARD
TZOFFSETFROM:-0400
TZOFFSETTO:-0500
TZNAME:EST
DTSTART:20251102T060000
END:STANDARD
BEGIN:DAYLIGHT
TZOFFSETFROM:-0500
TZOFFSETTO:-0400
TZNAME:EDT
DTSTART:20260308T070000
END:DAYLIGHT
BEGIN:STANDARD
TZOFFSETFROM:-0400
TZOFFSETTO:-0500
TZNAME:EST
DTSTART:20261101T060000
END:STANDARD
END:VTIMEZONE
BEGIN:VEVENT
DTSTART;TZID=America/New_York:20251120T180000
DTEND;TZID=America/New_York:20251120T210000
DTSTAMP:20260420T235113
CREATED:20251009T203842Z
LAST-MODIFIED:20251009T203842Z
UID:10002843-1763661600-1763672400@downtownchagrinfalls.com
SUMMARY:Ladies Night Out
DESCRIPTION:It’s that time of year again…our annual Ladies Night Out is back! Join us on Thursday\, November 20th from 6–9 PM at Tanglewood Golf Club for an evening filled with yummy treats\, shopping\, friendship and lots more. \n\n\nThis beloved annual event is one you don’t want to miss all while supporting the CFHS 2026 After Prom. Mark your calendars and stay tuned for more details about vendors\, raffles\, and surprises!
URL:https://downtownchagrinfalls.com/event/ladies-night-out/
LOCATION:Tanglewood Country Club\, 8745 Tanglewood Trail\, Bainbridge\, OH\, 44023\, United States
CATEGORIES:Food & Drink,Fundraiser,Shopping
ATTACH;FMTTYPE=image/jpeg:https://downtownchagrinfalls.com/wp-content/uploads/2025/10/Chasing-Clues-2025-35.jpg
END:VEVENT
BEGIN:VEVENT
DTSTART;TZID=America/New_York:20251122T140000
DTEND;TZID=America/New_York:20251122T170000
DTSTAMP:20260420T235113
CREATED:20251024T145939Z
LAST-MODIFIED:20251024T145939Z
UID:10002856-1763820000-1763830800@downtownchagrinfalls.com
SUMMARY:Chagrin History Fall Family Day
DESCRIPTION:Join us for our first Fall Family Day on Saturday November 22nd from 2-5pm! Enjoy an afternoon of festive activities for kids\, including story times\, and seasonal beer and spiked cider for adults!\nTickets are $15 for members (family up to 4)\, $25 for non-members (family up to 4)\, and $10 for additional people. Purchase tickets at https://www.chagrinhistorical.org/fall-family-day/Email director@chagrinhistory.org with questions. This event is sponsored by Pine Street Residential
URL:https://downtownchagrinfalls.com/event/chagrin-history-fall-family-day/
LOCATION:Chagrin History Center\, 87 E. Washington Street\, Chagrin Falls\, OH\, 44022\, United States
CATEGORIES:Children,Food & Drink,Just Fun
ATTACH;FMTTYPE=image/jpeg:https://downtownchagrinfalls.com/wp-content/uploads/2025/10/Chasing-Clues-2025-61.jpg
END:VEVENT
END:VCALENDAR