BEGIN:VCALENDAR
VERSION:2.0
PRODID:-//Downtown Chagrin Falls - ECPv6.15.13.1//NONSGML v1.0//EN
CALSCALE:GREGORIAN
METHOD:PUBLISH
X-ORIGINAL-URL:https://downtownchagrinfalls.com
X-WR-CALDESC:Events for Downtown Chagrin Falls
REFRESH-INTERVAL;VALUE=DURATION:PT1H
X-Robots-Tag:noindex
X-PUBLISHED-TTL:PT1H
BEGIN:VTIMEZONE
TZID:America/New_York
BEGIN:DAYLIGHT
TZOFFSETFROM:-0500
TZOFFSETTO:-0400
TZNAME:EDT
DTSTART:20240310T070000
END:DAYLIGHT
BEGIN:STANDARD
TZOFFSETFROM:-0400
TZOFFSETTO:-0500
TZNAME:EST
DTSTART:20241103T060000
END:STANDARD
BEGIN:DAYLIGHT
TZOFFSETFROM:-0500
TZOFFSETTO:-0400
TZNAME:EDT
DTSTART:20250309T070000
END:DAYLIGHT
BEGIN:STANDARD
TZOFFSETFROM:-0400
TZOFFSETTO:-0500
TZNAME:EST
DTSTART:20251102T060000
END:STANDARD
BEGIN:DAYLIGHT
TZOFFSETFROM:-0500
TZOFFSETTO:-0400
TZNAME:EDT
DTSTART:20260308T070000
END:DAYLIGHT
BEGIN:STANDARD
TZOFFSETFROM:-0400
TZOFFSETTO:-0500
TZNAME:EST
DTSTART:20261101T060000
END:STANDARD
END:VTIMEZONE
BEGIN:VEVENT
DTSTART;TZID=America/New_York:20251112T180000
DTEND;TZID=America/New_York:20251112T180000
DTSTAMP:20260420T073657
CREATED:20251024T153400Z
LAST-MODIFIED:20251024T153400Z
UID:10002861-1762970400-1762970400@downtownchagrinfalls.com
SUMMARY:JoJo's Bar Bourbon Night
DESCRIPTION:
URL:https://downtownchagrinfalls.com/event/jojos-bar-bourbon-night/
LOCATION:JoJo’s Bar\, 87 West Street\, Chagrin Falls\, OH\, 44022\, United States
CATEGORIES:Food & Drink
ATTACH;FMTTYPE=image/jpeg:https://downtownchagrinfalls.com/wp-content/uploads/2025/10/Chasing-Clues-2025-64.jpg
END:VEVENT
BEGIN:VEVENT
DTSTART;TZID=America/New_York:20251120T180000
DTEND;TZID=America/New_York:20251120T210000
DTSTAMP:20260420T073657
CREATED:20251009T203842Z
LAST-MODIFIED:20251009T203842Z
UID:10002843-1763661600-1763672400@downtownchagrinfalls.com
SUMMARY:Ladies Night Out
DESCRIPTION:It’s that time of year again…our annual Ladies Night Out is back! Join us on Thursday\, November 20th from 6–9 PM at Tanglewood Golf Club for an evening filled with yummy treats\, shopping\, friendship and lots more. \n\n\nThis beloved annual event is one you don’t want to miss all while supporting the CFHS 2026 After Prom. Mark your calendars and stay tuned for more details about vendors\, raffles\, and surprises!
URL:https://downtownchagrinfalls.com/event/ladies-night-out/
LOCATION:Tanglewood Country Club\, 8745 Tanglewood Trail\, Bainbridge\, OH\, 44023\, United States
CATEGORIES:Food & Drink,Fundraiser,Shopping
ATTACH;FMTTYPE=image/jpeg:https://downtownchagrinfalls.com/wp-content/uploads/2025/10/Chasing-Clues-2025-35.jpg
END:VEVENT
BEGIN:VEVENT
DTSTART;TZID=America/New_York:20251122T140000
DTEND;TZID=America/New_York:20251122T170000
DTSTAMP:20260420T073657
CREATED:20251024T145939Z
LAST-MODIFIED:20251024T145939Z
UID:10002856-1763820000-1763830800@downtownchagrinfalls.com
SUMMARY:Chagrin History Fall Family Day
DESCRIPTION:Join us for our first Fall Family Day on Saturday November 22nd from 2-5pm! Enjoy an afternoon of festive activities for kids\, including story times\, and seasonal beer and spiked cider for adults!\nTickets are $15 for members (family up to 4)\, $25 for non-members (family up to 4)\, and $10 for additional people. Purchase tickets at https://www.chagrinhistorical.org/fall-family-day/Email director@chagrinhistory.org with questions. This event is sponsored by Pine Street Residential
URL:https://downtownchagrinfalls.com/event/chagrin-history-fall-family-day/
LOCATION:Chagrin History Center\, 87 E. Washington Street\, Chagrin Falls\, OH\, 44022\, United States
CATEGORIES:Children,Food & Drink,Just Fun
ATTACH;FMTTYPE=image/jpeg:https://downtownchagrinfalls.com/wp-content/uploads/2025/10/Chasing-Clues-2025-61.jpg
END:VEVENT
BEGIN:VEVENT
DTSTART;TZID=America/New_York:20251207T110000
DTEND;TZID=America/New_York:20251207T130000
DTSTAMP:20260420T073657
CREATED:20251121T174621Z
LAST-MODIFIED:20251121T174621Z
UID:10002901-1765105200-1765112400@downtownchagrinfalls.com
SUMMARY:Hartzler Eggnog Tasting
DESCRIPTION:Join us in the Wine and Beer Department at Heinen’s Chagrin Falls as we taste the beloved original and boozy eggnogs from Ohio’s own Hartzler Family Dairy! \nNo entrance fee required. | Questions? Please contact Heinen’s Chagrin Falls at (440) 424-5108.
URL:https://downtownchagrinfalls.com/event/hartzler-eggnog-tasting/
LOCATION:Heinen’s\, 20 Shopping Plaza\, Chagrin Falls\, OH\, 44022\, United States
CATEGORIES:Eggnog Tasting,Food & Drink
ATTACH;FMTTYPE=image/png:https://downtownchagrinfalls.com/wp-content/uploads/2025/11/Hartzler-Eggnog_800x550.png
END:VEVENT
BEGIN:VEVENT
DTSTART;TZID=America/New_York:20251210T100000
DTEND;TZID=America/New_York:20251210T130000
DTSTAMP:20260420T073657
CREATED:20251121T175047Z
LAST-MODIFIED:20251121T175047Z
UID:10002902-1765360800-1765371600@downtownchagrinfalls.com
SUMMARY:Bainbridge Heinen's Knife Sharpening
DESCRIPTION:Don’t let your kitchen\, garden and salon tools go dull. Bring them to Heinen’s Bainbridge for a professional sharpening by Kevin Noon. \nKevin uses a variety of sharpening methods to safely sharpen knives\, serrated knives\, scissors\, pinking shears\, gardening tools\, salon tools and more! \nNo appointment necessary. \nClick here for additional information and pricing.
URL:https://downtownchagrinfalls.com/event/bainbridge-heinens-knife-sharpening/
LOCATION:Bainbridge Heinen’s\, 8482 East Washington Street\, Chagrin Falls\, OH\, 44023\, United States
CATEGORIES:Food & Drink,Special
ATTACH;FMTTYPE=image/jpeg:https://downtownchagrinfalls.com/wp-content/uploads/2025/11/Knife-sharpening.jpg
END:VEVENT
BEGIN:VEVENT
DTSTART;TZID=America/New_York:20251214T110000
DTEND;TZID=America/New_York:20251214T130000
DTSTAMP:20260420T073657
CREATED:20251121T175255Z
LAST-MODIFIED:20251121T175255Z
UID:10002903-1765710000-1765717200@downtownchagrinfalls.com
SUMMARY:Holiday Breakfast Tasting
DESCRIPTION:Get inspired to serve the ultimate holiday breakfast during this casual and festive tasting in the Wine and Beer Department at Heinen’s Chagrin Falls featuring our favorite seasonal breakfast foods and mimosas! \nNo entrance fee required. | Questions? Please contact Heinen’s Chagrin Falls at (440) 424-5108.
URL:https://downtownchagrinfalls.com/event/holiday-breakfast-tasting/
LOCATION:Heinen’s\, 20 Shopping Plaza\, Chagrin Falls\, OH\, 44022\, United States
CATEGORIES:Food & Drink
ATTACH;FMTTYPE=image/png:https://downtownchagrinfalls.com/wp-content/uploads/2025/11/Winter-Mimosas_800x550.png
END:VEVENT
BEGIN:VEVENT
DTSTART;TZID=America/New_York:20251220T150000
DTEND;TZID=America/New_York:20251220T170000
DTSTAMP:20260420T073657
CREATED:20251121T175437Z
LAST-MODIFIED:20251121T175437Z
UID:10002904-1766242800-1766250000@downtownchagrinfalls.com
SUMMARY:Holiday Wine Tasting
DESCRIPTION:Join us in the Wine Department at Heinen’s Chagrin Falls as we welcome a representative from our partner Vintage Wine Distributors for a tasting of delicious wines that pair beautifully with classic holiday foods! \nNo entrance fee required. | Questions? Please contact Heinen’s Chagrin Falls at (440) 424-5108.
URL:https://downtownchagrinfalls.com/event/holiday-wine-tasting/
LOCATION:Heinen’s\, 20 Shopping Plaza\, Chagrin Falls\, OH\, 44022\, United States
CATEGORIES:Food & Drink,Wine Tasting
ATTACH;FMTTYPE=image/png:https://downtownchagrinfalls.com/wp-content/uploads/2025/11/Duckhorn-Vineyards-Wine-Tasting_800x550.png
END:VEVENT
BEGIN:VEVENT
DTSTART;TZID=America/New_York:20251221T110000
DTEND;TZID=America/New_York:20251221T130000
DTSTAMP:20260420T073657
CREATED:20251121T175710Z
LAST-MODIFIED:20251121T175710Z
UID:10002905-1766314800-1766322000@downtownchagrinfalls.com
SUMMARY:Christmas Ale Brats and Brews Tasting with Great Lakes Brewing Company
DESCRIPTION:Join us in the Beer Department at Heinen’s Chagrin Falls as we sample the classic Christmas Ale from Great Lakes Brewing Company alongside our exclusive Great Lakes Christmas Ale Beer Brats! \nNo entrance fee required. | Questions? Please contact Heinen’s Chagrin Falls at (440) 424-5108.
URL:https://downtownchagrinfalls.com/event/christmas-ale-brats-and-brews-tasting-with-great-lakes-brewing-company/
LOCATION:Heinen’s\, 20 Shopping Plaza\, Chagrin Falls\, OH\, 44022\, United States
CATEGORIES:Beer Tasting,Food & Drink
ATTACH;FMTTYPE=image/png:https://downtownchagrinfalls.com/wp-content/uploads/2025/11/Great-Lakes-Christmas-Ale-Beer-Brats_800x550.png
END:VEVENT
BEGIN:VEVENT
DTSTART;TZID=America/New_York:20251223T160000
DTEND;TZID=America/New_York:20251223T180000
DTSTAMP:20260420T073657
CREATED:20251121T175854Z
LAST-MODIFIED:20251121T175854Z
UID:10002906-1766505600-1766512800@downtownchagrinfalls.com
SUMMARY:Holiday Wine Tasting
DESCRIPTION:Join us in the Wine Department at Heinen’s Chagrin Falls as we welcome a representative from our partner Southern Glazers Wine & Spirits for a tasting of a variety of delicious wines perfect for pairing with a holiday feast! \nNo entrance fee required. | Questions? Please contact Heinen’s Chagrin Falls at (440) 424-5108.
URL:https://downtownchagrinfalls.com/event/holiday-wine-tasting-2/
LOCATION:Heinen’s\, 20 Shopping Plaza\, Chagrin Falls\, OH\, 44022\, United States
CATEGORIES:Food & Drink,Wine Tasting
ATTACH;FMTTYPE=image/png:https://downtownchagrinfalls.com/wp-content/uploads/2025/11/Holiday-Wine-Showcase_800x550.png
END:VEVENT
END:VCALENDAR