BEGIN:VCALENDAR
VERSION:2.0
PRODID:-//Downtown Chagrin Falls - ECPv6.15.13.1//NONSGML v1.0//EN
CALSCALE:GREGORIAN
METHOD:PUBLISH
X-WR-CALNAME:Downtown Chagrin Falls
X-ORIGINAL-URL:https://downtownchagrinfalls.com
X-WR-CALDESC:Events for Downtown Chagrin Falls
REFRESH-INTERVAL;VALUE=DURATION:PT1H
X-Robots-Tag:noindex
X-PUBLISHED-TTL:PT1H
BEGIN:VTIMEZONE
TZID:America/New_York
BEGIN:DAYLIGHT
TZOFFSETFROM:-0500
TZOFFSETTO:-0400
TZNAME:EDT
DTSTART:20240310T070000
END:DAYLIGHT
BEGIN:STANDARD
TZOFFSETFROM:-0400
TZOFFSETTO:-0500
TZNAME:EST
DTSTART:20241103T060000
END:STANDARD
BEGIN:DAYLIGHT
TZOFFSETFROM:-0500
TZOFFSETTO:-0400
TZNAME:EDT
DTSTART:20250309T070000
END:DAYLIGHT
BEGIN:STANDARD
TZOFFSETFROM:-0400
TZOFFSETTO:-0500
TZNAME:EST
DTSTART:20251102T060000
END:STANDARD
BEGIN:DAYLIGHT
TZOFFSETFROM:-0500
TZOFFSETTO:-0400
TZNAME:EDT
DTSTART:20260308T070000
END:DAYLIGHT
BEGIN:STANDARD
TZOFFSETFROM:-0400
TZOFFSETTO:-0500
TZNAME:EST
DTSTART:20261101T060000
END:STANDARD
END:VTIMEZONE
BEGIN:VEVENT
DTSTART;TZID=America/New_York:20251106T170000
DTEND;TZID=America/New_York:20251106T200000
DTSTAMP:20260420T053956
CREATED:20251009T210947Z
LAST-MODIFIED:20251009T210947Z
UID:10002850-1762448400-1762459200@downtownchagrinfalls.com
SUMMARY:Mahjong & Shopping Ladies Night
DESCRIPTION:Grab your girl friends and join us for our first ever Mahjong night! Shopping will be available as well as sips and small bites. Mahjong not your thing? We would still love to see you! Join us for shopping! No need to pay just to shop! \n\nAll levels welcome!\nRegistration required\nall proceeds go to the Two Foundation\nTiles and full Mahjong set up provided *bring your own NMJL card\nsips and small bites\nTables for open or Guided play by certified teacher Amy Myers\n10% off in shops
URL:https://downtownchagrinfalls.com/event/mahjong-shopping-ladies-night/
LOCATION:Two & Company\, 177 E. Washington Street\, Chagrin Falls\, OH\, United States
CATEGORIES:Community,Food & Drink,Fundraiser,Just Fun,Shopping
ATTACH;FMTTYPE=image/jpeg:https://downtownchagrinfalls.com/wp-content/uploads/2025/10/Chasing-Clues-2025-46.jpg
END:VEVENT
END:VCALENDAR