BEGIN:VCALENDAR
VERSION:2.0
PRODID:-//Downtown Chagrin Falls - ECPv6.15.13.1//NONSGML v1.0//EN
CALSCALE:GREGORIAN
METHOD:PUBLISH
X-WR-CALNAME:Downtown Chagrin Falls
X-ORIGINAL-URL:https://downtownchagrinfalls.com
X-WR-CALDESC:Events for Downtown Chagrin Falls
REFRESH-INTERVAL;VALUE=DURATION:PT1H
X-Robots-Tag:noindex
X-PUBLISHED-TTL:PT1H
BEGIN:VTIMEZONE
TZID:America/New_York
BEGIN:DAYLIGHT
TZOFFSETFROM:-0500
TZOFFSETTO:-0400
TZNAME:EDT
DTSTART:20240310T070000
END:DAYLIGHT
BEGIN:STANDARD
TZOFFSETFROM:-0400
TZOFFSETTO:-0500
TZNAME:EST
DTSTART:20241103T060000
END:STANDARD
BEGIN:DAYLIGHT
TZOFFSETFROM:-0500
TZOFFSETTO:-0400
TZNAME:EDT
DTSTART:20250309T070000
END:DAYLIGHT
BEGIN:STANDARD
TZOFFSETFROM:-0400
TZOFFSETTO:-0500
TZNAME:EST
DTSTART:20251102T060000
END:STANDARD
BEGIN:DAYLIGHT
TZOFFSETFROM:-0500
TZOFFSETTO:-0400
TZNAME:EDT
DTSTART:20260308T070000
END:DAYLIGHT
BEGIN:STANDARD
TZOFFSETFROM:-0400
TZOFFSETTO:-0500
TZNAME:EST
DTSTART:20261101T060000
END:STANDARD
END:VTIMEZONE
BEGIN:VEVENT
DTSTART;TZID=America/New_York:20250927T093000
DTEND;TZID=America/New_York:20250927T150000
DTSTAMP:20260420T032122
CREATED:20250814T163223Z
LAST-MODIFIED:20250905T190152Z
UID:10002553-1758965400-1758985200@downtownchagrinfalls.com
SUMMARY:Food Trucks by the Falls
DESCRIPTION:This annual tradition brings together the best local food trucks\, live music\, and family-friendly fun in the charming setting of Triangle Park and North Franklin Street. \n​ \nLaunched in 2021 to add a little extra excitement to the Village of Chagrin Falls during the community garage sale\, Trucks By the Falls has quickly grown into one of our most beloved—and tastiest—traditions. By closing off North Franklin Street\, we’ve created the perfect space for neighbors\, friends\, and visitors to gather\, share a meal\, and celebrate community. \n​ \nJoin us at Trucks By the Falls—where great food meets great community. \nParticipating Trucks: \nCLE Sweet Cycle \nPiccolo Authentic Italian \nThe Dawg Bowl Cajun Cuisine \nWholly Frijoles \nCLE Cotton Candy \n 
URL:https://downtownchagrinfalls.com/event/food-trucks-by-the-falls/
LOCATION:Chagrin Falls\, Chagrin Falls\, OH\, 44022\, United States
CATEGORIES:Food & Drink,Fundraiser,Shopping
ATTACH;FMTTYPE=image/jpeg:https://downtownchagrinfalls.com/wp-content/uploads/2025/08/Food-Trucks-by-the-Falls.jpg
ORGANIZER;CN="Chagrin Valley Jaycees":MAILTO:info@cvjc.org
END:VEVENT
END:VCALENDAR