BEGIN:VCALENDAR
VERSION:2.0
PRODID:-//Downtown Chagrin Falls - ECPv6.15.13.1//NONSGML v1.0//EN
CALSCALE:GREGORIAN
METHOD:PUBLISH
X-ORIGINAL-URL:https://downtownchagrinfalls.com
X-WR-CALDESC:Events for Downtown Chagrin Falls
REFRESH-INTERVAL;VALUE=DURATION:PT1H
X-Robots-Tag:noindex
X-PUBLISHED-TTL:PT1H
BEGIN:VTIMEZONE
TZID:America/New_York
BEGIN:DAYLIGHT
TZOFFSETFROM:-0500
TZOFFSETTO:-0400
TZNAME:EDT
DTSTART:20230312T070000
END:DAYLIGHT
BEGIN:STANDARD
TZOFFSETFROM:-0400
TZOFFSETTO:-0500
TZNAME:EST
DTSTART:20231105T060000
END:STANDARD
BEGIN:DAYLIGHT
TZOFFSETFROM:-0500
TZOFFSETTO:-0400
TZNAME:EDT
DTSTART:20240310T070000
END:DAYLIGHT
BEGIN:STANDARD
TZOFFSETFROM:-0400
TZOFFSETTO:-0500
TZNAME:EST
DTSTART:20241103T060000
END:STANDARD
BEGIN:DAYLIGHT
TZOFFSETFROM:-0500
TZOFFSETTO:-0400
TZNAME:EDT
DTSTART:20250309T070000
END:DAYLIGHT
BEGIN:STANDARD
TZOFFSETFROM:-0400
TZOFFSETTO:-0500
TZNAME:EST
DTSTART:20251102T060000
END:STANDARD
END:VTIMEZONE
BEGIN:VEVENT
DTSTART;TZID=America/New_York:20240302T190000
DTEND;TZID=America/New_York:20240302T210000
DTSTAMP:20260422T211620
CREATED:20230928T003000Z
LAST-MODIFIED:20230928T003000Z
UID:10001313-1709406000-1709413200@downtownchagrinfalls.com
SUMMARY:Cleveland Celtic Ensemble With A Community Dinner
DESCRIPTION:The Federated Church Performing Arts Series and Federated Family Ministries present a joyous evening with the Cleveland Celtic Ensemble! \nThis festive event will feature a free catered Irish dinner beginning at 7 pm with background music followed by a more formal concert at 8 pm. \nCome dressed in Irish attire to add to the fun and feel free to dance the evening away! \n\n*TICKETS are FREE\, but reservations are required as seating is limited! \n  \nFor more information contact\, jkonow@fedchurch.org or call 440.247.6490 x 120.
URL:https://downtownchagrinfalls.com/event/cleveland-celtic-ensemble-with-a-community-dinner/
LOCATION:Federated Church\, 76 Bell Street\, Chagrin Falls\, OH\, 44022\, United States
CATEGORIES:Food & Drink,Live Music
ATTACH;FMTTYPE=image/png:https://downtownchagrinfalls.com/wp-content/uploads/2023/09/Untitled-design-37.png
END:VEVENT
END:VCALENDAR