BEGIN:VCALENDAR
VERSION:2.0
PRODID:-//Downtown Chagrin Falls - ECPv6.15.13.1//NONSGML v1.0//EN
CALSCALE:GREGORIAN
METHOD:PUBLISH
X-ORIGINAL-URL:https://downtownchagrinfalls.com
X-WR-CALDESC:Events for Downtown Chagrin Falls
REFRESH-INTERVAL;VALUE=DURATION:PT1H
X-Robots-Tag:noindex
X-PUBLISHED-TTL:PT1H
BEGIN:VTIMEZONE
TZID:America/New_York
BEGIN:DAYLIGHT
TZOFFSETFROM:-0500
TZOFFSETTO:-0400
TZNAME:EDT
DTSTART:20240310T070000
END:DAYLIGHT
BEGIN:STANDARD
TZOFFSETFROM:-0400
TZOFFSETTO:-0500
TZNAME:EST
DTSTART:20241103T060000
END:STANDARD
BEGIN:DAYLIGHT
TZOFFSETFROM:-0500
TZOFFSETTO:-0400
TZNAME:EDT
DTSTART:20250309T070000
END:DAYLIGHT
BEGIN:STANDARD
TZOFFSETFROM:-0400
TZOFFSETTO:-0500
TZNAME:EST
DTSTART:20251102T060000
END:STANDARD
BEGIN:DAYLIGHT
TZOFFSETFROM:-0500
TZOFFSETTO:-0400
TZNAME:EDT
DTSTART:20260308T070000
END:DAYLIGHT
BEGIN:STANDARD
TZOFFSETFROM:-0400
TZOFFSETTO:-0500
TZNAME:EST
DTSTART:20261101T060000
END:STANDARD
END:VTIMEZONE
BEGIN:VEVENT
DTSTART;TZID=America/New_York:20251206T100000
DTEND;TZID=America/New_York:20251206T170000
DTSTAMP:20260422T144923
CREATED:20251120T172020Z
LAST-MODIFIED:20251120T172020Z
UID:10002893-1765015200-1765040400@downtownchagrinfalls.com
SUMMARY:Li’l Shoppers Holiday Shop at Sage & Honey
DESCRIPTION:Li’l Shoppers Holiday Shop! \n\n\nIt’s time for our first annual holiday tradition – a kids-only shopping experience in our event room!\nAges 5+ are invited to step inside our magical mini “store” and pick out gifts all on their own with the help of our Sage & Honey team.\n\n\n❄︎ Each child receives a Nice List to guide their shopping\n❄︎ $10 admission (applied as store credit!)\n❄︎ Gifts are wrapped & labeled so your lil shoppers can surprise their loved ones during the holidays\n❄︎ Every item is $10 or under\n\n\nLet the magic and the gifting begin!
URL:https://downtownchagrinfalls.com/event/lil-shoppers-holiday-shop-at-sage-honey/
LOCATION:Sage & Honey\, 10 E. Washington Street\, Chagrin Falls\, OH\, 44022\, United States
CATEGORIES:Children,Community,Holiday,Shopping
ATTACH;FMTTYPE=image/png:https://downtownchagrinfalls.com/wp-content/uploads/2025/11/Chasing-Clues-2025-2.png
END:VEVENT
BEGIN:VEVENT
DTSTART;TZID=America/New_York:20251206T130000
DTEND;TZID=America/New_York:20251206T150000
DTSTAMP:20260422T144923
CREATED:20251113T221843Z
LAST-MODIFIED:20251113T221843Z
UID:10002882-1765026000-1765033200@downtownchagrinfalls.com
SUMMARY:Chagrin History Center Holiday Open House
DESCRIPTION:Step back in time with carols\, cocoa\, and exhibits celebrating Chagrin’s holiday traditions.
URL:https://downtownchagrinfalls.com/event/chagrin-history-center-holiday-open-house-2/
LOCATION:Chagrin History Center\, 87 E. Washington Street\, Chagrin Falls\, OH\, 44022\, United States
CATEGORIES:Children,Crafts,Holiday,Live Music,Open House
ATTACH;FMTTYPE=image/jpeg:https://downtownchagrinfalls.com/wp-content/uploads/2019/11/Christmas-Tea.jpg
END:VEVENT
END:VCALENDAR