BEGIN:VCALENDAR
VERSION:2.0
PRODID:-//Downtown Chagrin Falls - ECPv6.15.13.1//NONSGML v1.0//EN
CALSCALE:GREGORIAN
METHOD:PUBLISH
X-WR-CALNAME:Downtown Chagrin Falls
X-ORIGINAL-URL:https://downtownchagrinfalls.com
X-WR-CALDESC:Events for Downtown Chagrin Falls
REFRESH-INTERVAL;VALUE=DURATION:PT1H
X-Robots-Tag:noindex
X-PUBLISHED-TTL:PT1H
BEGIN:VTIMEZONE
TZID:America/New_York
BEGIN:DAYLIGHT
TZOFFSETFROM:-0500
TZOFFSETTO:-0400
TZNAME:EDT
DTSTART:20220313T070000
END:DAYLIGHT
BEGIN:STANDARD
TZOFFSETFROM:-0400
TZOFFSETTO:-0500
TZNAME:EST
DTSTART:20221106T060000
END:STANDARD
BEGIN:DAYLIGHT
TZOFFSETFROM:-0500
TZOFFSETTO:-0400
TZNAME:EDT
DTSTART:20230312T070000
END:DAYLIGHT
BEGIN:STANDARD
TZOFFSETFROM:-0400
TZOFFSETTO:-0500
TZNAME:EST
DTSTART:20231105T060000
END:STANDARD
BEGIN:DAYLIGHT
TZOFFSETFROM:-0500
TZOFFSETTO:-0400
TZNAME:EDT
DTSTART:20240310T070000
END:DAYLIGHT
BEGIN:STANDARD
TZOFFSETFROM:-0400
TZOFFSETTO:-0500
TZNAME:EST
DTSTART:20241103T060000
END:STANDARD
END:VTIMEZONE
BEGIN:VEVENT
DTSTART;TZID=America/New_York:20231104T090000
DTEND;TZID=America/New_York:20231104T160000
DTSTAMP:20260419T152227
CREATED:20231102T114017Z
LAST-MODIFIED:20231102T133224Z
UID:10001492-1699088400-1699113600@downtownchagrinfalls.com
SUMMARY:Pink Saturday
DESCRIPTION:Join us for the amazing event filled with delicious treats\, refreshing cocktails\, and exclusive one day deals! The first 20 guests to RSVP will receive a swag bag worth$50 so don’t wait to secure your spot! \nA few extra goodies up for grabs: \n\nDiscounted Package Pricing On: Venus Bliss\, Venus Legacy\, HydroFacial\, Glo 2 Facial\, RF Ceramic Eye Treatments\, and so much more\nComplimentary demos on Venus Bliss Max and Skin Analysis – must be pre-booked\nMinihydrofacial lip and eye treatment $25 (reg $75) – must be prebooked\nSpecial one day only discounts from Comprehensive Aesthetics\nJohn Roberts Spa: Hair Tinsel $5/bead along with Nutriplenish & Aveda Retail\nForever Golden: Permanent Jewelry from 9 -11 am\n\nTo RSVP and prebook: Marthabeautyguru@gmail.com/440-247-0359
URL:https://downtownchagrinfalls.com/event/pink-saturday/
LOCATION:La Look Boutique\, 15 Pleasant Drive\, Chagrin Falls\, OH\, 44022\, United States
CATEGORIES:Beauty,Food & Drink,Shopping
ATTACH;FMTTYPE=image/png:https://downtownchagrinfalls.com/wp-content/uploads/2023/11/Untitled-design-74.png
END:VEVENT
END:VCALENDAR