BEGIN:VCALENDAR
VERSION:2.0
PRODID:-//Downtown Chagrin Falls - ECPv6.15.13.1//NONSGML v1.0//EN
CALSCALE:GREGORIAN
METHOD:PUBLISH
X-ORIGINAL-URL:https://downtownchagrinfalls.com
X-WR-CALDESC:Events for Downtown Chagrin Falls
REFRESH-INTERVAL;VALUE=DURATION:PT1H
X-Robots-Tag:noindex
X-PUBLISHED-TTL:PT1H
BEGIN:VTIMEZONE
TZID:America/New_York
BEGIN:DAYLIGHT
TZOFFSETFROM:-0500
TZOFFSETTO:-0400
TZNAME:EDT
DTSTART:20240310T070000
END:DAYLIGHT
BEGIN:STANDARD
TZOFFSETFROM:-0400
TZOFFSETTO:-0500
TZNAME:EST
DTSTART:20241103T060000
END:STANDARD
BEGIN:DAYLIGHT
TZOFFSETFROM:-0500
TZOFFSETTO:-0400
TZNAME:EDT
DTSTART:20250309T070000
END:DAYLIGHT
BEGIN:STANDARD
TZOFFSETFROM:-0400
TZOFFSETTO:-0500
TZNAME:EST
DTSTART:20251102T060000
END:STANDARD
BEGIN:DAYLIGHT
TZOFFSETFROM:-0500
TZOFFSETTO:-0400
TZNAME:EDT
DTSTART:20260308T070000
END:DAYLIGHT
BEGIN:STANDARD
TZOFFSETFROM:-0400
TZOFFSETTO:-0500
TZNAME:EST
DTSTART:20261101T060000
END:STANDARD
END:VTIMEZONE
BEGIN:VEVENT
DTSTART;TZID=America/New_York:20251212T190000
DTEND;TZID=America/New_York:20251212T190000
DTSTAMP:20260420T194034
CREATED:20251120T171453Z
LAST-MODIFIED:20251120T171453Z
UID:10002890-1765566000-1765566000@downtownchagrinfalls.com
SUMMARY:Hamlet December Concert Series
DESCRIPTION:‘Tis the season for music\, merriment and joy! Jingle all the way to Hamlet as we share a special concert series throughout the month of December. We hope you’ll join the festivities for one or all of the following musical performances: \nTUESDAY\, DECEMBER 2\nHillcrest Concert Band | 7:00 p.m. \nSATURDAY\, DECEMBER 6\nCleveland Community Concert Band | 2:00 p.m. \nFRIDAY\, DECEMBER 12\nWestern Reserve Chorale | 7:00 p.m. \nSUNDAY\, DECEMBER 14\nForest City Singers | 3:00 p.m. \nMONDAY\, DECEMBER 22\nThe Goldenotes | 2:00 p.m. \nThe Atrium at Hamlet\n200 Hamlet Hills Drive | Chagrin Falls\, OH 44022 \nCall 440-490-4156 to R.S.V.P as space is limited.
URL:https://downtownchagrinfalls.com/event/hamlet-december-concert-series/2025-12-12/
LOCATION:Hamlet Atrium\, 200 Hamlet Hills Drive\, Chagrin Falls\, OH\, 44022\, United States
CATEGORIES:Holiday,Live Music
ATTACH;FMTTYPE=image/jpeg:https://downtownchagrinfalls.com/wp-content/uploads/2025/11/qtq80-pgRwjm.jpeg
END:VEVENT
BEGIN:VEVENT
DTSTART;TZID=America/New_York:20251212T193000
DTEND;TZID=America/New_York:20251212T193000
DTSTAMP:20260420T194034
CREATED:20251009T191727Z
LAST-MODIFIED:20251009T192415Z
UID:10002835-1765567800-1765567800@downtownchagrinfalls.com
SUMMARY:Shrek The Musical
DESCRIPTION:Based on the Dreamworks Animation Motion Picture and the book by William Steig \nOriginally produced on Broadway by DreamWorks Theatricals and Neal Street Productions \nJoin us for a swamp-tacular adventure with Shrek The Musical! Based on the beloved Academy Award®-winning film\, this hilarious and heartwarming show brings your favorite ogre\, donkey\, and feisty princess to life on stage. Follow Shrek as he embarks on a quest to reclaim his swamp\, encountering a motley crew of fairytale misfits along the way. \nFilled with catchy songs\, dazzling costumes\, and a powerful message about acceptance and finding your true self\, Shrek The Musical is a joyous romp for the whole family! Get ready to believe in happy endings – no matter how unlikely they may seem. \n\n\n\n\n\n\nTom Jones – Shrek\nCaralyn Steck – Fiona\nKaitlyn Poschner – Donkey\nCameron Zona – Lord Farquaad\nJessie Pollak – Dragon/Lead Understudy\nLuna Cardamone – Gingy\nJulia DiPaolo – Pinocchio\nMila Cook – Young Fiona\nMegan Verrona – Teen Fiona/Peter Pan\nColton Berg – Young Shrek/Baby Bear\nBrandon Anders – Captain of the Guard / Pied Piper\nAmy Balsinger – Wicked Witch\nShelby Bodzin – Little Pig\nGabriel Chuna – Big Bad Wolf\nGreta Gelb – Cheshire Cat\nT.J. Hayes – Papa Bear / Thelonius\nFelicia Larson – Tweedle Dee\nPyro Lennerth – Humpty Dumpty\nRobin Mango – Little Pig / Blind Mouse\nBrittany Morehouse – Mama Bear\nMichela Palma – Elf\nDevan Panigrahi – Ugly Duckling\nKatie Remark – Sugar Plum Fairy\nNoelle Rudersdorf – Little Pig/Blind Mouse\nLoren Sciulla – White Rabbit\nMelanie Scott – Fairy Godmother\nCaitrin Claddagh Stark – Puss in Boots\nGregory Kalvlin – Mad Hatter/Dwarf
URL:https://downtownchagrinfalls.com/event/shrek-the-musical/2025-12-12/
LOCATION:Chagrin Valley Little Theatre\, 40 River Street\, Chagrin Falls\, OH\, 44022\, United States
CATEGORIES:Theater
ATTACH;FMTTYPE=image/jpeg:https://downtownchagrinfalls.com/wp-content/uploads/2025/10/Shrek-Landscape.jpeg
ORGANIZER;CN="Chagrin Valley Little Theatre":MAILTO:cvlt@cvlt.org
END:VEVENT
END:VCALENDAR