BEGIN:VCALENDAR
VERSION:2.0
PRODID:-//Downtown Chagrin Falls - ECPv6.15.13.1//NONSGML v1.0//EN
CALSCALE:GREGORIAN
METHOD:PUBLISH
X-ORIGINAL-URL:https://downtownchagrinfalls.com
X-WR-CALDESC:Events for Downtown Chagrin Falls
REFRESH-INTERVAL;VALUE=DURATION:PT1H
X-Robots-Tag:noindex
X-PUBLISHED-TTL:PT1H
BEGIN:VTIMEZONE
TZID:America/New_York
BEGIN:DAYLIGHT
TZOFFSETFROM:-0500
TZOFFSETTO:-0400
TZNAME:EDT
DTSTART:20240310T070000
END:DAYLIGHT
BEGIN:STANDARD
TZOFFSETFROM:-0400
TZOFFSETTO:-0500
TZNAME:EST
DTSTART:20241103T060000
END:STANDARD
BEGIN:DAYLIGHT
TZOFFSETFROM:-0500
TZOFFSETTO:-0400
TZNAME:EDT
DTSTART:20250309T070000
END:DAYLIGHT
BEGIN:STANDARD
TZOFFSETFROM:-0400
TZOFFSETTO:-0500
TZNAME:EST
DTSTART:20251102T060000
END:STANDARD
BEGIN:DAYLIGHT
TZOFFSETFROM:-0500
TZOFFSETTO:-0400
TZNAME:EDT
DTSTART:20260308T070000
END:DAYLIGHT
BEGIN:STANDARD
TZOFFSETFROM:-0400
TZOFFSETTO:-0500
TZNAME:EST
DTSTART:20261101T060000
END:STANDARD
END:VTIMEZONE
BEGIN:VEVENT
DTSTART;TZID=America/New_York:20251207T110000
DTEND;TZID=America/New_York:20251207T130000
DTSTAMP:20260420T161632
CREATED:20251121T174621Z
LAST-MODIFIED:20251121T174621Z
UID:10002901-1765105200-1765112400@downtownchagrinfalls.com
SUMMARY:Hartzler Eggnog Tasting
DESCRIPTION:Join us in the Wine and Beer Department at Heinen’s Chagrin Falls as we taste the beloved original and boozy eggnogs from Ohio’s own Hartzler Family Dairy! \nNo entrance fee required. | Questions? Please contact Heinen’s Chagrin Falls at (440) 424-5108.
URL:https://downtownchagrinfalls.com/event/hartzler-eggnog-tasting/
LOCATION:Heinen’s\, 20 Shopping Plaza\, Chagrin Falls\, OH\, 44022\, United States
CATEGORIES:Eggnog Tasting,Food & Drink
ATTACH;FMTTYPE=image/png:https://downtownchagrinfalls.com/wp-content/uploads/2025/11/Hartzler-Eggnog_800x550.png
END:VEVENT
BEGIN:VEVENT
DTSTART;TZID=America/New_York:20251207T120000
DTEND;TZID=America/New_York:20251207T160000
DTSTAMP:20260420T161632
CREATED:20251113T221239Z
LAST-MODIFIED:20251113T221239Z
UID:10002880-1765108800-1765123200@downtownchagrinfalls.com
SUMMARY:Complimentary Carriage Rides
DESCRIPTION:Enjoy a free horse-drawn carriage ride—perfect for photos and warm memories.
URL:https://downtownchagrinfalls.com/event/complimentary-carriage-rides-3/2025-12-07/
LOCATION:Chagrin Falls\, Chagrin Falls\, OH\, 44022\, United States
CATEGORIES:Holiday
ATTACH;FMTTYPE=image/jpeg:https://downtownchagrinfalls.com/wp-content/uploads/2019/11/Carriages2011-300x199.jpg
END:VEVENT
BEGIN:VEVENT
DTSTART;TZID=America/New_York:20251207T140000
DTEND;TZID=America/New_York:20251207T140000
DTSTAMP:20260420T161633
CREATED:20251009T192239Z
LAST-MODIFIED:20251009T192239Z
UID:10002833-1765116000-1765116000@downtownchagrinfalls.com
SUMMARY:Shrek The Musical
DESCRIPTION:Based on the Dreamworks Animation Motion Picture and the book by William Steig \nOriginally produced on Broadway by DreamWorks Theatricals and Neal Street Productions \nJoin us for a swamp-tacular adventure with Shrek The Musical! Based on the beloved Academy Award®-winning film\, this hilarious and heartwarming show brings your favorite ogre\, donkey\, and feisty princess to life on stage. Follow Shrek as he embarks on a quest to reclaim his swamp\, encountering a motley crew of fairytale misfits along the way. \nFilled with catchy songs\, dazzling costumes\, and a powerful message about acceptance and finding your true self\, Shrek The Musical is a joyous romp for the whole family! Get ready to believe in happy endings – no matter how unlikely they may seem. \n\n\n\n\n\n\nTom Jones – Shrek\nCaralyn Steck – Fiona\nKaitlyn Poschner – Donkey\nCameron Zona – Lord Farquaad\nJessie Pollak – Dragon/Lead Understudy\nLuna Cardamone – Gingy\nJulia DiPaolo – Pinocchio\nMila Cook – Young Fiona\nMegan Verrona – Teen Fiona/Peter Pan\nColton Berg – Young Shrek/Baby Bear\nBrandon Anders – Captain of the Guard / Pied Piper\nAmy Balsinger – Wicked Witch\nShelby Bodzin – Little Pig\nGabriel Chuna – Big Bad Wolf\nGreta Gelb – Cheshire Cat\nT.J. Hayes – Papa Bear / Thelonius\nFelicia Larson – Tweedle Dee\nPyro Lennerth – Humpty Dumpty\nRobin Mango – Little Pig / Blind Mouse\nBrittany Morehouse – Mama Bear\nMichela Palma – Elf\nDevan Panigrahi – Ugly Duckling\nKatie Remark – Sugar Plum Fairy\nNoelle Rudersdorf – Little Pig/Blind Mouse\nLoren Sciulla – White Rabbit\nMelanie Scott – Fairy Godmother\nCaitrin Claddagh Stark – Puss in Boots\nGregory Kalvlin – Mad Hatter/Dwarf
URL:https://downtownchagrinfalls.com/event/shrek-the-musical-3/2025-12-07/
LOCATION:Chagrin Valley Little Theatre\, 40 River Street\, Chagrin Falls\, OH\, 44022\, United States
CATEGORIES:Theater
ATTACH;FMTTYPE=image/jpeg:https://downtownchagrinfalls.com/wp-content/uploads/2025/10/Shrek-Landscape.jpeg
ORGANIZER;CN="Chagrin Valley Little Theatre":MAILTO:cvlt@cvlt.org
END:VEVENT
END:VCALENDAR