BEGIN:VCALENDAR
VERSION:2.0
PRODID:-//Downtown Chagrin Falls - ECPv6.15.13.1//NONSGML v1.0//EN
CALSCALE:GREGORIAN
METHOD:PUBLISH
X-WR-CALNAME:Downtown Chagrin Falls
X-ORIGINAL-URL:https://downtownchagrinfalls.com
X-WR-CALDESC:Events for Downtown Chagrin Falls
REFRESH-INTERVAL;VALUE=DURATION:PT1H
X-Robots-Tag:noindex
X-PUBLISHED-TTL:PT1H
BEGIN:VTIMEZONE
TZID:America/New_York
BEGIN:DAYLIGHT
TZOFFSETFROM:-0500
TZOFFSETTO:-0400
TZNAME:EDT
DTSTART:20240310T070000
END:DAYLIGHT
BEGIN:STANDARD
TZOFFSETFROM:-0400
TZOFFSETTO:-0500
TZNAME:EST
DTSTART:20241103T060000
END:STANDARD
BEGIN:DAYLIGHT
TZOFFSETFROM:-0500
TZOFFSETTO:-0400
TZNAME:EDT
DTSTART:20250309T070000
END:DAYLIGHT
BEGIN:STANDARD
TZOFFSETFROM:-0400
TZOFFSETTO:-0500
TZNAME:EST
DTSTART:20251102T060000
END:STANDARD
BEGIN:DAYLIGHT
TZOFFSETFROM:-0500
TZOFFSETTO:-0400
TZNAME:EDT
DTSTART:20260308T070000
END:DAYLIGHT
BEGIN:STANDARD
TZOFFSETFROM:-0400
TZOFFSETTO:-0500
TZNAME:EST
DTSTART:20261101T060000
END:STANDARD
END:VTIMEZONE
BEGIN:VEVENT
DTSTART;TZID=America/New_York:20251202T190000
DTEND;TZID=America/New_York:20251202T190000
DTSTAMP:20260420T193848
CREATED:20251120T171453Z
LAST-MODIFIED:20251120T171453Z
UID:10002888-1764702000-1764702000@downtownchagrinfalls.com
SUMMARY:Hamlet December Concert Series
DESCRIPTION:‘Tis the season for music\, merriment and joy! Jingle all the way to Hamlet as we share a special concert series throughout the month of December. We hope you’ll join the festivities for one or all of the following musical performances: \nTUESDAY\, DECEMBER 2\nHillcrest Concert Band | 7:00 p.m. \nSATURDAY\, DECEMBER 6\nCleveland Community Concert Band | 2:00 p.m. \nFRIDAY\, DECEMBER 12\nWestern Reserve Chorale | 7:00 p.m. \nSUNDAY\, DECEMBER 14\nForest City Singers | 3:00 p.m. \nMONDAY\, DECEMBER 22\nThe Goldenotes | 2:00 p.m. \nThe Atrium at Hamlet\n200 Hamlet Hills Drive | Chagrin Falls\, OH 44022 \nCall 440-490-4156 to R.S.V.P as space is limited.
URL:https://downtownchagrinfalls.com/event/hamlet-december-concert-series/2025-12-02/
LOCATION:Hamlet Atrium\, 200 Hamlet Hills Drive\, Chagrin Falls\, OH\, 44022\, United States
CATEGORIES:Holiday,Live Music
ATTACH;FMTTYPE=image/jpeg:https://downtownchagrinfalls.com/wp-content/uploads/2025/11/qtq80-pgRwjm.jpeg
END:VEVENT
END:VCALENDAR