BEGIN:VCALENDAR
VERSION:2.0
PRODID:-//Downtown Chagrin Falls - ECPv6.15.13.1//NONSGML v1.0//EN
CALSCALE:GREGORIAN
METHOD:PUBLISH
X-ORIGINAL-URL:https://downtownchagrinfalls.com
X-WR-CALDESC:Events for Downtown Chagrin Falls
REFRESH-INTERVAL;VALUE=DURATION:PT1H
X-Robots-Tag:noindex
X-PUBLISHED-TTL:PT1H
BEGIN:VTIMEZONE
TZID:America/New_York
BEGIN:DAYLIGHT
TZOFFSETFROM:-0500
TZOFFSETTO:-0400
TZNAME:EDT
DTSTART:20240310T070000
END:DAYLIGHT
BEGIN:STANDARD
TZOFFSETFROM:-0400
TZOFFSETTO:-0500
TZNAME:EST
DTSTART:20241103T060000
END:STANDARD
BEGIN:DAYLIGHT
TZOFFSETFROM:-0500
TZOFFSETTO:-0400
TZNAME:EDT
DTSTART:20250309T070000
END:DAYLIGHT
BEGIN:STANDARD
TZOFFSETFROM:-0400
TZOFFSETTO:-0500
TZNAME:EST
DTSTART:20251102T060000
END:STANDARD
BEGIN:DAYLIGHT
TZOFFSETFROM:-0500
TZOFFSETTO:-0400
TZNAME:EDT
DTSTART:20260308T070000
END:DAYLIGHT
BEGIN:STANDARD
TZOFFSETFROM:-0400
TZOFFSETTO:-0500
TZNAME:EST
DTSTART:20261101T060000
END:STANDARD
END:VTIMEZONE
BEGIN:VEVENT
DTSTART;TZID=America/New_York:20251128T180000
DTEND;TZID=America/New_York:20251128T200000
DTSTAMP:20260421T011253
CREATED:20251114T141651Z
LAST-MODIFIED:20251114T141651Z
UID:10002886-1764352800-1764360000@downtownchagrinfalls.com
SUMMARY:Chagrin Falls Tree Lighting Open House
DESCRIPTION:Open House and live stream from the outdoor lighting event
URL:https://downtownchagrinfalls.com/event/chagrin-falls-tree-lighting-open-house/
LOCATION:United Methodist Church of Chagrin Falls\, 20 S. Franklin Street\, Chagrin Falls\, OH\, 44022\, United States
CATEGORIES:Community,Holiday
ATTACH;FMTTYPE=image/avif:https://downtownchagrinfalls.com/wp-content/uploads/2025/11/Chagrin-Falls-Tree-Lighting-Warm-Open-House.avif
END:VEVENT
BEGIN:VEVENT
DTSTART;TZID=America/New_York:20251128T180000
DTEND;TZID=America/New_York:20251128T210000
DTSTAMP:20260421T011253
CREATED:20251113T215756Z
LAST-MODIFIED:20251113T215756Z
UID:10002872-1764352800-1764363600@downtownchagrinfalls.com
SUMMARY:Santa Parade and Lighting of the Greens
DESCRIPTION:6 pm Santa Parade – 7 PM Ceremony Starts\n\n\n\n\n\n\n\n\n\nThe Village transforms for the season with the Jaycees’ biggest and most dazzling project of the year. They spend hundreds of hours prepping thousands of lights\, miles of garland\, and a forest’s worth of beautifully decorated trees all across town. \nJoin the community in Triangle Park as we flip the switch on the giant holiday tree. Santa arrives in style aboard a fire truck parade and sticks around afterward to visit with kids. \nIt’s the kind of small-town magic you don’t want to miss.
URL:https://downtownchagrinfalls.com/event/santa-parade-and-lighting-of-the-greens/
LOCATION:Triangle Park\, Chagrin Falls\, OH\, 44022\, United States
CATEGORIES:Community,Holiday
ATTACH;FMTTYPE=image/jpeg:https://downtownchagrinfalls.com/wp-content/uploads/2025/11/Chasing-Clues-2025-77.jpg
ORGANIZER;CN="Chagrin Valley Jaycees":MAILTO:info@cvjc.org
END:VEVENT
BEGIN:VEVENT
DTSTART;TZID=America/New_York:20251128T193000
DTEND;TZID=America/New_York:20251128T193000
DTSTAMP:20260421T011253
CREATED:20251009T191727Z
LAST-MODIFIED:20251009T192415Z
UID:10002658-1764358200-1764358200@downtownchagrinfalls.com
SUMMARY:Shrek The Musical
DESCRIPTION:Based on the Dreamworks Animation Motion Picture and the book by William Steig \nOriginally produced on Broadway by DreamWorks Theatricals and Neal Street Productions \nJoin us for a swamp-tacular adventure with Shrek The Musical! Based on the beloved Academy Award®-winning film\, this hilarious and heartwarming show brings your favorite ogre\, donkey\, and feisty princess to life on stage. Follow Shrek as he embarks on a quest to reclaim his swamp\, encountering a motley crew of fairytale misfits along the way. \nFilled with catchy songs\, dazzling costumes\, and a powerful message about acceptance and finding your true self\, Shrek The Musical is a joyous romp for the whole family! Get ready to believe in happy endings – no matter how unlikely they may seem. \n\n\n\n\n\n\nTom Jones – Shrek\nCaralyn Steck – Fiona\nKaitlyn Poschner – Donkey\nCameron Zona – Lord Farquaad\nJessie Pollak – Dragon/Lead Understudy\nLuna Cardamone – Gingy\nJulia DiPaolo – Pinocchio\nMila Cook – Young Fiona\nMegan Verrona – Teen Fiona/Peter Pan\nColton Berg – Young Shrek/Baby Bear\nBrandon Anders – Captain of the Guard / Pied Piper\nAmy Balsinger – Wicked Witch\nShelby Bodzin – Little Pig\nGabriel Chuna – Big Bad Wolf\nGreta Gelb – Cheshire Cat\nT.J. Hayes – Papa Bear / Thelonius\nFelicia Larson – Tweedle Dee\nPyro Lennerth – Humpty Dumpty\nRobin Mango – Little Pig / Blind Mouse\nBrittany Morehouse – Mama Bear\nMichela Palma – Elf\nDevan Panigrahi – Ugly Duckling\nKatie Remark – Sugar Plum Fairy\nNoelle Rudersdorf – Little Pig/Blind Mouse\nLoren Sciulla – White Rabbit\nMelanie Scott – Fairy Godmother\nCaitrin Claddagh Stark – Puss in Boots\nGregory Kalvlin – Mad Hatter/Dwarf
URL:https://downtownchagrinfalls.com/event/shrek-the-musical/2025-11-28/
LOCATION:Chagrin Valley Little Theatre\, 40 River Street\, Chagrin Falls\, OH\, 44022\, United States
CATEGORIES:Theater
ATTACH;FMTTYPE=image/jpeg:https://downtownchagrinfalls.com/wp-content/uploads/2025/10/Shrek-Landscape.jpeg
ORGANIZER;CN="Chagrin Valley Little Theatre":MAILTO:cvlt@cvlt.org
END:VEVENT
END:VCALENDAR