BEGIN:VCALENDAR
VERSION:2.0
PRODID:-//Downtown Chagrin Falls - ECPv6.15.13.1//NONSGML v1.0//EN
CALSCALE:GREGORIAN
METHOD:PUBLISH
X-WR-CALNAME:Downtown Chagrin Falls
X-ORIGINAL-URL:https://downtownchagrinfalls.com
X-WR-CALDESC:Events for Downtown Chagrin Falls
REFRESH-INTERVAL;VALUE=DURATION:PT1H
X-Robots-Tag:noindex
X-PUBLISHED-TTL:PT1H
BEGIN:VTIMEZONE
TZID:America/New_York
BEGIN:DAYLIGHT
TZOFFSETFROM:-0500
TZOFFSETTO:-0400
TZNAME:EDT
DTSTART:20240310T070000
END:DAYLIGHT
BEGIN:STANDARD
TZOFFSETFROM:-0400
TZOFFSETTO:-0500
TZNAME:EST
DTSTART:20241103T060000
END:STANDARD
BEGIN:DAYLIGHT
TZOFFSETFROM:-0500
TZOFFSETTO:-0400
TZNAME:EDT
DTSTART:20250309T070000
END:DAYLIGHT
BEGIN:STANDARD
TZOFFSETFROM:-0400
TZOFFSETTO:-0500
TZNAME:EST
DTSTART:20251102T060000
END:STANDARD
BEGIN:DAYLIGHT
TZOFFSETFROM:-0500
TZOFFSETTO:-0400
TZNAME:EDT
DTSTART:20260308T070000
END:DAYLIGHT
BEGIN:STANDARD
TZOFFSETFROM:-0400
TZOFFSETTO:-0500
TZNAME:EST
DTSTART:20261101T060000
END:STANDARD
END:VTIMEZONE
BEGIN:VEVENT
DTSTART;TZID=America/New_York:20251125T140000
DTEND;TZID=America/New_York:20251125T150000
DTSTAMP:20260421T035651
CREATED:20250910T180804Z
LAST-MODIFIED:20250910T180804Z
UID:10002632-1764079200-1764082800@downtownchagrinfalls.com
SUMMARY:Tuesday Afternoon Book Discussion
DESCRIPTION:9/23 The Handmaid’s Tale\, by Margaret Atwood;\n10/28 Becoming Madam Secretary\, by Stephanie Dray;\n11/25 Memorial Days\, by Geraldine Brooks\n 
URL:https://downtownchagrinfalls.com/event/tuesday-afternoon-book-discussion/2025-11-25/
LOCATION:Chagrin Falls Public Library\, 100 East Orange Street\, Chagrin Falls\, OH\, 44022\, United States
CATEGORIES:Book Club
ATTACH;FMTTYPE=image/jpeg:https://downtownchagrinfalls.com/wp-content/uploads/2025/09/Chasing-Clues-2025-30.jpg
END:VEVENT
BEGIN:VEVENT
DTSTART;TZID=America/New_York:20251125T160000
DTEND;TZID=America/New_York:20251125T180000
DTSTAMP:20260421T035651
CREATED:20251121T174055Z
LAST-MODIFIED:20251121T174055Z
UID:10002898-1764086400-1764093600@downtownchagrinfalls.com
SUMMARY:Thanksgiving Wine Tasting
DESCRIPTION:Join us in the Wine Department at Heinen’s Chagrin Falls as we welcome a representative from our partner Southern Glazers Wine & Spirits for a tasting of a variety of delicious wines perfect for pairing with a Thanksgiving feast! \nNo entrance fee required. | Questions? Please contact Heinen’s Chagrin Falls at (440) 424-5108.
URL:https://downtownchagrinfalls.com/event/thanksgiving-wine-tasting/2025-11-25/
LOCATION:Heinen’s\, 20 Shopping Plaza\, Chagrin Falls\, OH\, 44022\, United States
CATEGORIES:Wine Tasting
ATTACH;FMTTYPE=image/png:https://downtownchagrinfalls.com/wp-content/uploads/2025/11/Fall-Wine-Tasting_800x550.png
END:VEVENT
END:VCALENDAR