BEGIN:VCALENDAR
VERSION:2.0
PRODID:-//Downtown Chagrin Falls - ECPv6.15.13.1//NONSGML v1.0//EN
CALSCALE:GREGORIAN
METHOD:PUBLISH
X-WR-CALNAME:Downtown Chagrin Falls
X-ORIGINAL-URL:https://downtownchagrinfalls.com
X-WR-CALDESC:Events for Downtown Chagrin Falls
REFRESH-INTERVAL;VALUE=DURATION:PT1H
X-Robots-Tag:noindex
X-PUBLISHED-TTL:PT1H
BEGIN:VTIMEZONE
TZID:America/New_York
BEGIN:DAYLIGHT
TZOFFSETFROM:-0500
TZOFFSETTO:-0400
TZNAME:EDT
DTSTART:20240310T070000
END:DAYLIGHT
BEGIN:STANDARD
TZOFFSETFROM:-0400
TZOFFSETTO:-0500
TZNAME:EST
DTSTART:20241103T060000
END:STANDARD
BEGIN:DAYLIGHT
TZOFFSETFROM:-0500
TZOFFSETTO:-0400
TZNAME:EDT
DTSTART:20250309T070000
END:DAYLIGHT
BEGIN:STANDARD
TZOFFSETFROM:-0400
TZOFFSETTO:-0500
TZNAME:EST
DTSTART:20251102T060000
END:STANDARD
BEGIN:DAYLIGHT
TZOFFSETFROM:-0500
TZOFFSETTO:-0400
TZNAME:EDT
DTSTART:20260308T070000
END:DAYLIGHT
BEGIN:STANDARD
TZOFFSETFROM:-0400
TZOFFSETTO:-0500
TZNAME:EST
DTSTART:20261101T060000
END:STANDARD
END:VTIMEZONE
BEGIN:VEVENT
DTSTART;TZID=America/New_York:20251124T180000
DTEND;TZID=America/New_York:20251124T200000
DTSTAMP:20260420T213645
CREATED:20251113T214218Z
LAST-MODIFIED:20251113T214218Z
UID:10002868-1764007200-1764014400@downtownchagrinfalls.com
SUMMARY:Wreath Workshop at Lowe's Greenhouse
DESCRIPTION:Create a beautiful live wreath and enjoy an exclusive shopping experience + discount the Monday before Thanksgiving!!\n\nJoin us for a festive\, hands-on Make&Take Holiday Wreath Workshop and create your very own beautiful holiday wreath.\n\nIt’s the perfect Monday before Thanksgiving plan!! Grab your friends and get creative with fresh greens\, ribbons\, and seasonal add-ins. All materials are provided—just bring your holiday spirit!\n\nThis event starts at 6pm and guests will receive $20 off their purchase of $100+ in our gift shop! Our extended hours are reserved for class attendees only allowing for an exclusive shopping experience.
URL:https://downtownchagrinfalls.com/event/wreath-workshop-at-lowes-greenhouse/
LOCATION:Lowe’s Greenhouse\, 16540 Chillicothe Road\, Bainbridge\, OH\, 44023\, United States
CATEGORIES:Crafts
ATTACH;FMTTYPE=image/jpeg:https://downtownchagrinfalls.com/wp-content/uploads/2025/11/Chasing-Clues-2025-67.jpg
END:VEVENT
END:VCALENDAR