BEGIN:VCALENDAR
VERSION:2.0
PRODID:-//Downtown Chagrin Falls - ECPv6.15.13.1//NONSGML v1.0//EN
CALSCALE:GREGORIAN
METHOD:PUBLISH
X-ORIGINAL-URL:https://downtownchagrinfalls.com
X-WR-CALDESC:Events for Downtown Chagrin Falls
REFRESH-INTERVAL;VALUE=DURATION:PT1H
X-Robots-Tag:noindex
X-PUBLISHED-TTL:PT1H
BEGIN:VTIMEZONE
TZID:America/New_York
BEGIN:DAYLIGHT
TZOFFSETFROM:-0500
TZOFFSETTO:-0400
TZNAME:EDT
DTSTART:20240310T070000
END:DAYLIGHT
BEGIN:STANDARD
TZOFFSETFROM:-0400
TZOFFSETTO:-0500
TZNAME:EST
DTSTART:20241103T060000
END:STANDARD
BEGIN:DAYLIGHT
TZOFFSETFROM:-0500
TZOFFSETTO:-0400
TZNAME:EDT
DTSTART:20250309T070000
END:DAYLIGHT
BEGIN:STANDARD
TZOFFSETFROM:-0400
TZOFFSETTO:-0500
TZNAME:EST
DTSTART:20251102T060000
END:STANDARD
BEGIN:DAYLIGHT
TZOFFSETFROM:-0500
TZOFFSETTO:-0400
TZNAME:EDT
DTSTART:20260308T070000
END:DAYLIGHT
BEGIN:STANDARD
TZOFFSETFROM:-0400
TZOFFSETTO:-0500
TZNAME:EST
DTSTART:20261101T060000
END:STANDARD
END:VTIMEZONE
BEGIN:VEVENT
DTSTART;TZID=America/New_York:20251119T183000
DTEND;TZID=America/New_York:20251119T193000
DTSTAMP:20260421T002332
CREATED:20251024T152458Z
LAST-MODIFIED:20251024T152458Z
UID:10002860-1763577000-1763580600@downtownchagrinfalls.com
SUMMARY:Bill Watterson and Chagrin Program
DESCRIPTION:Join Chagrin History Center Historian John Bourisseau as he looks at the more humorous side of Chagrin Falls in Bill Watterson’s early work published in the Chagrin Valley Herald from 1976 to 1979. RSVP Required. RSVP to admin@chagrinhistory.org or 440.247.4695
URL:https://downtownchagrinfalls.com/event/bill-watterson-and-chagrin-program/
LOCATION:Chagrin History Center\, 87 E. Washington Street\, Chagrin Falls\, OH\, 44022\, United States
CATEGORIES:Speaker
ATTACH;FMTTYPE=image/png:https://downtownchagrinfalls.com/wp-content/uploads/2025/10/Chasing-Clues-2025-1.png
END:VEVENT
END:VCALENDAR