BEGIN:VCALENDAR
VERSION:2.0
PRODID:-//Downtown Chagrin Falls - ECPv6.15.13.1//NONSGML v1.0//EN
CALSCALE:GREGORIAN
METHOD:PUBLISH
X-ORIGINAL-URL:https://downtownchagrinfalls.com
X-WR-CALDESC:Events for Downtown Chagrin Falls
REFRESH-INTERVAL;VALUE=DURATION:PT1H
X-Robots-Tag:noindex
X-PUBLISHED-TTL:PT1H
BEGIN:VTIMEZONE
TZID:America/New_York
BEGIN:DAYLIGHT
TZOFFSETFROM:-0500
TZOFFSETTO:-0400
TZNAME:EDT
DTSTART:20240310T070000
END:DAYLIGHT
BEGIN:STANDARD
TZOFFSETFROM:-0400
TZOFFSETTO:-0500
TZNAME:EST
DTSTART:20241103T060000
END:STANDARD
BEGIN:DAYLIGHT
TZOFFSETFROM:-0500
TZOFFSETTO:-0400
TZNAME:EDT
DTSTART:20250309T070000
END:DAYLIGHT
BEGIN:STANDARD
TZOFFSETFROM:-0400
TZOFFSETTO:-0500
TZNAME:EST
DTSTART:20251102T060000
END:STANDARD
BEGIN:DAYLIGHT
TZOFFSETFROM:-0500
TZOFFSETTO:-0400
TZNAME:EDT
DTSTART:20260308T070000
END:DAYLIGHT
BEGIN:STANDARD
TZOFFSETFROM:-0400
TZOFFSETTO:-0500
TZNAME:EST
DTSTART:20261101T060000
END:STANDARD
END:VTIMEZONE
BEGIN:VEVENT
DTSTART;TZID=America/New_York:20251113T080000
DTEND;TZID=America/New_York:20251113T170000
DTSTAMP:20260420T203523
CREATED:20251113T213313Z
LAST-MODIFIED:20251113T213313Z
UID:10002864-1763020800-1763053200@downtownchagrinfalls.com
SUMMARY:Breakfast with Santa - CF Baseball Fundraiser
DESCRIPTION:All-you-can-eat Pancakes\, Photos with Santa\, Silent Auction & Toy Raffles\, Crafts with Baseball Elves. Kids under 2 are free! $15 tickets. 9am & 11 am seatings. Buy tickets at link
URL:https://downtownchagrinfalls.com/event/breakfast-with-santa-cf-baseball-fundraiser/
LOCATION:Chagrin Falls Middle School\, 400 E. Washington Street\, Chagrin Falls\, OH\, 44022\, United States
CATEGORIES:Fundraiser,Holiday
ATTACH;FMTTYPE=image/jpeg:https://downtownchagrinfalls.com/wp-content/uploads/2025/11/Chasing-Clues-2025-74.jpg
END:VEVENT
END:VCALENDAR