BEGIN:VCALENDAR
VERSION:2.0
PRODID:-//Downtown Chagrin Falls - ECPv6.15.13.1//NONSGML v1.0//EN
CALSCALE:GREGORIAN
METHOD:PUBLISH
X-WR-CALNAME:Downtown Chagrin Falls
X-ORIGINAL-URL:https://downtownchagrinfalls.com
X-WR-CALDESC:Events for Downtown Chagrin Falls
REFRESH-INTERVAL;VALUE=DURATION:PT1H
X-Robots-Tag:noindex
X-PUBLISHED-TTL:PT1H
BEGIN:VTIMEZONE
TZID:America/New_York
BEGIN:DAYLIGHT
TZOFFSETFROM:-0500
TZOFFSETTO:-0400
TZNAME:EDT
DTSTART:20240310T070000
END:DAYLIGHT
BEGIN:STANDARD
TZOFFSETFROM:-0400
TZOFFSETTO:-0500
TZNAME:EST
DTSTART:20241103T060000
END:STANDARD
BEGIN:DAYLIGHT
TZOFFSETFROM:-0500
TZOFFSETTO:-0400
TZNAME:EDT
DTSTART:20250309T070000
END:DAYLIGHT
BEGIN:STANDARD
TZOFFSETFROM:-0400
TZOFFSETTO:-0500
TZNAME:EST
DTSTART:20251102T060000
END:STANDARD
BEGIN:DAYLIGHT
TZOFFSETFROM:-0500
TZOFFSETTO:-0400
TZNAME:EDT
DTSTART:20260308T070000
END:DAYLIGHT
BEGIN:STANDARD
TZOFFSETFROM:-0400
TZOFFSETTO:-0500
TZNAME:EST
DTSTART:20261101T060000
END:STANDARD
END:VTIMEZONE
BEGIN:VEVENT
DTSTART;TZID=America/New_York:20250918T180000
DTEND;TZID=America/New_York:20250918T220000
DTSTAMP:20260419T184911
CREATED:20250807T164547Z
LAST-MODIFIED:20250905T201247Z
UID:10002603-1758218400-1758232800@downtownchagrinfalls.com
SUMMARY:Open Mic Night at M Bevy
DESCRIPTION:Join us every Thursday from 6-10pm for a free\, welcoming open mic night on M Bevy’s outdoor patio! Musicians of all levels are invited to share their talents in a casual\, supportive atmosphere that encourages collaboration. This family and dog-friendly event operates on a first-come\, first-served basis\, so arrive early to sign up. The evening culminates with a community jam session where everyone can join in. Located at M Bevy\, 87 West St\, Chagrin Falls. For more information\, contact host Colleen Welsch.
URL:https://downtownchagrinfalls.com/event/open-mic-night-at-m-bevy/2025-09-18/
LOCATION:M Bevy\, 87 West Street\, Chagrin Falls\, OH\, 44022\, United States
CATEGORIES:Just Fun,Live Music,Open Mic Night
ATTACH;FMTTYPE=image/jpeg:https://downtownchagrinfalls.com/wp-content/uploads/2025/08/qtq80-t4kjZA.jpeg
ORGANIZER;CN="M Bevy":MAILTO:chagrin@mbevy.com
END:VEVENT
END:VCALENDAR