BEGIN:VCALENDAR
VERSION:2.0
PRODID:-//Downtown Chagrin Falls - ECPv6.15.13.1//NONSGML v1.0//EN
CALSCALE:GREGORIAN
METHOD:PUBLISH
X-ORIGINAL-URL:https://downtownchagrinfalls.com
X-WR-CALDESC:Events for Downtown Chagrin Falls
REFRESH-INTERVAL;VALUE=DURATION:PT1H
X-Robots-Tag:noindex
X-PUBLISHED-TTL:PT1H
BEGIN:VTIMEZONE
TZID:America/New_York
BEGIN:DAYLIGHT
TZOFFSETFROM:-0500
TZOFFSETTO:-0400
TZNAME:EDT
DTSTART:20240310T070000
END:DAYLIGHT
BEGIN:STANDARD
TZOFFSETFROM:-0400
TZOFFSETTO:-0500
TZNAME:EST
DTSTART:20241103T060000
END:STANDARD
BEGIN:DAYLIGHT
TZOFFSETFROM:-0500
TZOFFSETTO:-0400
TZNAME:EDT
DTSTART:20250309T070000
END:DAYLIGHT
BEGIN:STANDARD
TZOFFSETFROM:-0400
TZOFFSETTO:-0500
TZNAME:EST
DTSTART:20251102T060000
END:STANDARD
BEGIN:DAYLIGHT
TZOFFSETFROM:-0500
TZOFFSETTO:-0400
TZNAME:EDT
DTSTART:20260308T070000
END:DAYLIGHT
BEGIN:STANDARD
TZOFFSETFROM:-0400
TZOFFSETTO:-0500
TZNAME:EST
DTSTART:20261101T060000
END:STANDARD
END:VTIMEZONE
BEGIN:VEVENT
DTSTART;TZID=America/New_York:20250917T173000
DTEND;TZID=America/New_York:20250917T190000
DTSTAMP:20260419T222219
CREATED:20250905T184115Z
LAST-MODIFIED:20250905T184115Z
UID:10002588-1758130200-1758135600@downtownchagrinfalls.com
SUMMARY:Silent Reading Club
DESCRIPTION:Wish you had more time to read? Or maybe you need a little extra motivation to finally finish that book?\n\n\nYou’re in luck\, Sage & Honey’s Silent Reading Club is here for you. \n\n\nOn the third Wednesday of every month\, you have an hour and a half to dive into your favorite stories – uninterrupted. Bring a hardback\, paperback\, Kindle\, or even your audiobook\, whatever makes you happy.\n\n\nNo book? No problem. We’ve got shelves full of great reads waiting for you.\n\n\nNext meetup: Wednesday\, August 21 | 5:30 PM – 7:00 PM\n Sage & Honey | Chagrin Falls\nReservations appreciated\, but not required.\n\n\nCome for the quiet\, stay for the cozy vibes.
URL:https://downtownchagrinfalls.com/event/silent-reading-club-2/
LOCATION:Sage & Honey\, 10 E. Washington Street\, Chagrin Falls\, OH\, 44022\, United States
CATEGORIES:Book Club
ATTACH;FMTTYPE=image/jpeg:https://downtownchagrinfalls.com/wp-content/uploads/2025/08/Silent-Reading-Club.jpg
END:VEVENT
END:VCALENDAR