BEGIN:VCALENDAR
VERSION:2.0
PRODID:-//Downtown Chagrin Falls - ECPv6.15.13.1//NONSGML v1.0//EN
CALSCALE:GREGORIAN
METHOD:PUBLISH
X-WR-CALNAME:Downtown Chagrin Falls
X-ORIGINAL-URL:https://downtownchagrinfalls.com
X-WR-CALDESC:Events for Downtown Chagrin Falls
REFRESH-INTERVAL;VALUE=DURATION:PT1H
X-Robots-Tag:noindex
X-PUBLISHED-TTL:PT1H
BEGIN:VTIMEZONE
TZID:America/New_York
BEGIN:DAYLIGHT
TZOFFSETFROM:-0500
TZOFFSETTO:-0400
TZNAME:EDT
DTSTART:20240310T070000
END:DAYLIGHT
BEGIN:STANDARD
TZOFFSETFROM:-0400
TZOFFSETTO:-0500
TZNAME:EST
DTSTART:20241103T060000
END:STANDARD
BEGIN:DAYLIGHT
TZOFFSETFROM:-0500
TZOFFSETTO:-0400
TZNAME:EDT
DTSTART:20250309T070000
END:DAYLIGHT
BEGIN:STANDARD
TZOFFSETFROM:-0400
TZOFFSETTO:-0500
TZNAME:EST
DTSTART:20251102T060000
END:STANDARD
BEGIN:DAYLIGHT
TZOFFSETFROM:-0500
TZOFFSETTO:-0400
TZNAME:EDT
DTSTART:20260308T070000
END:DAYLIGHT
BEGIN:STANDARD
TZOFFSETFROM:-0400
TZOFFSETTO:-0500
TZNAME:EST
DTSTART:20261101T060000
END:STANDARD
END:VTIMEZONE
BEGIN:VEVENT
DTSTART;TZID=America/New_York:20250821T120000
DTEND;TZID=America/New_York:20250821T140000
DTSTAMP:20260419T222302
CREATED:20250814T145844Z
LAST-MODIFIED:20250814T145844Z
UID:10002543-1755777600-1755784800@downtownchagrinfalls.com
SUMMARY:That Hawaiian Guy BBQ Food Truck Pop Up
DESCRIPTION:That Hawaiian Guy BBQ Food Truck will be popping up all August at Lowe’s Greenhouse! Tuesdays 12-6; Wednesdays 12-6\, Thursdays 12-2 (except Tues 8/19)
URL:https://downtownchagrinfalls.com/event/that-hawaiian-guy-bbq-food-truck-pop-up/2025-08-21/
LOCATION:Lowe’s Greenhouse\, 16540 Chillicothe Road\, Bainbridge\, OH\, 44023\, United States
CATEGORIES:Food & Drink,Pop up shop
ATTACH;FMTTYPE=image/jpeg:https://downtownchagrinfalls.com/wp-content/uploads/2025/08/529455566_1367803978530825_3881000374950596645_n.jpg
END:VEVENT
BEGIN:VEVENT
DTSTART;TZID=America/New_York:20250821T170000
DTEND;TZID=America/New_York:20250821T190000
DTSTAMP:20260419T222302
CREATED:20250807T173721Z
LAST-MODIFIED:20250807T173721Z
UID:10002533-1755795600-1755802800@downtownchagrinfalls.com
SUMMARY:Chagrin Valley Gallery Walk: Wildscapes Gallery Wildlife\, Wild Tales & Wine Happy Hour
DESCRIPTION:Enjoy art viewing\, socializing\, and a presentation by Peter from a recent Botswana safari at 6:30pm. \n  \nAbout the Chagrin Valley Gallery Walk presented by Fairmount Center for the Arts August 1 -31\, 2025:  \nExperience local visual arts and get to know local artists in the Chagrin Valley! Pick up your Gallery Walk passport at any participating gallery to begin your journey. Collect a stamp from each location and submit your passport by August 31\, 2025 to be entered to win a $100 gift card to a Chagrin Valley restaurant! The winner will be contacted on Tuesday\, September 2.
URL:https://downtownchagrinfalls.com/event/chagrin-valley-gallery-walk-wildscapes-gallery-wildlife-wild-tales-wine-happy-hour/
LOCATION:Wildscapes Gallery\, 516 Washington Street\, Chagrin Falls\, OH\, 44022\, United States
CATEGORIES:Art,Food & Drink,Speaker
ATTACH;FMTTYPE=image/jpeg:https://downtownchagrinfalls.com/wp-content/uploads/2025/08/WildscapesGallery.jpg
END:VEVENT
BEGIN:VEVENT
DTSTART;TZID=America/New_York:20250821T180000
DTEND;TZID=America/New_York:20250821T200000
DTSTAMP:20260419T222302
CREATED:20250820T175241Z
LAST-MODIFIED:20250820T180750Z
UID:10002575-1755799200-1755806400@downtownchagrinfalls.com
SUMMARY:Immortal Estate Tasting
DESCRIPTION:Enjoy an array of beautiful wines from Sonoma.  Reservations required.
URL:https://downtownchagrinfalls.com/event/immortal-estate-tasting/
LOCATION:Chuck’s Fine Wines\, 23 Bell Street\, Chagrin Falls\, OH\, 44022\, United States
CATEGORIES:Wine Tasting
ATTACH;FMTTYPE=image/jpeg:https://downtownchagrinfalls.com/wp-content/uploads/2025/08/Chasing-Clues-2025-18.jpg
END:VEVENT
BEGIN:VEVENT
DTSTART;TZID=America/New_York:20250821T180000
DTEND;TZID=America/New_York:20250821T220000
DTSTAMP:20260419T222302
CREATED:20250807T164547Z
LAST-MODIFIED:20250905T201247Z
UID:10002599-1755799200-1755813600@downtownchagrinfalls.com
SUMMARY:Open Mic Night at M Bevy
DESCRIPTION:Join us every Thursday from 6-10pm for a free\, welcoming open mic night on M Bevy’s outdoor patio! Musicians of all levels are invited to share their talents in a casual\, supportive atmosphere that encourages collaboration. This family and dog-friendly event operates on a first-come\, first-served basis\, so arrive early to sign up. The evening culminates with a community jam session where everyone can join in. Located at M Bevy\, 87 West St\, Chagrin Falls. For more information\, contact host Colleen Welsch.
URL:https://downtownchagrinfalls.com/event/open-mic-night-at-m-bevy/2025-08-21/
LOCATION:M Bevy\, 87 West Street\, Chagrin Falls\, OH\, 44022\, United States
CATEGORIES:Just Fun,Live Music,Open Mic Night
ATTACH;FMTTYPE=image/jpeg:https://downtownchagrinfalls.com/wp-content/uploads/2025/08/qtq80-t4kjZA.jpeg
ORGANIZER;CN="M Bevy":MAILTO:chagrin@mbevy.com
END:VEVENT
BEGIN:VEVENT
DTSTART;TZID=America/New_York:20250821T183000
DTEND;TZID=America/New_York:20250821T200000
DTSTAMP:20260419T222302
CREATED:20250814T175955Z
LAST-MODIFIED:20250814T175955Z
UID:10002557-1755801000-1755806400@downtownchagrinfalls.com
SUMMARY:Romance Fan Club
DESCRIPTION:Do you love Love? So do we! \nJoin us for a chat sesh on everything we love about romance novels. Bring your grandest romantic gestures\, your favorite love interests\, and your most treasured micro-tropes. No reading required. Just come ready to talk about books you’ve already read\, and leave with new friends and great recommendations! \nWe’ll try to keep it spoiler free\, but no promises… \nFall in love at first page!
URL:https://downtownchagrinfalls.com/event/romance-fan-club/
LOCATION:Sage & Honey\, 10 E. Washington Street\, Chagrin Falls\, OH\, 44022\, United States
CATEGORIES:Book Club
ATTACH;FMTTYPE=image/webp:https://downtownchagrinfalls.com/wp-content/uploads/2025/08/8-1-1024x576-1.webp
END:VEVENT
END:VCALENDAR