BEGIN:VCALENDAR
VERSION:2.0
PRODID:-//Downtown Chagrin Falls - ECPv6.15.13.1//NONSGML v1.0//EN
CALSCALE:GREGORIAN
METHOD:PUBLISH
X-WR-CALNAME:Downtown Chagrin Falls
X-ORIGINAL-URL:https://downtownchagrinfalls.com
X-WR-CALDESC:Events for Downtown Chagrin Falls
REFRESH-INTERVAL;VALUE=DURATION:PT1H
X-Robots-Tag:noindex
X-PUBLISHED-TTL:PT1H
BEGIN:VTIMEZONE
TZID:America/New_York
BEGIN:DAYLIGHT
TZOFFSETFROM:-0500
TZOFFSETTO:-0400
TZNAME:EDT
DTSTART:20240310T070000
END:DAYLIGHT
BEGIN:STANDARD
TZOFFSETFROM:-0400
TZOFFSETTO:-0500
TZNAME:EST
DTSTART:20241103T060000
END:STANDARD
BEGIN:DAYLIGHT
TZOFFSETFROM:-0500
TZOFFSETTO:-0400
TZNAME:EDT
DTSTART:20250309T070000
END:DAYLIGHT
BEGIN:STANDARD
TZOFFSETFROM:-0400
TZOFFSETTO:-0500
TZNAME:EST
DTSTART:20251102T060000
END:STANDARD
BEGIN:DAYLIGHT
TZOFFSETFROM:-0500
TZOFFSETTO:-0400
TZNAME:EDT
DTSTART:20260308T070000
END:DAYLIGHT
BEGIN:STANDARD
TZOFFSETFROM:-0400
TZOFFSETTO:-0500
TZNAME:EST
DTSTART:20261101T060000
END:STANDARD
END:VTIMEZONE
BEGIN:VEVENT
DTSTART;TZID=America/New_York:20250820T120000
DTEND;TZID=America/New_York:20250820T180000
DTSTAMP:20260421T081843
CREATED:20250814T145844Z
LAST-MODIFIED:20250814T145844Z
UID:10002542-1755691200-1755712800@downtownchagrinfalls.com
SUMMARY:That Hawaiian Guy BBQ Food Truck Pop Up
DESCRIPTION:That Hawaiian Guy BBQ Food Truck will be popping up all August at Lowe’s Greenhouse! Tuesdays 12-6; Wednesdays 12-6\, Thursdays 12-2 (except Tues 8/19)
URL:https://downtownchagrinfalls.com/event/that-hawaiian-guy-bbq-food-truck-pop-up/2025-08-20/
LOCATION:Lowe’s Greenhouse\, 16540 Chillicothe Road\, Bainbridge\, OH\, 44023\, United States
CATEGORIES:Food & Drink,Pop up shop
ATTACH;FMTTYPE=image/jpeg:https://downtownchagrinfalls.com/wp-content/uploads/2025/08/529455566_1367803978530825_3881000374950596645_n.jpg
END:VEVENT
BEGIN:VEVENT
DTSTART;TZID=America/New_York:20250820T173000
DTEND;TZID=America/New_York:20250820T190000
DTSTAMP:20260421T081843
CREATED:20250814T175754Z
LAST-MODIFIED:20250820T163246Z
UID:10002556-1755711000-1755716400@downtownchagrinfalls.com
SUMMARY:Silent Reading Club
DESCRIPTION:Wish you had more time to read? Or maybe you need a little extra motivation to finally finish that book?\n\n\nYou’re in luck\, Sage & Honey’s Silent Reading Club is here for you. \n\n\nOn the third Wednesday of every month\, you have an hour and a half to dive into your favorite stories – uninterrupted. Bring a hardback\, paperback\, Kindle\, or even your audiobook\, whatever makes you happy.\n\n\nNo book? No problem. We’ve got shelves full of great reads waiting for you.\n\n\nNext meetup: Wednesday\, August 21 | 5:30 PM – 7:00 PM\n Sage & Honey | Chagrin Falls\nReservations appreciated\, but not required.\n\n\nCome for the quiet\, stay for the cozy vibes.
URL:https://downtownchagrinfalls.com/event/silent-reading-club/
LOCATION:Sage & Honey\, 10 E. Washington Street\, Chagrin Falls\, OH\, 44022\, United States
CATEGORIES:Book Club
ATTACH;FMTTYPE=image/jpeg:https://downtownchagrinfalls.com/wp-content/uploads/2025/08/Silent-Reading-Club.jpg
END:VEVENT
BEGIN:VEVENT
DTSTART;TZID=America/New_York:20250820T173000
DTEND;TZID=America/New_York:20250820T203000
DTSTAMP:20260421T081843
CREATED:20250814T150810Z
LAST-MODIFIED:20250814T150810Z
UID:10002548-1755711000-1755721800@downtownchagrinfalls.com
SUMMARY:Gai Russo Jewelry at Chuck's Fine Wines
DESCRIPTION:Join Gai Russo Jewelry at THE Chagrin Falls wine establishment known as Chuck’s. Shop the latest jewelry collection\, sample vegan wines and bubbly non alcohol elixirs. Bring a friend or two. \nThank you so much for supporting local artists and small businesses!
URL:https://downtownchagrinfalls.com/event/gai-russo-jewelry-at-chucks-fine-wines/
LOCATION:Chuck’s Fine Wines\, 23 Bell Street\, Chagrin Falls\, OH\, 44022\, United States
CATEGORIES:Food & Drink,Shopping
ATTACH;FMTTYPE=image/jpeg:https://downtownchagrinfalls.com/wp-content/uploads/2025/08/527237072_10238633463326314_7334075969813716926_n.jpg
END:VEVENT
BEGIN:VEVENT
DTSTART;TZID=America/New_York:20250820T183000
DTEND;TZID=America/New_York:20250820T193000
DTSTAMP:20260421T081843
CREATED:20250801T132105Z
LAST-MODIFIED:20250801T132105Z
UID:10002493-1755714600-1755718200@downtownchagrinfalls.com
SUMMARY:History of Chagrin Schools
DESCRIPTION:Join Chagrin History Center Historian Scott Hageman and learn about the history of Chagrin Falls Schools! An RSVP is required for this event. RSVP to Maggie at admin@chagrinhistory.org
URL:https://downtownchagrinfalls.com/event/history-of-chagrin-schools/
LOCATION:Chagrin History Center\, 87 E. Washington Street\, Chagrin Falls\, OH\, 44022\, United States
CATEGORIES:History
ATTACH;FMTTYPE=image/jpeg:https://downtownchagrinfalls.com/wp-content/uploads/2025/08/Chasing-Clues-2025-2.jpg
END:VEVENT
END:VCALENDAR