BEGIN:VCALENDAR
VERSION:2.0
PRODID:-//Downtown Chagrin Falls - ECPv6.15.13.1//NONSGML v1.0//EN
CALSCALE:GREGORIAN
METHOD:PUBLISH
X-ORIGINAL-URL:https://downtownchagrinfalls.com
X-WR-CALDESC:Events for Downtown Chagrin Falls
REFRESH-INTERVAL;VALUE=DURATION:PT1H
X-Robots-Tag:noindex
X-PUBLISHED-TTL:PT1H
BEGIN:VTIMEZONE
TZID:America/New_York
BEGIN:DAYLIGHT
TZOFFSETFROM:-0500
TZOFFSETTO:-0400
TZNAME:EDT
DTSTART:20240310T070000
END:DAYLIGHT
BEGIN:STANDARD
TZOFFSETFROM:-0400
TZOFFSETTO:-0500
TZNAME:EST
DTSTART:20241103T060000
END:STANDARD
BEGIN:DAYLIGHT
TZOFFSETFROM:-0500
TZOFFSETTO:-0400
TZNAME:EDT
DTSTART:20250309T070000
END:DAYLIGHT
BEGIN:STANDARD
TZOFFSETFROM:-0400
TZOFFSETTO:-0500
TZNAME:EST
DTSTART:20251102T060000
END:STANDARD
BEGIN:DAYLIGHT
TZOFFSETFROM:-0500
TZOFFSETTO:-0400
TZNAME:EDT
DTSTART:20260308T070000
END:DAYLIGHT
BEGIN:STANDARD
TZOFFSETFROM:-0400
TZOFFSETTO:-0500
TZNAME:EST
DTSTART:20261101T060000
END:STANDARD
END:VTIMEZONE
BEGIN:VEVENT
DTSTART;TZID=America/New_York:20250817T090000
DTEND;TZID=America/New_York:20250817T120000
DTSTAMP:20260419T165922
CREATED:20250718T155544Z
LAST-MODIFIED:20250718T155806Z
UID:10002474-1755421200-1755432000@downtownchagrinfalls.com
SUMMARY:North Union Farmers Market Chagrin Falls
DESCRIPTION:Located in the beautiful village of Chagrin Falls\, this market is filled with Northeast Ohio’s finest farmers.  Enjoy shopping for fresh produce on a lazy Sunday morning! \n \nChagrin Falls Market is located on at Bandstand Triangle Park from 9-12 every Sunday. You will find farms and food producers with fresh produce\, meats\, dairy\, baked goods and more. \nThe Chagrin Falls Market will remain open during bridge construction!
URL:https://downtownchagrinfalls.com/event/north-union-farmers-market-chagrin-falls/2025-08-17/
LOCATION:Chagrin Falls\, Chagrin Falls\, OH\, 44022\, United States
CATEGORIES:Farmers Market
ATTACH;FMTTYPE=image/jpeg:https://downtownchagrinfalls.com/wp-content/uploads/2025/07/Untitled-design-1.jpg
END:VEVENT
BEGIN:VEVENT
DTSTART;TZID=America/New_York:20250817T103000
DTEND;TZID=America/New_York:20250817T120000
DTSTAMP:20260419T165922
CREATED:20250814T180246Z
LAST-MODIFIED:20250814T180246Z
UID:10002558-1755426600-1755432000@downtownchagrinfalls.com
SUMMARY:Intro to the Classics Fan Club - Classics for Beginners
DESCRIPTION:Wanna be a cool and mysterious academic\, but don’t know where to start? \nJoin Sage & Honey for a fun discussion on all things Hemingway\, Austen\, Brontë\, or any other Classics author you can think of. Come ready with your questions\, your thesis statements\, and your favorite movie adaptation. No reading is required. Just come to chat about books you’ve already read\, and leave with new friends and great recommendations! \nWe’ll try to keep it spoiler free\, but no promises… \nClassically trained in drama & decorum \nOur Classics chat will be run by Kat\, a Wake Forest English grad\, she’s fascinated by the idea of “monstrosity” in Victorian literature — who’s considered a monster\, and why? Her favorite novel is Lady Audley’s Secret\, but Frankenstein\, The Picture of Dorian Gray\, and Dracula are also top of her list.
URL:https://downtownchagrinfalls.com/event/intro-to-the-classics-fan-club-classics-for-beginners/
LOCATION:Sage & Honey\, 10 E. Washington Street\, Chagrin Falls\, OH\, 44022\, United States
CATEGORIES:Book Club
ATTACH;FMTTYPE=image/webp:https://downtownchagrinfalls.com/wp-content/uploads/2025/08/6-1-1024x576-1.webp
END:VEVENT
BEGIN:VEVENT
DTSTART;TZID=America/New_York:20250817T140000
DTEND;TZID=America/New_York:20250817T160000
DTSTAMP:20260419T165922
CREATED:20250814T181010Z
LAST-MODIFIED:20250814T181010Z
UID:10002559-1755439200-1755446400@downtownchagrinfalls.com
SUMMARY:Fireside Book Signing: Dave Allen Edmonds
DESCRIPTION:Dave Allen Edmonds\, author of the books Personal Pronouns\, Direct Objects\, Unexpected Love\, and Unveiled Love will sign books in the shop on Sunday\, August 17th from 1-3 pm.
URL:https://downtownchagrinfalls.com/event/fireside-book-signing-dave-allen-edmonds/
LOCATION:Fireside Books\, 29 North Franklin Street\, Chagrin Falls\, OH\, 44022\, United States
CATEGORIES:Book signing
ATTACH;FMTTYPE=image/jpeg:https://downtownchagrinfalls.com/wp-content/uploads/2025/08/Chasing-Clues-2025-14.jpg
END:VEVENT
END:VCALENDAR