BEGIN:VCALENDAR
VERSION:2.0
PRODID:-//Downtown Chagrin Falls - ECPv6.15.13.1//NONSGML v1.0//EN
CALSCALE:GREGORIAN
METHOD:PUBLISH
X-ORIGINAL-URL:https://downtownchagrinfalls.com
X-WR-CALDESC:Events for Downtown Chagrin Falls
REFRESH-INTERVAL;VALUE=DURATION:PT1H
X-Robots-Tag:noindex
X-PUBLISHED-TTL:PT1H
BEGIN:VTIMEZONE
TZID:America/New_York
BEGIN:DAYLIGHT
TZOFFSETFROM:-0500
TZOFFSETTO:-0400
TZNAME:EDT
DTSTART:20240310T070000
END:DAYLIGHT
BEGIN:STANDARD
TZOFFSETFROM:-0400
TZOFFSETTO:-0500
TZNAME:EST
DTSTART:20241103T060000
END:STANDARD
BEGIN:DAYLIGHT
TZOFFSETFROM:-0500
TZOFFSETTO:-0400
TZNAME:EDT
DTSTART:20250309T070000
END:DAYLIGHT
BEGIN:STANDARD
TZOFFSETFROM:-0400
TZOFFSETTO:-0500
TZNAME:EST
DTSTART:20251102T060000
END:STANDARD
BEGIN:DAYLIGHT
TZOFFSETFROM:-0500
TZOFFSETTO:-0400
TZNAME:EDT
DTSTART:20260308T070000
END:DAYLIGHT
BEGIN:STANDARD
TZOFFSETFROM:-0400
TZOFFSETTO:-0500
TZNAME:EST
DTSTART:20261101T060000
END:STANDARD
END:VTIMEZONE
BEGIN:VEVENT
DTSTART;TZID=America/New_York:20250816T090000
DTEND;TZID=America/New_York:20250816T120000
DTSTAMP:20260419T203357
CREATED:20250718T155044Z
LAST-MODIFIED:20250718T155044Z
UID:10002454-1755334800-1755345600@downtownchagrinfalls.com
SUMMARY:Geauga Fresh Farmers Market
DESCRIPTION:It’s our 21st season!  We are ready to showcase our areas finest farmers\, bakers\, makers & artisans to YOU!  Depending on the month\, we celebrate the bounty of our harvests.  Our calendars are getting full with Blueberry Day\, Kid’s Market\, Tomato Day\, Corn Day & Fall Harvest Day!  Stop by for a longstanding community market\, we look forward to serving you.\n\nStarted in 2002 the Geauga Fresh Farmers’ Market is producer-only farmers’ market operating year round in Geauga County. The market is board run\, which includes community members & vendors.  We strive to provide you with fresh\, local and real products made or grown by people you can actually talk to.\n\n \nThe purpose of the Geauga Fresh Market is to provide local farmers with a means to sell their produce or value added products directly to consumers\, and to afford consumers the opportunity to buy fresh\, locally grown food. A market that allows farmers to sell directly to consumers will help to support a farm economy in Geauga County. Increasing the profitability of local farms will enable more farms to continue to operate rather than to be lost to development. By promoting the preservation of farmland in Geauga County\, the rural character of the county will remain for all to enjoy. \n \nBy bringing the freshest Geauga County produce and locally made products to the consumer on a weekly basis the Market will encourage customers to value and understand the benefits of supporting our local agricultural economy. The market aims at educating consumers by reconnecting them with their food and where it comes from\, by providing them with higher quality\, more variety and a sense of seasonality. \n \n2025 Geauga Fresh Farmers’ Market Board:\nBryan Briggs\, BB Farms (Vice President)\nKelli Hanley Potts\, Cleveland Field Kitchen\nTiffany O’Neill\, Bainbridge Blooms (Secretary)\nMichael Pizmoht\, Sherwin Williams (Treasurer)\nJacque Thompson\, Wildroots Within (President)\nKarin Wright\, Wright Family Farms\n \nMarket Manager:\nTiffany Mushrush Mentzer\, Harvest Bell Farm\n \nVolunteer Village Representative:\nMayor Bill Koons\, South Russell Village Rep.
URL:https://downtownchagrinfalls.com/event/geauga-fresh-farmers-market/2025-08-16/
LOCATION:5205 Chillicothe Road\, South Russell\, OH\, 5205 Chillicothe Road\, South Russell\, OH\, 44022\, United States
CATEGORIES:Farmers Market
ATTACH;FMTTYPE=image/webp:https://downtownchagrinfalls.com/wp-content/uploads/2023/09/Geauga_Fresh_Logo_2022_1200x.webp
ORGANIZER;CN="Geauga Fresh Farmers Market":MAILTO:geaugaffm@gmail.com
END:VEVENT
BEGIN:VEVENT
DTSTART;TZID=America/New_York:20250816T100000
DTEND;TZID=America/New_York:20250816T160000
DTSTAMP:20260419T203357
CREATED:20250807T171916Z
LAST-MODIFIED:20250807T171916Z
UID:10002530-1755338400-1755360000@downtownchagrinfalls.com
SUMMARY:Chagrin Valley Gallery Walk: S2dio Extended Hours
DESCRIPTION:On Saturday\, August 9 & 16\, S2dio will be hosting extended hours for all gallery walkers! 10-4pm   Take the opportunity to stop in to this gallery with limited hours. \n\n  \nAbout the Chagrin Valley Gallery Walk presented by Fairmout Center for the Arts August 1 -31\, 2025:  \nExperience local visual arts and get to know local artists in the Chagrin Valley! Pick up your Gallery Walk passport at any participating gallery to begin your journey. Collect a stamp from each location and submit your passport by August 31\, 2025 to be entered to win a $100 gift card to a Chagrin Valley restaurant! The winner will be contacted on Tuesday\, September 2.
URL:https://downtownchagrinfalls.com/event/chagrin-valley-gallery-walk-s2dio-extended-hours/2025-08-16/
LOCATION:S2dio\, 151 Bell Street\, Chagrin Falls\, 44022\, United States
CATEGORIES:Art,Wine Tasting
ATTACH;FMTTYPE=image/jpeg:https://downtownchagrinfalls.com/wp-content/uploads/2025/08/Chasing-Clues-2025-8.jpg
END:VEVENT
BEGIN:VEVENT
DTSTART;TZID=America/New_York:20250816T120000
DTEND;TZID=America/New_York:20250816T160000
DTSTAMP:20260419T203357
CREATED:20250807T180526Z
LAST-MODIFIED:20250807T180526Z
UID:10002537-1755345600-1755360000@downtownchagrinfalls.com
SUMMARY:Simply Golden Permanent Jewelry at Sanity Chagrin Falls
DESCRIPTION:Simply Golden is popping up with permanent jewelry ✨ Get linked with your bestie\, your boo\, or just treat yourself.
URL:https://downtownchagrinfalls.com/event/simply-golden-permanent-jewelry-at-sanity-chagrin-falls/
LOCATION:Sanity\, 8 E. Washington Street\, Chagrin Falls\, OH\, 44022\, United States
CATEGORIES:Fashion,Just Fun,Shopping
ATTACH;FMTTYPE=image/png:https://downtownchagrinfalls.com/wp-content/uploads/2025/08/images.png
END:VEVENT
BEGIN:VEVENT
DTSTART;TZID=America/New_York:20250816T140000
DTEND;TZID=America/New_York:20250816T160000
DTSTAMP:20260419T203357
CREATED:20250708T193819Z
LAST-MODIFIED:20250718T162936Z
UID:10002418-1755352800-1755360000@downtownchagrinfalls.com
SUMMARY:Freaky Friday
DESCRIPTION:Based on the novel Freaky Friday by Mary Rodgers and the Disney films \nGet ready for a rollicking good time with Freaky Friday\, the hilarious and heartwarming musical adaptation of the beloved Disney film. When a magical mishap causes mother and daughter\, Katherine and Ellie\, to swap bodies\, they must navigate the chaos of each other’s lives\, racing against time to find a way back to their own bodies before it’s too late. \nFilled with vibrant songs and dynamic choreography\, this musical explores the trials and triumphs of family relationships and the power of empathy and understanding. With catchy tunes and a touching storyline\, Freaky Friday is sure to entertain audiences of all ages. \nThis lively production\, bursting with humor and heart\, celebrates the bond between parent and child in a fresh and modern way. Don’t miss the chance to experience the joy and laughter of Freaky Friday\, a show that will leave you singing and smiling long after the final curtain. \n\n\n\n\nStarring\nEllie Blake — JACE MALY\nKatherine Blake — HALLE ST. JOHN\nMike — JOHN PAUL WHITMAN\nFletcher Blake — SHANE JOHNSON\nGrandma Helene — TONI SOBER\nGrandpa Gordon — MARK HILAN\nAdam / Fish Vendor — JACK WAGAR\nGretchen — ELYSE WHITMAN\nHannah — RACHEL MARZULLO\nSavannah — JESSIE POLLAK\nParker/Wells / Catering Waiter — MEREDITH WAKEFIELD\nTorrey — AMY MANGO\nDanielle — ROBIN MANGO\nLouis / Catering Waiter — HENRY SENRA\nPastor Bruno / Mr. Blumen / Wells’s Dad — JOSH LINERODE\nSenor O’Brien / Officer Sitz / Catering Waiter — EV BRODSKY\nDr. Ehrin / Gretchen’s Mom — HAYLEY WHITMAN\nMrs. Luckenbill / Adam’s Mom / Mrs. Time — CARSYN AVEGNO\nMs. Meyer / Officer Kowalski / Savannah’s Mom — BRENDA WILLIS\nLaurel / Savannah Clique / Catering Waiter — ESMEE BAKER
URL:https://downtownchagrinfalls.com/event/freaky-friday/2025-08-16/
LOCATION:Chagrin Valley Little Theatre\, 40 River Street\, Chagrin Falls\, OH\, 44022\, United States
CATEGORIES:Theater
ATTACH;FMTTYPE=image/jpeg:https://downtownchagrinfalls.com/wp-content/uploads/2025/07/Freaky-Friday-2025.jpg
ORGANIZER;CN="Chagrin Valley Little Theatre":MAILTO:cvlt@cvlt.org
END:VEVENT
BEGIN:VEVENT
DTSTART;TZID=America/New_York:20250816T150000
DTEND;TZID=America/New_York:20250816T170000
DTSTAMP:20260419T203357
CREATED:20250801T133023Z
LAST-MODIFIED:20250814T151601Z
UID:10002497-1755356400-1755363600@downtownchagrinfalls.com
SUMMARY:Weekly Wine Tasting at Chuck's Fine Wines
DESCRIPTION:
URL:https://downtownchagrinfalls.com/event/weekly-wine-tasting-at-chucks-fine-wines/2025-08-16/
LOCATION:Chuck’s Fine Wines\, 23 Bell Street\, Chagrin Falls\, OH\, 44022\, United States
CATEGORIES:Food & Drink,Wine Tasting
ATTACH;FMTTYPE=image/jpeg:https://downtownchagrinfalls.com/wp-content/uploads/2025/08/qtq80-FtcBBM.jpeg
END:VEVENT
BEGIN:VEVENT
DTSTART;TZID=America/New_York:20250816T213000
DTEND;TZID=America/New_York:20250816T213000
DTSTAMP:20260419T203357
CREATED:20250814T182625Z
LAST-MODIFIED:20250814T182625Z
UID:10002566-1755379800-1755379800@downtownchagrinfalls.com
SUMMARY:At the Greenville: Audiophile
DESCRIPTION:We are the oldest tavern in the Chagrin Valley dating back to the late 1800’s. People from all walks of life can come to meet\, kick back and enjoy the warm and unique atmosphere. \nWe’ve got great local bands who perform live most weekends\, cold beers\, a full bar with your favorite liquors and spirits along with the famous chip wall which is always stocked for when you’re in the mood to snack. \nWe also have 6 big screen TV’s to catch all your favorite Cleveland sports teams\, a pool table\, Golden Tee® and Keno®!
URL:https://downtownchagrinfalls.com/event/at-the-greenville-audiophile/
LOCATION:Greenville Inn\, 7125 Pine Street\, Bainbridge\, OH\, 44022\, United States
CATEGORIES:Live Music
ATTACH;FMTTYPE=image/jpeg:https://downtownchagrinfalls.com/wp-content/uploads/2025/07/Greenville-Inn-Logo-2025.jpg
END:VEVENT
END:VCALENDAR