BEGIN:VCALENDAR
VERSION:2.0
PRODID:-//Downtown Chagrin Falls - ECPv6.15.13.1//NONSGML v1.0//EN
CALSCALE:GREGORIAN
METHOD:PUBLISH
X-ORIGINAL-URL:https://downtownchagrinfalls.com
X-WR-CALDESC:Events for Downtown Chagrin Falls
REFRESH-INTERVAL;VALUE=DURATION:PT1H
X-Robots-Tag:noindex
X-PUBLISHED-TTL:PT1H
BEGIN:VTIMEZONE
TZID:America/New_York
BEGIN:DAYLIGHT
TZOFFSETFROM:-0500
TZOFFSETTO:-0400
TZNAME:EDT
DTSTART:20240310T070000
END:DAYLIGHT
BEGIN:STANDARD
TZOFFSETFROM:-0400
TZOFFSETTO:-0500
TZNAME:EST
DTSTART:20241103T060000
END:STANDARD
BEGIN:DAYLIGHT
TZOFFSETFROM:-0500
TZOFFSETTO:-0400
TZNAME:EDT
DTSTART:20250309T070000
END:DAYLIGHT
BEGIN:STANDARD
TZOFFSETFROM:-0400
TZOFFSETTO:-0500
TZNAME:EST
DTSTART:20251102T060000
END:STANDARD
BEGIN:DAYLIGHT
TZOFFSETFROM:-0500
TZOFFSETTO:-0400
TZNAME:EDT
DTSTART:20260308T070000
END:DAYLIGHT
BEGIN:STANDARD
TZOFFSETFROM:-0400
TZOFFSETTO:-0500
TZNAME:EST
DTSTART:20261101T060000
END:STANDARD
END:VTIMEZONE
BEGIN:VEVENT
DTSTART;TZID=America/New_York:20250815T100000
DTEND;TZID=America/New_York:20250815T200000
DTSTAMP:20260419T203422
CREATED:20250807T171238Z
LAST-MODIFIED:20250807T171238Z
UID:10002527-1755252000-1755288000@downtownchagrinfalls.com
SUMMARY:Chagrin Valley Gallery Walk: The Glass Asylum Pumpkin Palooza
DESCRIPTION:Friday August 8 & 15\, 10am-8pm \nCreate with your own personal glass artist! Must call ahead to reserve a spot and mention you’ll be creating a pumpkin to receive a $10 discount. \n  \nAbout the Chagrin Valley Gallery Walk presented by Fairmout Center for the Arts August 1 -31\, 2025:  \nExperience local visual arts and get to know local artists in the Chagrin Valley! Pick up your Gallery Walk passport at any participating gallery to begin your journey. Collect a stamp from each location and submit your passport by August 31\, 2025 to be entered to win a $100 gift card to a Chagrin Valley restaurant! The winner will be contacted on Tuesday\, September 2.
URL:https://downtownchagrinfalls.com/event/chagrin-valley-gallery-walk-the-glass-asylum-pumpkin-palooza/2025-08-15/
LOCATION:Glass Asylum\, 22 W Orange Street #101\, Chagrin Falls\, OH\, 44022\, United States
CATEGORIES:Art,Wine Tasting
ATTACH;FMTTYPE=image/jpeg:https://downtownchagrinfalls.com/wp-content/uploads/2019/07/iStock-954661934.jpg
END:VEVENT
BEGIN:VEVENT
DTSTART;TZID=America/New_York:20250815T173000
DTEND;TZID=America/New_York:20250815T200000
DTSTAMP:20260419T203422
CREATED:20250814T182333Z
LAST-MODIFIED:20250814T182333Z
UID:10002563-1755279000-1755288000@downtownchagrinfalls.com
SUMMARY:Heinen's Patio Live Music: Richard Hawkins
DESCRIPTION:Start the weekend off right with a relaxing evening full of great music\, food and drink! \nJoin us in the Tasting Room or on the patio at Heinen’s Chagrin Falls and enjoy the sounds of esteemed local guitarist\, Richard Hawkins. \nWhile you listen\, treat yourself to gourmet bites from our restaurant-style kitchen and sip on our selection of wine and beer on tap! \nNo entrance fee required. Food and beverage may be purchased separately.
URL:https://downtownchagrinfalls.com/event/heinens-patio-live-music-richard-hawkins/
LOCATION:Heinen’s\, 20 Shopping Plaza\, Chagrin Falls\, OH\, 44022\, United States
CATEGORIES:Live Music
ATTACH;FMTTYPE=image/jpeg:https://downtownchagrinfalls.com/wp-content/uploads/2025/08/qtq80-Vbl3v7.jpeg
END:VEVENT
BEGIN:VEVENT
DTSTART;TZID=America/New_York:20250815T193000
DTEND;TZID=America/New_York:20250815T213000
DTSTAMP:20260419T203422
CREATED:20250708T193819Z
LAST-MODIFIED:20250718T162936Z
UID:10002417-1755286200-1755293400@downtownchagrinfalls.com
SUMMARY:Freaky Friday
DESCRIPTION:Based on the novel Freaky Friday by Mary Rodgers and the Disney films \nGet ready for a rollicking good time with Freaky Friday\, the hilarious and heartwarming musical adaptation of the beloved Disney film. When a magical mishap causes mother and daughter\, Katherine and Ellie\, to swap bodies\, they must navigate the chaos of each other’s lives\, racing against time to find a way back to their own bodies before it’s too late. \nFilled with vibrant songs and dynamic choreography\, this musical explores the trials and triumphs of family relationships and the power of empathy and understanding. With catchy tunes and a touching storyline\, Freaky Friday is sure to entertain audiences of all ages. \nThis lively production\, bursting with humor and heart\, celebrates the bond between parent and child in a fresh and modern way. Don’t miss the chance to experience the joy and laughter of Freaky Friday\, a show that will leave you singing and smiling long after the final curtain. \n\n\n\n\nStarring\nEllie Blake — JACE MALY\nKatherine Blake — HALLE ST. JOHN\nMike — JOHN PAUL WHITMAN\nFletcher Blake — SHANE JOHNSON\nGrandma Helene — TONI SOBER\nGrandpa Gordon — MARK HILAN\nAdam / Fish Vendor — JACK WAGAR\nGretchen — ELYSE WHITMAN\nHannah — RACHEL MARZULLO\nSavannah — JESSIE POLLAK\nParker/Wells / Catering Waiter — MEREDITH WAKEFIELD\nTorrey — AMY MANGO\nDanielle — ROBIN MANGO\nLouis / Catering Waiter — HENRY SENRA\nPastor Bruno / Mr. Blumen / Wells’s Dad — JOSH LINERODE\nSenor O’Brien / Officer Sitz / Catering Waiter — EV BRODSKY\nDr. Ehrin / Gretchen’s Mom — HAYLEY WHITMAN\nMrs. Luckenbill / Adam’s Mom / Mrs. Time — CARSYN AVEGNO\nMs. Meyer / Officer Kowalski / Savannah’s Mom — BRENDA WILLIS\nLaurel / Savannah Clique / Catering Waiter — ESMEE BAKER
URL:https://downtownchagrinfalls.com/event/freaky-friday/2025-08-15/
LOCATION:Chagrin Valley Little Theatre\, 40 River Street\, Chagrin Falls\, OH\, 44022\, United States
CATEGORIES:Theater
ATTACH;FMTTYPE=image/jpeg:https://downtownchagrinfalls.com/wp-content/uploads/2025/07/Freaky-Friday-2025.jpg
ORGANIZER;CN="Chagrin Valley Little Theatre":MAILTO:cvlt@cvlt.org
END:VEVENT
BEGIN:VEVENT
DTSTART;TZID=America/New_York:20250815T213000
DTEND;TZID=America/New_York:20250815T213000
DTSTAMP:20260419T203422
CREATED:20250814T182549Z
LAST-MODIFIED:20250814T182549Z
UID:10002565-1755293400-1755293400@downtownchagrinfalls.com
SUMMARY:At the Greenville:Voodoo Funk
DESCRIPTION:We are the oldest tavern in the Chagrin Valley dating back to the late 1800’s. People from all walks of life can come to meet\, kick back and enjoy the warm and unique atmosphere. \nWe’ve got great local bands who perform live most weekends\, cold beers\, a full bar with your favorite liquors and spirits along with the famous chip wall which is always stocked for when you’re in the mood to snack. \nWe also have 6 big screen TV’s to catch all your favorite Cleveland sports teams\, a pool table\, Golden Tee® and Keno®!
URL:https://downtownchagrinfalls.com/event/at-the-greenvillevoodoo-funk/
LOCATION:Greenville Inn\, 7125 Pine Street\, Bainbridge\, OH\, 44022\, United States
CATEGORIES:Live Music
ATTACH;FMTTYPE=image/jpeg:https://downtownchagrinfalls.com/wp-content/uploads/2025/07/Greenville-Inn-Logo-2025.jpg
END:VEVENT
END:VCALENDAR