BEGIN:VCALENDAR
VERSION:2.0
PRODID:-//Downtown Chagrin Falls - ECPv6.15.13.1//NONSGML v1.0//EN
CALSCALE:GREGORIAN
METHOD:PUBLISH
X-WR-CALNAME:Downtown Chagrin Falls
X-ORIGINAL-URL:https://downtownchagrinfalls.com
X-WR-CALDESC:Events for Downtown Chagrin Falls
REFRESH-INTERVAL;VALUE=DURATION:PT1H
X-Robots-Tag:noindex
X-PUBLISHED-TTL:PT1H
BEGIN:VTIMEZONE
TZID:America/New_York
BEGIN:DAYLIGHT
TZOFFSETFROM:-0500
TZOFFSETTO:-0400
TZNAME:EDT
DTSTART:20240310T070000
END:DAYLIGHT
BEGIN:STANDARD
TZOFFSETFROM:-0400
TZOFFSETTO:-0500
TZNAME:EST
DTSTART:20241103T060000
END:STANDARD
BEGIN:DAYLIGHT
TZOFFSETFROM:-0500
TZOFFSETTO:-0400
TZNAME:EDT
DTSTART:20250309T070000
END:DAYLIGHT
BEGIN:STANDARD
TZOFFSETFROM:-0400
TZOFFSETTO:-0500
TZNAME:EST
DTSTART:20251102T060000
END:STANDARD
BEGIN:DAYLIGHT
TZOFFSETFROM:-0500
TZOFFSETTO:-0400
TZNAME:EDT
DTSTART:20260308T070000
END:DAYLIGHT
BEGIN:STANDARD
TZOFFSETFROM:-0400
TZOFFSETTO:-0500
TZNAME:EST
DTSTART:20261101T060000
END:STANDARD
END:VTIMEZONE
BEGIN:VEVENT
DTSTART;VALUE=DATE:20250724
DTEND;VALUE=DATE:20250728
DTSTAMP:20260419T151938
CREATED:20250708T202334Z
LAST-MODIFIED:20250708T205700Z
UID:10002432-1753322400-1753581599@downtownchagrinfalls.com
SUMMARY:Fireside Book Shop Authors Festival 2025
DESCRIPTION:
URL:https://downtownchagrinfalls.com/event/fireside-book-shop-authors-festival-2025/
LOCATION:Fireside Books\, 29 North Franklin Street\, Chagrin Falls\, OH\, 44022\, United States
CATEGORIES:Book signing
ATTACH;FMTTYPE=image/png:https://downtownchagrinfalls.com/wp-content/uploads/2025/07/AUTHORSFESTIVAL1.png
END:VEVENT
BEGIN:VEVENT
DTSTART;TZID=America/New_York:20250725T100000
DTEND;TZID=America/New_York:20250725T180000
DTSTAMP:20260419T151938
CREATED:20250708T202740Z
LAST-MODIFIED:20250708T203218Z
UID:10002434-1753437600-1753466400@downtownchagrinfalls.com
SUMMARY:Chagrin Falls Annual Sidewalk Sale
DESCRIPTION:Mark Your Calendar: The 2025 Chagrin Falls Annual Sidewalk Sale Runs July 24–27!\nGet ready for four days of incredible deals and summer fun in the heart of the Village! The Chagrin Falls Annual Sidewalk Sale kicks off Thursday\, July 24\, and continues through Sunday\, July 27—but don’t wait to start shopping! Many local stores will offer pre-sale specials on Wednesday\, July 23\, so check in early with your favorite shops.\nAs always\, we launch the sale with a free Thursday night concert presented by the Chagrin Valley Chamber of Commerce\, this year featuring BackTraxx—a perfect way to kick off a weekend of shopping\, dining\, and community fun.\nSome say it’s the largest sidewalk sale in Ohio… and if you know of a bigger one\, let us know—we’re always ready to raise the bar!\nFour days. Dozens of shops. One unforgettable summer tradition. Don’t miss it!
URL:https://downtownchagrinfalls.com/event/chagrin-falls-annual-sidewalk-sale/2025-07-25/
LOCATION:Chagrin Falls\, Chagrin Falls\, OH\, 44022\, United States
CATEGORIES:Shopping
ATTACH;FMTTYPE=image/jpeg:https://downtownchagrinfalls.com/wp-content/uploads/2025/07/Sidewalk-Sale-Thumb.jpeg
END:VEVENT
BEGIN:VEVENT
DTSTART;TZID=America/New_York:20250725T193000
DTEND;TZID=America/New_York:20250725T213000
DTSTAMP:20260419T151938
CREATED:20250708T193819Z
LAST-MODIFIED:20250718T162936Z
UID:10002414-1753471800-1753479000@downtownchagrinfalls.com
SUMMARY:Freaky Friday
DESCRIPTION:Based on the novel Freaky Friday by Mary Rodgers and the Disney films \nGet ready for a rollicking good time with Freaky Friday\, the hilarious and heartwarming musical adaptation of the beloved Disney film. When a magical mishap causes mother and daughter\, Katherine and Ellie\, to swap bodies\, they must navigate the chaos of each other’s lives\, racing against time to find a way back to their own bodies before it’s too late. \nFilled with vibrant songs and dynamic choreography\, this musical explores the trials and triumphs of family relationships and the power of empathy and understanding. With catchy tunes and a touching storyline\, Freaky Friday is sure to entertain audiences of all ages. \nThis lively production\, bursting with humor and heart\, celebrates the bond between parent and child in a fresh and modern way. Don’t miss the chance to experience the joy and laughter of Freaky Friday\, a show that will leave you singing and smiling long after the final curtain. \n\n\n\n\nStarring\nEllie Blake — JACE MALY\nKatherine Blake — HALLE ST. JOHN\nMike — JOHN PAUL WHITMAN\nFletcher Blake — SHANE JOHNSON\nGrandma Helene — TONI SOBER\nGrandpa Gordon — MARK HILAN\nAdam / Fish Vendor — JACK WAGAR\nGretchen — ELYSE WHITMAN\nHannah — RACHEL MARZULLO\nSavannah — JESSIE POLLAK\nParker/Wells / Catering Waiter — MEREDITH WAKEFIELD\nTorrey — AMY MANGO\nDanielle — ROBIN MANGO\nLouis / Catering Waiter — HENRY SENRA\nPastor Bruno / Mr. Blumen / Wells’s Dad — JOSH LINERODE\nSenor O’Brien / Officer Sitz / Catering Waiter — EV BRODSKY\nDr. Ehrin / Gretchen’s Mom — HAYLEY WHITMAN\nMrs. Luckenbill / Adam’s Mom / Mrs. Time — CARSYN AVEGNO\nMs. Meyer / Officer Kowalski / Savannah’s Mom — BRENDA WILLIS\nLaurel / Savannah Clique / Catering Waiter — ESMEE BAKER
URL:https://downtownchagrinfalls.com/event/freaky-friday/2025-07-25/
LOCATION:Chagrin Valley Little Theatre\, 40 River Street\, Chagrin Falls\, OH\, 44022\, United States
CATEGORIES:Theater
ATTACH;FMTTYPE=image/jpeg:https://downtownchagrinfalls.com/wp-content/uploads/2025/07/Freaky-Friday-2025.jpg
ORGANIZER;CN="Chagrin Valley Little Theatre":MAILTO:cvlt@cvlt.org
END:VEVENT
BEGIN:VEVENT
DTSTART;TZID=America/New_York:20250725T213000
DTEND;TZID=America/New_York:20250725T213000
DTSTAMP:20260419T151938
CREATED:20250718T160645Z
LAST-MODIFIED:20250718T160645Z
UID:10002485-1753479000-1753479000@downtownchagrinfalls.com
SUMMARY:At the Greenville: Clock Tower
DESCRIPTION:We are the oldest tavern in the Chagrin Valley dating back to the late 1800’s. People from all walks of life can come to meet\, kick back and enjoy the warm and unique atmosphere. \nWe’ve got great local bands who perform live most weekends\, cold beers\, a full bar with your favorite liquors and spirits along with the famous chip wall which is always stocked for when you’re in the mood to snack. \nWe also have 6 big screen TV’s to catch all your favorite Cleveland sports teams\, a pool table\, Golden Tee® and Keno®!
URL:https://downtownchagrinfalls.com/event/at-the-greenville-clock-tower/
LOCATION:Greenville Inn\, 7125 Pine Street\, Bainbridge\, OH\, 44022\, United States
CATEGORIES:Live Music
ATTACH;FMTTYPE=image/jpeg:https://downtownchagrinfalls.com/wp-content/uploads/2025/07/Greenville-Inn-Logo-2025.jpg
END:VEVENT
END:VCALENDAR