BEGIN:VCALENDAR
VERSION:2.0
PRODID:-//Downtown Chagrin Falls - ECPv6.15.13.1//NONSGML v1.0//EN
CALSCALE:GREGORIAN
METHOD:PUBLISH
X-ORIGINAL-URL:https://downtownchagrinfalls.com
X-WR-CALDESC:Events for Downtown Chagrin Falls
REFRESH-INTERVAL;VALUE=DURATION:PT1H
X-Robots-Tag:noindex
X-PUBLISHED-TTL:PT1H
BEGIN:VTIMEZONE
TZID:America/New_York
BEGIN:DAYLIGHT
TZOFFSETFROM:-0500
TZOFFSETTO:-0400
TZNAME:EDT
DTSTART:20240310T070000
END:DAYLIGHT
BEGIN:STANDARD
TZOFFSETFROM:-0400
TZOFFSETTO:-0500
TZNAME:EST
DTSTART:20241103T060000
END:STANDARD
BEGIN:DAYLIGHT
TZOFFSETFROM:-0500
TZOFFSETTO:-0400
TZNAME:EDT
DTSTART:20250309T070000
END:DAYLIGHT
BEGIN:STANDARD
TZOFFSETFROM:-0400
TZOFFSETTO:-0500
TZNAME:EST
DTSTART:20251102T060000
END:STANDARD
BEGIN:DAYLIGHT
TZOFFSETFROM:-0500
TZOFFSETTO:-0400
TZNAME:EDT
DTSTART:20260308T070000
END:DAYLIGHT
BEGIN:STANDARD
TZOFFSETFROM:-0400
TZOFFSETTO:-0500
TZNAME:EST
DTSTART:20261101T060000
END:STANDARD
END:VTIMEZONE
BEGIN:VEVENT
DTSTART;VALUE=DATE:20250724
DTEND;VALUE=DATE:20250728
DTSTAMP:20260419T115249
CREATED:20250708T202334Z
LAST-MODIFIED:20250708T205700Z
UID:10002432-1753322400-1753581599@downtownchagrinfalls.com
SUMMARY:Fireside Book Shop Authors Festival 2025
DESCRIPTION:
URL:https://downtownchagrinfalls.com/event/fireside-book-shop-authors-festival-2025/
LOCATION:Fireside Books\, 29 North Franklin Street\, Chagrin Falls\, OH\, 44022\, United States
CATEGORIES:Book signing
ATTACH;FMTTYPE=image/png:https://downtownchagrinfalls.com/wp-content/uploads/2025/07/AUTHORSFESTIVAL1.png
END:VEVENT
BEGIN:VEVENT
DTSTART;TZID=America/New_York:20250724T100000
DTEND;TZID=America/New_York:20250724T180000
DTSTAMP:20260419T115249
CREATED:20250708T202740Z
LAST-MODIFIED:20250708T203218Z
UID:10002433-1753351200-1753380000@downtownchagrinfalls.com
SUMMARY:Chagrin Falls Annual Sidewalk Sale
DESCRIPTION:Mark Your Calendar: The 2025 Chagrin Falls Annual Sidewalk Sale Runs July 24–27!\nGet ready for four days of incredible deals and summer fun in the heart of the Village! The Chagrin Falls Annual Sidewalk Sale kicks off Thursday\, July 24\, and continues through Sunday\, July 27—but don’t wait to start shopping! Many local stores will offer pre-sale specials on Wednesday\, July 23\, so check in early with your favorite shops.\nAs always\, we launch the sale with a free Thursday night concert presented by the Chagrin Valley Chamber of Commerce\, this year featuring BackTraxx—a perfect way to kick off a weekend of shopping\, dining\, and community fun.\nSome say it’s the largest sidewalk sale in Ohio… and if you know of a bigger one\, let us know—we’re always ready to raise the bar!\nFour days. Dozens of shops. One unforgettable summer tradition. Don’t miss it!
URL:https://downtownchagrinfalls.com/event/chagrin-falls-annual-sidewalk-sale/2025-07-24/
LOCATION:Chagrin Falls\, Chagrin Falls\, OH\, 44022\, United States
CATEGORIES:Shopping
ATTACH;FMTTYPE=image/jpeg:https://downtownchagrinfalls.com/wp-content/uploads/2025/07/Sidewalk-Sale-Thumb.jpeg
END:VEVENT
BEGIN:VEVENT
DTSTART;TZID=America/New_York:20250724T180000
DTEND;TZID=America/New_York:20250724T200000
DTSTAMP:20260419T115249
CREATED:20250708T194800Z
LAST-MODIFIED:20250708T194800Z
UID:10002425-1753380000-1753387200@downtownchagrinfalls.com
SUMMARY:CVCC Simple Summer Nights: BackTraxx
DESCRIPTION:Our Simple Summer Nights Concert Series provides family fun entertainment right in the Village of Chagrin Falls! \nGet a bite to eat before\, after or during the concert\, and enjoy while you listen and sing along to the sounds of BackTraxx!
URL:https://downtownchagrinfalls.com/event/cvcc-simple-summer-nights-backtraxx/
LOCATION:Riverside Park\, 78 Main Street\, Chagrin Falls\, OH\, 44022
CATEGORIES:Live Music
ATTACH;FMTTYPE=image/jpeg:https://downtownchagrinfalls.com/wp-content/uploads/2025/07/Backtraxxband.jpg
END:VEVENT
BEGIN:VEVENT
DTSTART;TZID=America/New_York:20250724T190000
DTEND;TZID=America/New_York:20250724T193000
DTSTAMP:20260419T115249
CREATED:20250708T192928Z
LAST-MODIFIED:20250708T192928Z
UID:10002411-1753383600-1753385400@downtownchagrinfalls.com
SUMMARY:Peter Pan in 30 Minutes
DESCRIPTION:Chagrin Valley Little Theatre’s Youth Theatre presents this abridged version of J.M. Barrie’s classic Peter Pan as the culmination of our 2025 theatre camp program. The students are directed by Alex Petsche \nAdapted by Jennifer Reif for Drama Notebook\, this 30-minute version of Peter Pan has all the charm of the classic story. Follow Peter and Tinkerbell to Neverland where Wendy and her brothers have a food fight with the Lost Kids\, battle the playful pirates\, and of course\, make Captain Hook walk the plank! \nJennifer Reif has taught\, directed\, and performed around the Pacific Northwest for decades. Her shelves are lined with children’s books\, and her happy place is in the woods. She loves devising creative theatre projects with kids and sharing ideas with teachers. Jennifer holds her BA in Theatre from Morningside College and also studied at Oxford University in England. \nThursday\, July 24 at 7 PM\nSaturday\, July 26 at 2 PM\nSunday\, July 27 at 2PM \n$5 general admission \nPerformed at CVLT’s River Street Playhouse\, 56 River Street\, adjacent to the main CVLT building parking lot. \n  \nBoxOffice@CVLT.org\n(440) 247-8955\nPhone Sales 1-6 PM Tue-Fri\nBox Office opens two hours before all performances.
URL:https://downtownchagrinfalls.com/event/peter-pan-in-30-minutes/2025-07-24/
LOCATION:Chagrin Valley Little Theatre\, 40 River Street\, Chagrin Falls\, OH\, 44022\, United States
CATEGORIES:Children,Theater
ATTACH;FMTTYPE=image/jpeg:https://downtownchagrinfalls.com/wp-content/uploads/2025/07/YT-Pan-Landscape.jpg
ORGANIZER;CN="Chagrin Valley Little Theatre":MAILTO:cvlt@cvlt.org
END:VEVENT
END:VCALENDAR