BEGIN:VCALENDAR
VERSION:2.0
PRODID:-//Downtown Chagrin Falls - ECPv6.15.13.1//NONSGML v1.0//EN
CALSCALE:GREGORIAN
METHOD:PUBLISH
X-WR-CALNAME:Downtown Chagrin Falls
X-ORIGINAL-URL:https://downtownchagrinfalls.com
X-WR-CALDESC:Events for Downtown Chagrin Falls
REFRESH-INTERVAL;VALUE=DURATION:PT1H
X-Robots-Tag:noindex
X-PUBLISHED-TTL:PT1H
BEGIN:VTIMEZONE
TZID:America/New_York
BEGIN:DAYLIGHT
TZOFFSETFROM:-0500
TZOFFSETTO:-0400
TZNAME:EDT
DTSTART:20240310T070000
END:DAYLIGHT
BEGIN:STANDARD
TZOFFSETFROM:-0400
TZOFFSETTO:-0500
TZNAME:EST
DTSTART:20241103T060000
END:STANDARD
BEGIN:DAYLIGHT
TZOFFSETFROM:-0500
TZOFFSETTO:-0400
TZNAME:EDT
DTSTART:20250309T070000
END:DAYLIGHT
BEGIN:STANDARD
TZOFFSETFROM:-0400
TZOFFSETTO:-0500
TZNAME:EST
DTSTART:20251102T060000
END:STANDARD
BEGIN:DAYLIGHT
TZOFFSETFROM:-0500
TZOFFSETTO:-0400
TZNAME:EDT
DTSTART:20260308T070000
END:DAYLIGHT
BEGIN:STANDARD
TZOFFSETFROM:-0400
TZOFFSETTO:-0500
TZNAME:EST
DTSTART:20261101T060000
END:STANDARD
END:VTIMEZONE
BEGIN:VEVENT
DTSTART;TZID=America/New_York:20250723T190000
DTEND;TZID=America/New_York:20250723T200000
DTSTAMP:20260419T132734
CREATED:20250718T164316Z
LAST-MODIFIED:20250718T164316Z
UID:10002491-1753297200-1753300800@downtownchagrinfalls.com
SUMMARY:CCPL Lecture: Disasters on the Lake Erie Islands
DESCRIPTION:Wednesday\, July 23: 7:00pm – 8:00pm\n Chagrin Falls Branch – Meeting Room (Main Floor) (32)\nAge group:  Adults\nEvent type:   History  General  Author Event\nAuthor and maritime lecturer\, Wendy Koile shares disasters of one of Ohio’s destination areas.
URL:https://downtownchagrinfalls.com/event/ccpl-lecture-disasters-on-the-lake-erie-islands/
LOCATION:Chagrin Falls Public Library\, 100 East Orange Street\, Chagrin Falls\, OH\, 44022\, United States
CATEGORIES:History,Speaker
ATTACH;FMTTYPE=image/jpeg:https://downtownchagrinfalls.com/wp-content/uploads/2025/07/Lake-Erie-Islands-2025.jpg
END:VEVENT
END:VCALENDAR