BEGIN:VCALENDAR
VERSION:2.0
PRODID:-//Downtown Chagrin Falls - ECPv6.15.13.1//NONSGML v1.0//EN
CALSCALE:GREGORIAN
METHOD:PUBLISH
X-ORIGINAL-URL:https://downtownchagrinfalls.com
X-WR-CALDESC:Events for Downtown Chagrin Falls
REFRESH-INTERVAL;VALUE=DURATION:PT1H
X-Robots-Tag:noindex
X-PUBLISHED-TTL:PT1H
BEGIN:VTIMEZONE
TZID:America/New_York
BEGIN:DAYLIGHT
TZOFFSETFROM:-0500
TZOFFSETTO:-0400
TZNAME:EDT
DTSTART:20240310T070000
END:DAYLIGHT
BEGIN:STANDARD
TZOFFSETFROM:-0400
TZOFFSETTO:-0500
TZNAME:EST
DTSTART:20241103T060000
END:STANDARD
BEGIN:DAYLIGHT
TZOFFSETFROM:-0500
TZOFFSETTO:-0400
TZNAME:EDT
DTSTART:20250309T070000
END:DAYLIGHT
BEGIN:STANDARD
TZOFFSETFROM:-0400
TZOFFSETTO:-0500
TZNAME:EST
DTSTART:20251102T060000
END:STANDARD
BEGIN:DAYLIGHT
TZOFFSETFROM:-0500
TZOFFSETTO:-0400
TZNAME:EDT
DTSTART:20260308T070000
END:DAYLIGHT
BEGIN:STANDARD
TZOFFSETFROM:-0400
TZOFFSETTO:-0500
TZNAME:EST
DTSTART:20261101T060000
END:STANDARD
END:VTIMEZONE
BEGIN:VEVENT
DTSTART;TZID=America/New_York:20250719T090000
DTEND;TZID=America/New_York:20250719T120000
DTSTAMP:20260419T152128
CREATED:20250718T155044Z
LAST-MODIFIED:20250718T155044Z
UID:10002450-1752915600-1752926400@downtownchagrinfalls.com
SUMMARY:Geauga Fresh Farmers Market
DESCRIPTION:It’s our 21st season!  We are ready to showcase our areas finest farmers\, bakers\, makers & artisans to YOU!  Depending on the month\, we celebrate the bounty of our harvests.  Our calendars are getting full with Blueberry Day\, Kid’s Market\, Tomato Day\, Corn Day & Fall Harvest Day!  Stop by for a longstanding community market\, we look forward to serving you.\n\nStarted in 2002 the Geauga Fresh Farmers’ Market is producer-only farmers’ market operating year round in Geauga County. The market is board run\, which includes community members & vendors.  We strive to provide you with fresh\, local and real products made or grown by people you can actually talk to.\n\n \nThe purpose of the Geauga Fresh Market is to provide local farmers with a means to sell their produce or value added products directly to consumers\, and to afford consumers the opportunity to buy fresh\, locally grown food. A market that allows farmers to sell directly to consumers will help to support a farm economy in Geauga County. Increasing the profitability of local farms will enable more farms to continue to operate rather than to be lost to development. By promoting the preservation of farmland in Geauga County\, the rural character of the county will remain for all to enjoy. \n \nBy bringing the freshest Geauga County produce and locally made products to the consumer on a weekly basis the Market will encourage customers to value and understand the benefits of supporting our local agricultural economy. The market aims at educating consumers by reconnecting them with their food and where it comes from\, by providing them with higher quality\, more variety and a sense of seasonality. \n \n2025 Geauga Fresh Farmers’ Market Board:\nBryan Briggs\, BB Farms (Vice President)\nKelli Hanley Potts\, Cleveland Field Kitchen\nTiffany O’Neill\, Bainbridge Blooms (Secretary)\nMichael Pizmoht\, Sherwin Williams (Treasurer)\nJacque Thompson\, Wildroots Within (President)\nKarin Wright\, Wright Family Farms\n \nMarket Manager:\nTiffany Mushrush Mentzer\, Harvest Bell Farm\n \nVolunteer Village Representative:\nMayor Bill Koons\, South Russell Village Rep.
URL:https://downtownchagrinfalls.com/event/geauga-fresh-farmers-market/2025-07-19/
LOCATION:5205 Chillicothe Road\, South Russell\, OH\, 5205 Chillicothe Road\, South Russell\, OH\, 44022\, United States
CATEGORIES:Farmers Market
ATTACH;FMTTYPE=image/webp:https://downtownchagrinfalls.com/wp-content/uploads/2023/09/Geauga_Fresh_Logo_2022_1200x.webp
ORGANIZER;CN="Geauga Fresh Farmers Market":MAILTO:geaugaffm@gmail.com
END:VEVENT
BEGIN:VEVENT
DTSTART;TZID=America/New_York:20250719T120000
DTEND;TZID=America/New_York:20250719T150000
DTSTAMP:20260419T152128
CREATED:20250708T205037Z
LAST-MODIFIED:20250708T205037Z
UID:10002437-1752926400-1752937200@downtownchagrinfalls.com
SUMMARY:Pioneer Day & Church Blacksmith Shop Grand Opening
DESCRIPTION:Join the Chagrin History Center for Pioneer Day\, Saturday\, July 19th from noon to 3pm.  Come celebrate the grand opening of our new Church Blacksmith Shop and learn about what life was like in 1800s Chagrin Falls. This free\, family friendly event gives visitors the opportunity to learn about pioneer life in early Chagrin! We will feature early arts and crafts\, such as weaving\, spinning\, quilting\, knitting\, butter churning\, live Blacksmith demonstrations and more! Food will be provided along with live music! \n  \nGuests will also have the chance to tour our exhibit From Promenade to Prom: A Celebration of Youth. If you have any questions please reach out to Ruth at director@chagrinhistory.org or 440.247.4695
URL:https://downtownchagrinfalls.com/event/pioneer-day-church-blacksmith-shop-grand-opening/
LOCATION:Chagrin History Center\, 87 E. Washington Street\, Chagrin Falls\, OH\, 44022\, United States
CATEGORIES:History
ATTACH;FMTTYPE=image/jpeg:https://downtownchagrinfalls.com/wp-content/uploads/2025/07/517105772_1142476567918301_8406063505055393266_n.jpg
END:VEVENT
BEGIN:VEVENT
DTSTART;TZID=America/New_York:20250719T213000
DTEND;TZID=America/New_York:20250719T213000
DTSTAMP:20260419T152128
CREATED:20250718T160616Z
LAST-MODIFIED:20250718T160616Z
UID:10002484-1752960600-1752960600@downtownchagrinfalls.com
SUMMARY:At the Greenville: Big Zipper
DESCRIPTION:We are the oldest tavern in the Chagrin Valley dating back to the late 1800’s. People from all walks of life can come to meet\, kick back and enjoy the warm and unique atmosphere. \nWe’ve got great local bands who perform live most weekends\, cold beers\, a full bar with your favorite liquors and spirits along with the famous chip wall which is always stocked for when you’re in the mood to snack. \nWe also have 6 big screen TV’s to catch all your favorite Cleveland sports teams\, a pool table\, Golden Tee® and Keno®!
URL:https://downtownchagrinfalls.com/event/at-the-greenville-big-zipper/
LOCATION:Greenville Inn\, 7125 Pine Street\, Bainbridge\, OH\, 44022\, United States
CATEGORIES:Live Music
ATTACH;FMTTYPE=image/jpeg:https://downtownchagrinfalls.com/wp-content/uploads/2025/07/Greenville-Inn-Logo-2025.jpg
END:VEVENT
END:VCALENDAR